Workbook

Sheet 8C
A1: =önbilgi!B5 -> 2019-2020 1. DÖNEM | D1: ÖLÇÜTLER
A2: =CONCATENATE(önbilgi!B4," ",'8Ceokul'!N1," SINIFI ",önbilgi!B2," ","DERSİ DERS İÇİ ETKİNLİKLERE KATILIM PUANLAMA ÖLÇEĞİ") -> ……………… SINIFI …………………………. DERSİ DERS İÇİ ETKİNLİKLERE KATILIM PUANLAMA ÖLÇEĞİ | D2: Derse hazırlıklı gelir. | F2: Derste kurallara uyar, dersin düzenini bozmaz. | H2: Ders araç gerekçlerini düzenli getirir. | J2: Okula geç kalma, devamsızlık alışkanlığının takibi | L2: Konu ile ilgili görüşlerini açıkça ifade eder | N2: Disiplin ve disiplin cezası durumu | P2: Yeni, özgün ve eleştirel sorular sorar. | R2: Öğrencinin kılık kıyafet durumu | T2: Okul ve ders etkinliklerine aktif katılım yapar. | V2: Öğretmene arkadaşlarına, çevreye saygı duyma | X2: TOPLAM
A3: ÖĞRENCİLER | D3: PUANLAR
A4: SIRA | B4: NO | C4: ADI SOYADI | D4: 10 | F4: 10 | H4: 10 | J4: 10 | L4: 10 | N4: 10 | P4: 10 | R4: 10 | T4: 10 | V4: 10 | X4: =SUM(D4:W4) -> 100 | Y4: 100 | Z4: =SUM(F4:X4) -> 190 | AB4: =SUM(G4:Z4) -> 470 | AD4: =SUM(H4:AB4) -> 940 | AF4: =SUM(J4:AD4) -> 1870 | AH4: =SUM(K4:AF4) -> 3730 | AJ4: =SUM(L4:AH4) -> 7460 | AL4: 100
D5: I. | E5: II. | F5: I. | G5: II. | H5: I. | I5: II. | J5: I. | K5: II. | L5: I. | M5: II. | N5: I. | O5: II. | P5: I. | Q5: II. | R5: I. | S5: II. | T5: I. | U5: II. | V5: I. | W5: II. | X5: I. | Y5: II. | Z5: II. | AA5: II. | AB5: II. | AC5: II. | AD5: II. | AE5: II. | AF5: II. | AG5: II. | AH5: II. | AI5: II. | AJ5: II. | AK5: II. | AL5: II.
A6: 1 | Z6: ='8Ceokul'!I2 -> 0 | AA6: ='8Ceokul'!J2 -> 0 | AB6: ='8Ceokul'!K2 -> 0 | AC6: ='8Ceokul'!L2 -> 0 | AD6: ='8Ceokul'!M2 -> 0 | AE6: ='8Ceokul'!N2 -> 0 | AF6: ='8Ceokul'!O2 -> 0 | AG6: ='8Ceokul'!P2 -> 0 | ... AL6: ='8Ceokul'!U2 -> 0
A7: 2 | Z7: ='8Ceokul'!I3 -> 0 | AA7: ='8Ceokul'!J3 -> 0 | AB7: ='8Ceokul'!K3 -> 0 | AC7: ='8Ceokul'!L3 -> 0 | AD7: ='8Ceokul'!M3 -> 0 | AE7: ='8Ceokul'!N3 -> 0 | AF7: ='8Ceokul'!O3 -> 0 | AG7: ='8Ceokul'!P3 -> 0 | ... AL7: ='8Ceokul'!U3 -> 0
A8: 3 | Z8: ='8Ceokul'!I4 -> 0 | AA8: ='8Ceokul'!J4 -> 0 | AB8: ='8Ceokul'!K4 -> 0 | AC8: ='8Ceokul'!L4 -> 0 | AD8: ='8Ceokul'!M4 -> 0 | AE8: ='8Ceokul'!N4 -> 0 | AF8: ='8Ceokul'!O4 -> 0 | AG8: ='8Ceokul'!P4 -> 0 | ... AL8: ='8Ceokul'!U4 -> 0
A9: 4 | Z9: ='8Ceokul'!I5 -> 0 | AA9: ='8Ceokul'!J5 -> 0 | AB9: ='8Ceokul'!K5 -> 0 | AC9: ='8Ceokul'!L5 -> 0 | AD9: ='8Ceokul'!M5 -> 0 | AE9: ='8Ceokul'!N5 -> 0 | AF9: ='8Ceokul'!O5 -> 0 | AG9: ='8Ceokul'!P5 -> 0 | ... AL9: ='8Ceokul'!U5 -> 0
A10: 5 | Z10: ='8Ceokul'!I6 -> 0 | AA10: ='8Ceokul'!J6 -> 0 | AB10: ='8Ceokul'!K6 -> 0 | AC10: ='8Ceokul'!L6 -> 0 | AD10: ='8Ceokul'!M6 -> 0 | AE10: ='8Ceokul'!N6 -> 0 | AF10: ='8Ceokul'!O6 -> 0 | AG10: ='8Ceokul'!P6 -> 0 | ... AL10: ='8Ceokul'!U6 -> 0
A11: 6 | Z11: ='8Ceokul'!I7 -> 0 | AA11: ='8Ceokul'!J7 -> 0 | AB11: ='8Ceokul'!K7 -> 0 | AC11: ='8Ceokul'!L7 -> 0 | AD11: ='8Ceokul'!M7 -> 0 | AE11: ='8Ceokul'!N7 -> 0 | AF11: ='8Ceokul'!O7 -> 0 | AG11: ='8Ceokul'!P7 -> 0 | ... AL11: ='8Ceokul'!U7 -> 0
A12: 7 | Z12: ='8Ceokul'!I8 -> 0 | AA12: ='8Ceokul'!J8 -> 0 | AB12: ='8Ceokul'!K8 -> 0 | AC12: ='8Ceokul'!L8 -> 0 | AD12: ='8Ceokul'!M8 -> 0 | AE12: ='8Ceokul'!N8 -> 0 | AF12: ='8Ceokul'!O8 -> 0 | AG12: ='8Ceokul'!P8 -> 0 | ... AL12: ='8Ceokul'!U8 -> 0
A13: 8 | Z13: ='8Ceokul'!I9 -> 0 | AA13: ='8Ceokul'!J9 -> 0 | AB13: ='8Ceokul'!K9 -> 0 | AC13: ='8Ceokul'!L9 -> 0 | AD13: ='8Ceokul'!M9 -> 0 | AE13: ='8Ceokul'!N9 -> 0 | AF13: ='8Ceokul'!O9 -> 0 | AG13: ='8Ceokul'!P9 -> 0 | ... AL13: ='8Ceokul'!U9 -> 0
A14: 9 | Z14: ='8Ceokul'!I10 -> 0 | AA14: ='8Ceokul'!J10 -> 0 | AB14: ='8Ceokul'!K10 -> 0 | AC14: ='8Ceokul'!L10 -> 0 | AD14: ='8Ceokul'!M10 -> 0 | AE14: ='8Ceokul'!N10 -> 0 | AF14: ='8Ceokul'!O10 -> 0 | AG14: ='8Ceokul'!P10 -> 0 | ... AL14: ='8Ceokul'!U10 -> 0
A15: 10 | Z15: ='8Ceokul'!I11 -> 0 | AA15: ='8Ceokul'!J11 -> 0 | AB15: ='8Ceokul'!K11 -> 0 | AC15: ='8Ceokul'!L11 -> 0 | AD15: ='8Ceokul'!M11 -> 0 | AE15: ='8Ceokul'!N11 -> 0 | AF15: ='8Ceokul'!O11 -> 0 | AG15: ='8Ceokul'!P11 -> 0 | ... AL15: ='8Ceokul'!U11 -> 0
A16: 11 | Z16: ='8Ceokul'!I12 -> 0 | AA16: ='8Ceokul'!J12 -> 0 | AB16: ='8Ceokul'!K12 -> 0 | AC16: ='8Ceokul'!L12 -> 0 | AD16: ='8Ceokul'!M12 -> 0 | AE16: ='8Ceokul'!N12 -> 0 | AF16: ='8Ceokul'!O12 -> 0 | AG16: ='8Ceokul'!P12 -> 0 | ... AL16: ='8Ceokul'!U12 -> 0
A17: 12 | Z17: ='8Ceokul'!I13 -> 0 | AA17: ='8Ceokul'!J13 -> 0 | AB17: ='8Ceokul'!K13 -> 0 | AC17: ='8Ceokul'!L13 -> 0 | AD17: ='8Ceokul'!M13 -> 0 | AE17: ='8Ceokul'!N13 -> 0 | AF17: ='8Ceokul'!O13 -> 0 | AG17: ='8Ceokul'!P13 -> 0 | ... AL17: ='8Ceokul'!U13 -> 0
... A25: 20 | Z25: ='8Ceokul'!I21 -> 0 | AA25: ='8Ceokul'!J21 -> 0 | AB25: ='8Ceokul'!K21 -> 0 | AC25: ='8Ceokul'!L21 -> 0 | AD25: ='8Ceokul'!M21 -> 0 | AE25: ='8Ceokul'!N21 -> 0 | AF25: ='8Ceokul'!O21 -> 0 | AG25: ='8Ceokul'!P21 -> 0 | ... AL25: ='8Ceokul'!U21 -> 0
A26: 21
A27: 22
A28: 23
A29: 24
A30: 25
A31: 26
A32: 27
A33: 28
A34: 29
A35: 30
A36: 31
A37: 32
... A39: 34
Z41: 100 | AA41: 10 | AB41: 10 | AC41: 10 | AD41: 10 | AE41: 5 | AF41: 5 | AG41: 15 | AH41: 15 | AI41: 10 | AJ41: 10 | AK41: 100
AA42: 10 | AB42: 10 | AC42: 10 | AD42: 10 | AE42: 5 | AF42: 5 | AG42: 15 | AH42: 15 | AI42: 10 | AJ42: 10 | AK42: 100

Sheet 8B
A1: =önbilgi!B5 -> 2019-2020 1. DÖNEM | D1: ÖLÇÜTLER
A2: =CONCATENATE(önbilgi!B4," ",'8Beokul'!N1," SINIFI ",önbilgi!B2," ","DERSİ DERS İÇİ ETKİNLİKLERE KATILIM PUANLAMA ÖLÇEĞİ") -> 8B SINIFI …………………………. DERSİ DERS İÇİ ETKİNLİKLERE KATILIM PUANLAMA ÖLÇEĞİ | D2: Derse hazırlıklı gelir. | F2: Derste kurallara uyar, dersin düzenini bozmaz. | H2: Ders araç gerekçlerini düzenli getirir. | J2: Okula geç kalma, devamsızlık alışkanlığının takibi | L2: Konu ile ilgili görüşlerini açıkça ifade eder | N2: Disiplin ve disiplin cezası durumu | P2: Yeni, özgün ve eleştirel sorular sorar. | R2: Öğrencinin kılık kıyafet durumu | T2: Okul ve ders etkinliklerine aktif katılım yapar. | V2: Öğretmene arkadaşlarına, çevreye saygı duyma | X2: TOPLAM
A3: ÖĞRENCİLER | D3: PUANLAR
A4: SIRA | B4: NO | C4: ADI SOYADI | D4: 10 | F4: 10 | H4: 10 | J4: 10 | L4: 10 | N4: 10 | P4: 10 | R4: 10 | T4: 10 | V4: 10 | X4: =SUM(D4:W4) -> 100 | Y4: 100 | Z4: =SUM(F4:X4) -> 190 | AB4: =SUM(G4:Z4) -> 470 | AD4: =SUM(H4:AB4) -> 940 | AF4: =SUM(J4:AD4) -> 1870 | AH4: =SUM(K4:AF4) -> 3730 | AJ4: =SUM(L4:AH4) -> 7460 | AL4: 100
D5: I. | E5: II. | F5: I. | G5: II. | H5: I. | I5: II. | J5: I. | K5: II. | L5: I. | M5: II. | N5: I. | O5: II. | P5: I. | Q5: II. | R5: I. | S5: II. | T5: I. | U5: II. | V5: I. | W5: II. | X5: I. | Y5: II. | Z5: II. | AA5: II. | AB5: II. | AC5: II. | AD5: II. | AE5: II. | AF5: II. | AG5: II. | AH5: II. | AI5: II. | AJ5: II. | AK5: II. | AL5: II.
A6: 1 | B6: ='8Beokul'!A2 -> 0 | C6: ='8Beokul'!B2 -> 0 | D6: =($X6-MOD($X6,10))/10+IF(MOD($X6,10)>0,1,0) -> 0 | E6: =($Y6-MOD($Y6,10))/10+IF(MOD($Y6,10)>0,1,0) -> 0 | F6: =($X6-MOD($X6,10))/10+IF(MOD($X6,10)>1,1,0) -> 0 | G6: =($Y6-MOD($Y6,10))/10+IF(MOD($Y6,10)>1,1,0) -> 0 | H6: =($X6-MOD($X6,10))/10+IF(MOD($X6,10)>2,1,0) -> 0 | I6: =($Y6-MOD($Y6,10))/10+IF(MOD($Y6,10)>2,1,0) -> 0 | J6: =($X6-MOD($X6,10))/10+IF(MOD($X6,10)>3,1,0) -> 0 | K6: =($Y6-MOD($Y6,10))/10+IF(MOD($Y6,10)>3,1,0) -> 0 | L6: =($X6-MOD($X6,10))/10+IF(MOD($X6,10)>4,1,0) -> 0 | M6: =($Y6-MOD($Y6,10))/10+IF(MOD($Y6,10)>4,1,0) -> 0 | N6: =($X6-MOD($X6,10))/10+IF(MOD($X6,10)>5,1,0) -> 0 | O6: =($Y6-MOD($Y6,10))/10+IF(MOD($Y6,10)>5,1,0) -> 0 | P6: =($X6-MOD($X6,10))/10+IF(MOD($X6,10)>6,1,0) -> 0 | Q6: =($Y6-MOD($Y6,10))/10+IF(MOD($Y6,10)>6,1,0) -> 0 | R6: =($X6-MOD($X6,10))/10+IF(MOD($X6,10)>7,1,0) -> 0 | S6: =($Y6-MOD($Y6,10))/10+IF(MOD($Y6,10)>7,1,0) -> 0 | T6: =($X6-MOD($X6,10))/10+IF(MOD($X6,10)>8,1,0) -> 0 | U6: =($Y6-MOD($Y6,10))/10+IF(MOD($Y6,10)>8,1,0) -> 0 | V6: =($X6-MOD($X6,10))/10+IF(MOD($X6,10)>9,1,0) -> 0 | W6: =($Y6-MOD($Y6,10))/10+IF(MOD($Y6,10)>9,1,0) -> 0 | X6: ='8Beokul'!G2 -> 0 | Y6: ='8Beokul'!H2 -> 0 | Z6: ='8Beokul'!I2 -> 0 | AA6: ='8Beokul'!J2 -> 0 | AB6: ='8Beokul'!K2 -> 0 | AC6: ='8Beokul'!L2 -> 0 | AD6: ='8Beokul'!M2 -> 0 | AE6: ='8Beokul'!N2 -> 0 | ... AL6: ='8Beokul'!U2 -> 0
A7: 2 | B7: ='8Beokul'!A3 -> 0 | C7: ='8Beokul'!B3 -> 0 | D7: =($X7-MOD($X7,10))/10+IF(MOD($X7,10)>0,1,0) -> 0 | E7: =($Y7-MOD($Y7,10))/10+IF(MOD($Y7,10)>0,1,0) -> 0 | F7: =($X7-MOD($X7,10))/10+IF(MOD($X7,10)>1,1,0) -> 0 | G7: =($Y7-MOD($Y7,10))/10+IF(MOD($Y7,10)>1,1,0) -> 0 | H7: =($X7-MOD($X7,10))/10+IF(MOD($X7,10)>2,1,0) -> 0 | I7: =($Y7-MOD($Y7,10))/10+IF(MOD($Y7,10)>2,1,0) -> 0 | J7: =($X7-MOD($X7,10))/10+IF(MOD($X7,10)>3,1,0) -> 0 | K7: =($Y7-MOD($Y7,10))/10+IF(MOD($Y7,10)>3,1,0) -> 0 | L7: =($X7-MOD($X7,10))/10+IF(MOD($X7,10)>4,1,0) -> 0 | M7: =($Y7-MOD($Y7,10))/10+IF(MOD($Y7,10)>4,1,0) -> 0 | N7: =($X7-MOD($X7,10))/10+IF(MOD($X7,10)>5,1,0) -> 0 | O7: =($Y7-MOD($Y7,10))/10+IF(MOD($Y7,10)>5,1,0) -> 0 | P7: =($X7-MOD($X7,10))/10+IF(MOD($X7,10)>6,1,0) -> 0 | Q7: =($Y7-MOD($Y7,10))/10+IF(MOD($Y7,10)>6,1,0) -> 0 | R7: =($X7-MOD($X7,10))/10+IF(MOD($X7,10)>7,1,0) -> 0 | S7: =($Y7-MOD($Y7,10))/10+IF(MOD($Y7,10)>7,1,0) -> 0 | T7: =($X7-MOD($X7,10))/10+IF(MOD($X7,10)>8,1,0) -> 0 | U7: =($Y7-MOD($Y7,10))/10+IF(MOD($Y7,10)>8,1,0) -> 0 | V7: =($X7-MOD($X7,10))/10+IF(MOD($X7,10)>9,1,0) -> 0 | W7: =($Y7-MOD($Y7,10))/10+IF(MOD($Y7,10)>9,1,0) -> 0 | X7: ='8Beokul'!G3 -> 0 | Y7: ='8Beokul'!H3 -> 0 | Z7: ='8Beokul'!I3 -> 0 | AA7: ='8Beokul'!J3 -> 0 | AB7: ='8Beokul'!K3 -> 0 | AC7: ='8Beokul'!L3 -> 0 | AD7: ='8Beokul'!M3 -> 0 | AE7: ='8Beokul'!N3 -> 0 | ... AL7: ='8Beokul'!U3 -> 0
A8: 3 | B8: ='8Beokul'!A4 -> 0 | C8: ='8Beokul'!B4 -> 0 | D8: =($X8-MOD($X8,10))/10+IF(MOD($X8,10)>0,1,0) -> 0 | E8: =($Y8-MOD($Y8,10))/10+IF(MOD($Y8,10)>0,1,0) -> 0 | F8: =($X8-MOD($X8,10))/10+IF(MOD($X8,10)>1,1,0) -> 0 | G8: =($Y8-MOD($Y8,10))/10+IF(MOD($Y8,10)>1,1,0) -> 0 | H8: =($X8-MOD($X8,10))/10+IF(MOD($X8,10)>2,1,0) -> 0 | I8: =($Y8-MOD($Y8,10))/10+IF(MOD($Y8,10)>2,1,0) -> 0 | J8: =($X8-MOD($X8,10))/10+IF(MOD($X8,10)>3,1,0) -> 0 | K8: =($Y8-MOD($Y8,10))/10+IF(MOD($Y8,10)>3,1,0) -> 0 | L8: =($X8-MOD($X8,10))/10+IF(MOD($X8,10)>4,1,0) -> 0 | M8: =($Y8-MOD($Y8,10))/10+IF(MOD($Y8,10)>4,1,0) -> 0 | N8: =($X8-MOD($X8,10))/10+IF(MOD($X8,10)>5,1,0) -> 0 | O8: =($Y8-MOD($Y8,10))/10+IF(MOD($Y8,10)>5,1,0) -> 0 | P8: =($X8-MOD($X8,10))/10+IF(MOD($X8,10)>6,1,0) -> 0 | Q8: =($Y8-MOD($Y8,10))/10+IF(MOD($Y8,10)>6,1,0) -> 0 | R8: =($X8-MOD($X8,10))/10+IF(MOD($X8,10)>7,1,0) -> 0 | S8: =($Y8-MOD($Y8,10))/10+IF(MOD($Y8,10)>7,1,0) -> 0 | T8: =($X8-MOD($X8,10))/10+IF(MOD($X8,10)>8,1,0) -> 0 | U8: =($Y8-MOD($Y8,10))/10+IF(MOD($Y8,10)>8,1,0) -> 0 | V8: =($X8-MOD($X8,10))/10+IF(MOD($X8,10)>9,1,0) -> 0 | W8: =($Y8-MOD($Y8,10))/10+IF(MOD($Y8,10)>9,1,0) -> 0 | X8: ='8Beokul'!G4 -> 0 | Y8: ='8Beokul'!H4 -> 0 | Z8: ='8Beokul'!I4 -> 0 | AA8: ='8Beokul'!J4 -> 0 | AB8: ='8Beokul'!K4 -> 0 | AC8: ='8Beokul'!L4 -> 0 | AD8: ='8Beokul'!M4 -> 0 | AE8: ='8Beokul'!N4 -> 0 | ... AL8: ='8Beokul'!U4 -> 0
A9: 4 | B9: ='8Beokul'!A5 -> 0 | C9: ='8Beokul'!B5 -> 0 | D9: =($X9-MOD($X9,10))/10+IF(MOD($X9,10)>0,1,0) -> 0 | E9: =($Y9-MOD($Y9,10))/10+IF(MOD($Y9,10)>0,1,0) -> 0 | F9: =($X9-MOD($X9,10))/10+IF(MOD($X9,10)>1,1,0) -> 0 | G9: =($Y9-MOD($Y9,10))/10+IF(MOD($Y9,10)>1,1,0) -> 0 | H9: =($X9-MOD($X9,10))/10+IF(MOD($X9,10)>2,1,0) -> 0 | I9: =($Y9-MOD($Y9,10))/10+IF(MOD($Y9,10)>2,1,0) -> 0 | J9: =($X9-MOD($X9,10))/10+IF(MOD($X9,10)>3,1,0) -> 0 | K9: =($Y9-MOD($Y9,10))/10+IF(MOD($Y9,10)>3,1,0) -> 0 | L9: =($X9-MOD($X9,10))/10+IF(MOD($X9,10)>4,1,0) -> 0 | M9: =($Y9-MOD($Y9,10))/10+IF(MOD($Y9,10)>4,1,0) -> 0 | N9: =($X9-MOD($X9,10))/10+IF(MOD($X9,10)>5,1,0) -> 0 | O9: =($Y9-MOD($Y9,10))/10+IF(MOD($Y9,10)>5,1,0) -> 0 | P9: =($X9-MOD($X9,10))/10+IF(MOD($X9,10)>6,1,0) -> 0 | Q9: =($Y9-MOD($Y9,10))/10+IF(MOD($Y9,10)>6,1,0) -> 0 | R9: =($X9-MOD($X9,10))/10+IF(MOD($X9,10)>7,1,0) -> 0 | S9: =($Y9-MOD($Y9,10))/10+IF(MOD($Y9,10)>7,1,0) -> 0 | T9: =($X9-MOD($X9,10))/10+IF(MOD($X9,10)>8,1,0) -> 0 | U9: =($Y9-MOD($Y9,10))/10+IF(MOD($Y9,10)>8,1,0) -> 0 | V9: =($X9-MOD($X9,10))/10+IF(MOD($X9,10)>9,1,0) -> 0 | W9: =($Y9-MOD($Y9,10))/10+IF(MOD($Y9,10)>9,1,0) -> 0 | X9: ='8Beokul'!G5 -> 0 | Y9: ='8Beokul'!H5 -> 0 | Z9: ='8Beokul'!I5 -> 0 | AA9: ='8Beokul'!J5 -> 0 | AB9: ='8Beokul'!K5 -> 0 | AC9: ='8Beokul'!L5 -> 0 | AD9: ='8Beokul'!M5 -> 0 | AE9: ='8Beokul'!N5 -> 0 | ... AL9: ='8Beokul'!U5 -> 0
A10: 5 | B10: ='8Beokul'!A6 -> 0 | C10: ='8Beokul'!B6 -> 0 | D10: =($X10-MOD($X10,10))/10+IF(MOD($X10,10)>0,1,0) -> 0 | E10: =($Y10-MOD($Y10,10))/10+IF(MOD($Y10,10)>0,1,0) -> 0 | F10: =($X10-MOD($X10,10))/10+IF(MOD($X10,10)>1,1,0) -> 0 | G10: =($Y10-MOD($Y10,10))/10+IF(MOD($Y10,10)>1,1,0) -> 0 | H10: =($X10-MOD($X10,10))/10+IF(MOD($X10,10)>2,1,0) -> 0 | I10: =($Y10-MOD($Y10,10))/10+IF(MOD($Y10,10)>2,1,0) -> 0 | J10: =($X10-MOD($X10,10))/10+IF(MOD($X10,10)>3,1,0) -> 0 | K10: =($Y10-MOD($Y10,10))/10+IF(MOD($Y10,10)>3,1,0) -> 0 | L10: =($X10-MOD($X10,10))/10+IF(MOD($X10,10)>4,1,0) -> 0 | M10: =($Y10-MOD($Y10,10))/10+IF(MOD($Y10,10)>4,1,0) -> 0 | N10: =($X10-MOD($X10,10))/10+IF(MOD($X10,10)>5,1,0) -> 0 | O10: =($Y10-MOD($Y10,10))/10+IF(MOD($Y10,10)>5,1,0) -> 0 | P10: =($X10-MOD($X10,10))/10+IF(MOD($X10,10)>6,1,0) -> 0 | Q10: =($Y10-MOD($Y10,10))/10+IF(MOD($Y10,10)>6,1,0) -> 0 | R10: =($X10-MOD($X10,10))/10+IF(MOD($X10,10)>7,1,0) -> 0 | S10: =($Y10-MOD($Y10,10))/10+IF(MOD($Y10,10)>7,1,0) -> 0 | T10: =($X10-MOD($X10,10))/10+IF(MOD($X10,10)>8,1,0) -> 0 | U10: =($Y10-MOD($Y10,10))/10+IF(MOD($Y10,10)>8,1,0) -> 0 | V10: =($X10-MOD($X10,10))/10+IF(MOD($X10,10)>9,1,0) -> 0 | W10: =($Y10-MOD($Y10,10))/10+IF(MOD($Y10,10)>9,1,0) -> 0 | X10: ='8Beokul'!G6 -> 0 | Y10: ='8Beokul'!H6 -> 0 | Z10: ='8Beokul'!I6 -> 0 | AA10: ='8Beokul'!J6 -> 0 | AB10: ='8Beokul'!K6 -> 0 | AC10: ='8Beokul'!L6 -> 0 | AD10: ='8Beokul'!M6 -> 0 | AE10: ='8Beokul'!N6 -> 0 | ... AL10: ='8Beokul'!U6 -> 0
A11: 6 | B11: ='8Beokul'!A7 -> 0 | C11: ='8Beokul'!B7 -> 0 | D11: =($X11-MOD($X11,10))/10+IF(MOD($X11,10)>0,1,0) -> 0 | E11: =($Y11-MOD($Y11,10))/10+IF(MOD($Y11,10)>0,1,0) -> 0 | F11: =($X11-MOD($X11,10))/10+IF(MOD($X11,10)>1,1,0) -> 0 | G11: =($Y11-MOD($Y11,10))/10+IF(MOD($Y11,10)>1,1,0) -> 0 | H11: =($X11-MOD($X11,10))/10+IF(MOD($X11,10)>2,1,0) -> 0 | I11: =($Y11-MOD($Y11,10))/10+IF(MOD($Y11,10)>2,1,0) -> 0 | J11: =($X11-MOD($X11,10))/10+IF(MOD($X11,10)>3,1,0) -> 0 | K11: =($Y11-MOD($Y11,10))/10+IF(MOD($Y11,10)>3,1,0) -> 0 | L11: =($X11-MOD($X11,10))/10+IF(MOD($X11,10)>4,1,0) -> 0 | M11: =($Y11-MOD($Y11,10))/10+IF(MOD($Y11,10)>4,1,0) -> 0 | N11: =($X11-MOD($X11,10))/10+IF(MOD($X11,10)>5,1,0) -> 0 | O11: =($Y11-MOD($Y11,10))/10+IF(MOD($Y11,10)>5,1,0) -> 0 | P11: =($X11-MOD($X11,10))/10+IF(MOD($X11,10)>6,1,0) -> 0 | Q11: =($Y11-MOD($Y11,10))/10+IF(MOD($Y11,10)>6,1,0) -> 0 | R11: =($X11-MOD($X11,10))/10+IF(MOD($X11,10)>7,1,0) -> 0 | S11: =($Y11-MOD($Y11,10))/10+IF(MOD($Y11,10)>7,1,0) -> 0 | T11: =($X11-MOD($X11,10))/10+IF(MOD($X11,10)>8,1,0) -> 0 | U11: =($Y11-MOD($Y11,10))/10+IF(MOD($Y11,10)>8,1,0) -> 0 | V11: =($X11-MOD($X11,10))/10+IF(MOD($X11,10)>9,1,0) -> 0 | W11: =($Y11-MOD($Y11,10))/10+IF(MOD($Y11,10)>9,1,0) -> 0 | X11: ='8Beokul'!G7 -> 0 | Y11: ='8Beokul'!H7 -> 0 | Z11: ='8Beokul'!I7 -> 0 | AA11: ='8Beokul'!J7 -> 0 | AB11: ='8Beokul'!K7 -> 0 | AC11: ='8Beokul'!L7 -> 0 | AD11: ='8Beokul'!M7 -> 0 | AE11: ='8Beokul'!N7 -> 0 | ... AL11: ='8Beokul'!U7 -> 0
A12: 7 | B12: ='8Beokul'!A8 -> 0 | C12: ='8Beokul'!B8 -> 0 | D12: =($X12-MOD($X12,10))/10+IF(MOD($X12,10)>0,1,0) -> 0 | E12: =($Y12-MOD($Y12,10))/10+IF(MOD($Y12,10)>0,1,0) -> 0 | F12: =($X12-MOD($X12,10))/10+IF(MOD($X12,10)>1,1,0) -> 0 | G12: =($Y12-MOD($Y12,10))/10+IF(MOD($Y12,10)>1,1,0) -> 0 | H12: =($X12-MOD($X12,10))/10+IF(MOD($X12,10)>2,1,0) -> 0 | I12: =($Y12-MOD($Y12,10))/10+IF(MOD($Y12,10)>2,1,0) -> 0 | J12: =($X12-MOD($X12,10))/10+IF(MOD($X12,10)>3,1,0) -> 0 | K12: =($Y12-MOD($Y12,10))/10+IF(MOD($Y12,10)>3,1,0) -> 0 | L12: =($X12-MOD($X12,10))/10+IF(MOD($X12,10)>4,1,0) -> 0 | M12: =($Y12-MOD($Y12,10))/10+IF(MOD($Y12,10)>4,1,0) -> 0 | N12: =($X12-MOD($X12,10))/10+IF(MOD($X12,10)>5,1,0) -> 0 | O12: =($Y12-MOD($Y12,10))/10+IF(MOD($Y12,10)>5,1,0) -> 0 | P12: =($X12-MOD($X12,10))/10+IF(MOD($X12,10)>6,1,0) -> 0 | Q12: =($Y12-MOD($Y12,10))/10+IF(MOD($Y12,10)>6,1,0) -> 0 | R12: =($X12-MOD($X12,10))/10+IF(MOD($X12,10)>7,1,0) -> 0 | S12: =($Y12-MOD($Y12,10))/10+IF(MOD($Y12,10)>7,1,0) -> 0 | T12: =($X12-MOD($X12,10))/10+IF(MOD($X12,10)>8,1,0) -> 0 | U12: =($Y12-MOD($Y12,10))/10+IF(MOD($Y12,10)>8,1,0) -> 0 | V12: =($X12-MOD($X12,10))/10+IF(MOD($X12,10)>9,1,0) -> 0 | W12: =($Y12-MOD($Y12,10))/10+IF(MOD($Y12,10)>9,1,0) -> 0 | X12: ='8Beokul'!G8 -> 0 | Y12: ='8Beokul'!H8 -> 0 | Z12: ='8Beokul'!I8 -> 0 | AA12: ='8Beokul'!J8 -> 0 | AB12: ='8Beokul'!K8 -> 0 | AC12: ='8Beokul'!L8 -> 0 | AD12: ='8Beokul'!M8 -> 0 | AE12: ='8Beokul'!N8 -> 0 | ... AL12: ='8Beokul'!U8 -> 0
A13: 8 | B13: ='8Beokul'!A9 -> 0 | C13: ='8Beokul'!B9 -> 0 | D13: =($X13-MOD($X13,10))/10+IF(MOD($X13,10)>0,1,0) -> 0 | E13: =($Y13-MOD($Y13,10))/10+IF(MOD($Y13,10)>0,1,0) -> 0 | F13: =($X13-MOD($X13,10))/10+IF(MOD($X13,10)>1,1,0) -> 0 | G13: =($Y13-MOD($Y13,10))/10+IF(MOD($Y13,10)>1,1,0) -> 0 | H13: =($X13-MOD($X13,10))/10+IF(MOD($X13,10)>2,1,0) -> 0 | I13: =($Y13-MOD($Y13,10))/10+IF(MOD($Y13,10)>2,1,0) -> 0 | J13: =($X13-MOD($X13,10))/10+IF(MOD($X13,10)>3,1,0) -> 0 | K13: =($Y13-MOD($Y13,10))/10+IF(MOD($Y13,10)>3,1,0) -> 0 | L13: =($X13-MOD($X13,10))/10+IF(MOD($X13,10)>4,1,0) -> 0 | M13: =($Y13-MOD($Y13,10))/10+IF(MOD($Y13,10)>4,1,0) -> 0 | N13: =($X13-MOD($X13,10))/10+IF(MOD($X13,10)>5,1,0) -> 0 | O13: =($Y13-MOD($Y13,10))/10+IF(MOD($Y13,10)>5,1,0) -> 0 | P13: =($X13-MOD($X13,10))/10+IF(MOD($X13,10)>6,1,0) -> 0 | Q13: =($Y13-MOD($Y13,10))/10+IF(MOD($Y13,10)>6,1,0) -> 0 | R13: =($X13-MOD($X13,10))/10+IF(MOD($X13,10)>7,1,0) -> 0 | S13: =($Y13-MOD($Y13,10))/10+IF(MOD($Y13,10)>7,1,0) -> 0 | T13: =($X13-MOD($X13,10))/10+IF(MOD($X13,10)>8,1,0) -> 0 | U13: =($Y13-MOD($Y13,10))/10+IF(MOD($Y13,10)>8,1,0) -> 0 | V13: =($X13-MOD($X13,10))/10+IF(MOD($X13,10)>9,1,0) -> 0 | W13: =($Y13-MOD($Y13,10))/10+IF(MOD($Y13,10)>9,1,0) -> 0 | X13: ='8Beokul'!G9 -> 0 | Y13: ='8Beokul'!H9 -> 0 | Z13: ='8Beokul'!I9 -> 0 | AA13: ='8Beokul'!J9 -> 0 | AB13: ='8Beokul'!K9 -> 0 | AC13: ='8Beokul'!L9 -> 0 | AD13: ='8Beokul'!M9 -> 0 | AE13: ='8Beokul'!N9 -> 0 | ... AL13: ='8Beokul'!U9 -> 0
A14: 9 | B14: ='8Beokul'!A10 -> 0 | C14: ='8Beokul'!B10 -> 0 | D14: =($X14-MOD($X14,10))/10+IF(MOD($X14,10)>0,1,0) -> 0 | E14: =($Y14-MOD($Y14,10))/10+IF(MOD($Y14,10)>0,1,0) -> 0 | F14: =($X14-MOD($X14,10))/10+IF(MOD($X14,10)>1,1,0) -> 0 | G14: =($Y14-MOD($Y14,10))/10+IF(MOD($Y14,10)>1,1,0) -> 0 | H14: =($X14-MOD($X14,10))/10+IF(MOD($X14,10)>2,1,0) -> 0 | I14: =($Y14-MOD($Y14,10))/10+IF(MOD($Y14,10)>2,1,0) -> 0 | J14: =($X14-MOD($X14,10))/10+IF(MOD($X14,10)>3,1,0) -> 0 | K14: =($Y14-MOD($Y14,10))/10+IF(MOD($Y14,10)>3,1,0) -> 0 | L14: =($X14-MOD($X14,10))/10+IF(MOD($X14,10)>4,1,0) -> 0 | M14: =($Y14-MOD($Y14,10))/10+IF(MOD($Y14,10)>4,1,0) -> 0 | N14: =($X14-MOD($X14,10))/10+IF(MOD($X14,10)>5,1,0) -> 0 | O14: =($Y14-MOD($Y14,10))/10+IF(MOD($Y14,10)>5,1,0) -> 0 | P14: =($X14-MOD($X14,10))/10+IF(MOD($X14,10)>6,1,0) -> 0 | Q14: =($Y14-MOD($Y14,10))/10+IF(MOD($Y14,10)>6,1,0) -> 0 | R14: =($X14-MOD($X14,10))/10+IF(MOD($X14,10)>7,1,0) -> 0 | S14: =($Y14-MOD($Y14,10))/10+IF(MOD($Y14,10)>7,1,0) -> 0 | T14: =($X14-MOD($X14,10))/10+IF(MOD($X14,10)>8,1,0) -> 0 | U14: =($Y14-MOD($Y14,10))/10+IF(MOD($Y14,10)>8,1,0) -> 0 | V14: =($X14-MOD($X14,10))/10+IF(MOD($X14,10)>9,1,0) -> 0 | W14: =($Y14-MOD($Y14,10))/10+IF(MOD($Y14,10)>9,1,0) -> 0 | X14: ='8Beokul'!G10 -> 0 | Y14: ='8Beokul'!H10 -> 0 | Z14: ='8Beokul'!I10 -> 0 | AA14: ='8Beokul'!J10 -> 0 | AB14: ='8Beokul'!K10 -> 0 | AC14: ='8Beokul'!L10 -> 0 | AD14: ='8Beokul'!M10 -> 0 | AE14: ='8Beokul'!N10 -> 0 | ... AL14: ='8Beokul'!U10 -> 0
A15: 10 | B15: ='8Beokul'!A11 -> 0 | C15: ='8Beokul'!B11 -> 0 | D15: =($X15-MOD($X15,10))/10+IF(MOD($X15,10)>0,1,0) -> 0 | E15: =($Y15-MOD($Y15,10))/10+IF(MOD($Y15,10)>0,1,0) -> 0 | F15: =($X15-MOD($X15,10))/10+IF(MOD($X15,10)>1,1,0) -> 0 | G15: =($Y15-MOD($Y15,10))/10+IF(MOD($Y15,10)>1,1,0) -> 0 | H15: =($X15-MOD($X15,10))/10+IF(MOD($X15,10)>2,1,0) -> 0 | I15: =($Y15-MOD($Y15,10))/10+IF(MOD($Y15,10)>2,1,0) -> 0 | J15: =($X15-MOD($X15,10))/10+IF(MOD($X15,10)>3,1,0) -> 0 | K15: =($Y15-MOD($Y15,10))/10+IF(MOD($Y15,10)>3,1,0) -> 0 | L15: =($X15-MOD($X15,10))/10+IF(MOD($X15,10)>4,1,0) -> 0 | M15: =($Y15-MOD($Y15,10))/10+IF(MOD($Y15,10)>4,1,0) -> 0 | N15: =($X15-MOD($X15,10))/10+IF(MOD($X15,10)>5,1,0) -> 0 | O15: =($Y15-MOD($Y15,10))/10+IF(MOD($Y15,10)>5,1,0) -> 0 | P15: =($X15-MOD($X15,10))/10+IF(MOD($X15,10)>6,1,0) -> 0 | Q15: =($Y15-MOD($Y15,10))/10+IF(MOD($Y15,10)>6,1,0) -> 0 | R15: =($X15-MOD($X15,10))/10+IF(MOD($X15,10)>7,1,0) -> 0 | S15: =($Y15-MOD($Y15,10))/10+IF(MOD($Y15,10)>7,1,0) -> 0 | T15: =($X15-MOD($X15,10))/10+IF(MOD($X15,10)>8,1,0) -> 0 | U15: =($Y15-MOD($Y15,10))/10+IF(MOD($Y15,10)>8,1,0) -> 0 | V15: =($X15-MOD($X15,10))/10+IF(MOD($X15,10)>9,1,0) -> 0 | W15: =($Y15-MOD($Y15,10))/10+IF(MOD($Y15,10)>9,1,0) -> 0 | X15: ='8Beokul'!G11 -> 0 | Y15: ='8Beokul'!H11 -> 0 | Z15: ='8Beokul'!I11 -> 0 | AA15: ='8Beokul'!J11 -> 0 | AB15: ='8Beokul'!K11 -> 0 | AC15: ='8Beokul'!L11 -> 0 | AD15: ='8Beokul'!M11 -> 0 | AE15: ='8Beokul'!N11 -> 0 | ... AL15: ='8Beokul'!U11 -> 0
A16: 11 | B16: ='8Beokul'!A12 -> 0 | C16: ='8Beokul'!B12 -> 0 | D16: =($X16-MOD($X16,10))/10+IF(MOD($X16,10)>0,1,0) -> 0 | E16: =($Y16-MOD($Y16,10))/10+IF(MOD($Y16,10)>0,1,0) -> 0 | F16: =($X16-MOD($X16,10))/10+IF(MOD($X16,10)>1,1,0) -> 0 | G16: =($Y16-MOD($Y16,10))/10+IF(MOD($Y16,10)>1,1,0) -> 0 | H16: =($X16-MOD($X16,10))/10+IF(MOD($X16,10)>2,1,0) -> 0 | I16: =($Y16-MOD($Y16,10))/10+IF(MOD($Y16,10)>2,1,0) -> 0 | J16: =($X16-MOD($X16,10))/10+IF(MOD($X16,10)>3,1,0) -> 0 | K16: =($Y16-MOD($Y16,10))/10+IF(MOD($Y16,10)>3,1,0) -> 0 | L16: =($X16-MOD($X16,10))/10+IF(MOD($X16,10)>4,1,0) -> 0 | M16: =($Y16-MOD($Y16,10))/10+IF(MOD($Y16,10)>4,1,0) -> 0 | N16: =($X16-MOD($X16,10))/10+IF(MOD($X16,10)>5,1,0) -> 0 | O16: =($Y16-MOD($Y16,10))/10+IF(MOD($Y16,10)>5,1,0) -> 0 | P16: =($X16-MOD($X16,10))/10+IF(MOD($X16,10)>6,1,0) -> 0 | Q16: =($Y16-MOD($Y16,10))/10+IF(MOD($Y16,10)>6,1,0) -> 0 | R16: =($X16-MOD($X16,10))/10+IF(MOD($X16,10)>7,1,0) -> 0 | S16: =($Y16-MOD($Y16,10))/10+IF(MOD($Y16,10)>7,1,0) -> 0 | T16: =($X16-MOD($X16,10))/10+IF(MOD($X16,10)>8,1,0) -> 0 | U16: =($Y16-MOD($Y16,10))/10+IF(MOD($Y16,10)>8,1,0) -> 0 | V16: =($X16-MOD($X16,10))/10+IF(MOD($X16,10)>9,1,0) -> 0 | W16: =($Y16-MOD($Y16,10))/10+IF(MOD($Y16,10)>9,1,0) -> 0 | X16: ='8Beokul'!G12 -> 0 | Y16: ='8Beokul'!H12 -> 0 | Z16: ='8Beokul'!I12 -> 0 | AA16: ='8Beokul'!J12 -> 0 | AB16: ='8Beokul'!K12 -> 0 | AC16: ='8Beokul'!L12 -> 0 | AD16: ='8Beokul'!M12 -> 0 | AE16: ='8Beokul'!N12 -> 0 | ... AL16: ='8Beokul'!U12 -> 0
A17: 12 | B17: ='8Beokul'!A13 -> 0 | C17: ='8Beokul'!B13 -> 0 | D17: =($X17-MOD($X17,10))/10+IF(MOD($X17,10)>0,1,0) -> 0 | E17: =($Y17-MOD($Y17,10))/10+IF(MOD($Y17,10)>0,1,0) -> 0 | F17: =($X17-MOD($X17,10))/10+IF(MOD($X17,10)>1,1,0) -> 0 | G17: =($Y17-MOD($Y17,10))/10+IF(MOD($Y17,10)>1,1,0) -> 0 | H17: =($X17-MOD($X17,10))/10+IF(MOD($X17,10)>2,1,0) -> 0 | I17: =($Y17-MOD($Y17,10))/10+IF(MOD($Y17,10)>2,1,0) -> 0 | J17: =($X17-MOD($X17,10))/10+IF(MOD($X17,10)>3,1,0) -> 0 | K17: =($Y17-MOD($Y17,10))/10+IF(MOD($Y17,10)>3,1,0) -> 0 | L17: =($X17-MOD($X17,10))/10+IF(MOD($X17,10)>4,1,0) -> 0 | M17: =($Y17-MOD($Y17,10))/10+IF(MOD($Y17,10)>4,1,0) -> 0 | N17: =($X17-MOD($X17,10))/10+IF(MOD($X17,10)>5,1,0) -> 0 | O17: =($Y17-MOD($Y17,10))/10+IF(MOD($Y17,10)>5,1,0) -> 0 | P17: =($X17-MOD($X17,10))/10+IF(MOD($X17,10)>6,1,0) -> 0 | Q17: =($Y17-MOD($Y17,10))/10+IF(MOD($Y17,10)>6,1,0) -> 0 | R17: =($X17-MOD($X17,10))/10+IF(MOD($X17,10)>7,1,0) -> 0 | S17: =($Y17-MOD($Y17,10))/10+IF(MOD($Y17,10)>7,1,0) -> 0 | T17: =($X17-MOD($X17,10))/10+IF(MOD($X17,10)>8,1,0) -> 0 | U17: =($Y17-MOD($Y17,10))/10+IF(MOD($Y17,10)>8,1,0) -> 0 | V17: =($X17-MOD($X17,10))/10+IF(MOD($X17,10)>9,1,0) -> 0 | W17: =($Y17-MOD($Y17,10))/10+IF(MOD($Y17,10)>9,1,0) -> 0 | X17: ='8Beokul'!G13 -> 0 | Y17: ='8Beokul'!H13 -> 0 | Z17: ='8Beokul'!I13 -> 0 | AA17: ='8Beokul'!J13 -> 0 | AB17: ='8Beokul'!K13 -> 0 | AC17: ='8Beokul'!L13 -> 0 | AD17: ='8Beokul'!M13 -> 0 | AE17: ='8Beokul'!N13 -> 0 | ... AL17: ='8Beokul'!U13 -> 0
... A24: 19 | B24: ='8Beokul'!A20 -> 0 | C24: ='8Beokul'!B20 -> 0 | D24: =($X24-MOD($X24,10))/10+IF(MOD($X24,10)>0,1,0) -> 0 | E24: =($Y24-MOD($Y24,10))/10+IF(MOD($Y24,10)>0,1,0) -> 0 | F24: =($X24-MOD($X24,10))/10+IF(MOD($X24,10)>1,1,0) -> 0 | G24: =($Y24-MOD($Y24,10))/10+IF(MOD($Y24,10)>1,1,0) -> 0 | H24: =($X24-MOD($X24,10))/10+IF(MOD($X24,10)>2,1,0) -> 0 | I24: =($Y24-MOD($Y24,10))/10+IF(MOD($Y24,10)>2,1,0) -> 0 | J24: =($X24-MOD($X24,10))/10+IF(MOD($X24,10)>3,1,0) -> 0 | K24: =($Y24-MOD($Y24,10))/10+IF(MOD($Y24,10)>3,1,0) -> 0 | L24: =($X24-MOD($X24,10))/10+IF(MOD($X24,10)>4,1,0) -> 0 | M24: =($Y24-MOD($Y24,10))/10+IF(MOD($Y24,10)>4,1,0) -> 0 | N24: =($X24-MOD($X24,10))/10+IF(MOD($X24,10)>5,1,0) -> 0 | O24: =($Y24-MOD($Y24,10))/10+IF(MOD($Y24,10)>5,1,0) -> 0 | P24: =($X24-MOD($X24,10))/10+IF(MOD($X24,10)>6,1,0) -> 0 | Q24: =($Y24-MOD($Y24,10))/10+IF(MOD($Y24,10)>6,1,0) -> 0 | R24: =($X24-MOD($X24,10))/10+IF(MOD($X24,10)>7,1,0) -> 0 | S24: =($Y24-MOD($Y24,10))/10+IF(MOD($Y24,10)>7,1,0) -> 0 | T24: =($X24-MOD($X24,10))/10+IF(MOD($X24,10)>8,1,0) -> 0 | U24: =($Y24-MOD($Y24,10))/10+IF(MOD($Y24,10)>8,1,0) -> 0 | V24: =($X24-MOD($X24,10))/10+IF(MOD($X24,10)>9,1,0) -> 0 | W24: =($Y24-MOD($Y24,10))/10+IF(MOD($Y24,10)>9,1,0) -> 0 | X24: ='8Beokul'!G20 -> 0 | Y24: ='8Beokul'!H20 -> 0 | Z24: ='8Beokul'!I20 -> 0 | AA24: ='8Beokul'!J20 -> 0 | AB24: ='8Beokul'!K20 -> 0 | AC24: ='8Beokul'!L20 -> 0 | AD24: ='8Beokul'!M20 -> 0 | AE24: ='8Beokul'!N20 -> 0 | ... AL24: ='8Beokul'!U20 -> 0
A25: 20 | B25: ='8Beokul'!A21 -> 0 | C25: ='8Beokul'!B21 -> 0 | D25: =($X25-MOD($X25,10))/10+IF(MOD($X25,10)>0,1,0) -> 0 | E25: =($Y25-MOD($Y25,10))/10+IF(MOD($Y25,10)>0,1,0) -> 0 | F25: =($X25-MOD($X25,10))/10+IF(MOD($X25,10)>1,1,0) -> 0 | G25: =($Y25-MOD($Y25,10))/10+IF(MOD($Y25,10)>1,1,0) -> 0 | H25: =($X25-MOD($X25,10))/10+IF(MOD($X25,10)>2,1,0) -> 0 | I25: =($Y25-MOD($Y25,10))/10+IF(MOD($Y25,10)>2,1,0) -> 0 | J25: =($X25-MOD($X25,10))/10+IF(MOD($X25,10)>3,1,0) -> 0 | K25: =($Y25-MOD($Y25,10))/10+IF(MOD($Y25,10)>3,1,0) -> 0 | L25: =($X25-MOD($X25,10))/10+IF(MOD($X25,10)>4,1,0) -> 0 | M25: =($Y25-MOD($Y25,10))/10+IF(MOD($Y25,10)>4,1,0) -> 0 | N25: =($X25-MOD($X25,10))/10+IF(MOD($X25,10)>5,1,0) -> 0 | O25: =($Y25-MOD($Y25,10))/10+IF(MOD($Y25,10)>5,1,0) -> 0 | P25: =($X25-MOD($X25,10))/10+IF(MOD($X25,10)>6,1,0) -> 0 | Q25: =($Y25-MOD($Y25,10))/10+IF(MOD($Y25,10)>6,1,0) -> 0 | R25: =($X25-MOD($X25,10))/10+IF(MOD($X25,10)>7,1,0) -> 0 | S25: =($Y25-MOD($Y25,10))/10+IF(MOD($Y25,10)>7,1,0) -> 0 | T25: =($X25-MOD($X25,10))/10+IF(MOD($X25,10)>8,1,0) -> 0 | U25: =($Y25-MOD($Y25,10))/10+IF(MOD($Y25,10)>8,1,0) -> 0 | V25: =($X25-MOD($X25,10))/10+IF(MOD($X25,10)>9,1,0) -> 0 | W25: =($Y25-MOD($Y25,10))/10+IF(MOD($Y25,10)>9,1,0) -> 0 | X25: ='8Beokul'!G21 -> 0 | Y25: ='8Beokul'!H21 -> 0
A26: 21 | B26: ='8Beokul'!A22 -> 0 | C26: ='8Beokul'!B22 -> 0 | D26: =($X26-MOD($X26,10))/10+IF(MOD($X26,10)>0,1,0) -> 0 | E26: =($Y26-MOD($Y26,10))/10+IF(MOD($Y26,10)>0,1,0) -> 0 | F26: =($X26-MOD($X26,10))/10+IF(MOD($X26,10)>1,1,0) -> 0 | G26: =($Y26-MOD($Y26,10))/10+IF(MOD($Y26,10)>1,1,0) -> 0 | H26: =($X26-MOD($X26,10))/10+IF(MOD($X26,10)>2,1,0) -> 0 | I26: =($Y26-MOD($Y26,10))/10+IF(MOD($Y26,10)>2,1,0) -> 0 | J26: =($X26-MOD($X26,10))/10+IF(MOD($X26,10)>3,1,0) -> 0 | K26: =($Y26-MOD($Y26,10))/10+IF(MOD($Y26,10)>3,1,0) -> 0 | L26: =($X26-MOD($X26,10))/10+IF(MOD($X26,10)>4,1,0) -> 0 | M26: =($Y26-MOD($Y26,10))/10+IF(MOD($Y26,10)>4,1,0) -> 0 | N26: =($X26-MOD($X26,10))/10+IF(MOD($X26,10)>5,1,0) -> 0 | O26: =($Y26-MOD($Y26,10))/10+IF(MOD($Y26,10)>5,1,0) -> 0 | P26: =($X26-MOD($X26,10))/10+IF(MOD($X26,10)>6,1,0) -> 0 | Q26: =($Y26-MOD($Y26,10))/10+IF(MOD($Y26,10)>6,1,0) -> 0 | R26: =($X26-MOD($X26,10))/10+IF(MOD($X26,10)>7,1,0) -> 0 | S26: =($Y26-MOD($Y26,10))/10+IF(MOD($Y26,10)>7,1,0) -> 0 | T26: =($X26-MOD($X26,10))/10+IF(MOD($X26,10)>8,1,0) -> 0 | U26: =($Y26-MOD($Y26,10))/10+IF(MOD($Y26,10)>8,1,0) -> 0 | V26: =($X26-MOD($X26,10))/10+IF(MOD($X26,10)>9,1,0) -> 0 | W26: =($Y26-MOD($Y26,10))/10+IF(MOD($Y26,10)>9,1,0) -> 0 | X26: ='8Beokul'!G22 -> 0 | Y26: ='8Beokul'!H22 -> 0
A27: 22 | B27: ='8Beokul'!A23 -> 0 | C27: ='8Beokul'!B23 -> 0 | D27: =($X27-MOD($X27,10))/10+IF(MOD($X27,10)>0,1,0) -> 0 | E27: =($Y27-MOD($Y27,10))/10+IF(MOD($Y27,10)>0,1,0) -> 0 | F27: =($X27-MOD($X27,10))/10+IF(MOD($X27,10)>1,1,0) -> 0 | G27: =($Y27-MOD($Y27,10))/10+IF(MOD($Y27,10)>1,1,0) -> 0 | H27: =($X27-MOD($X27,10))/10+IF(MOD($X27,10)>2,1,0) -> 0 | I27: =($Y27-MOD($Y27,10))/10+IF(MOD($Y27,10)>2,1,0) -> 0 | J27: =($X27-MOD($X27,10))/10+IF(MOD($X27,10)>3,1,0) -> 0 | K27: =($Y27-MOD($Y27,10))/10+IF(MOD($Y27,10)>3,1,0) -> 0 | L27: =($X27-MOD($X27,10))/10+IF(MOD($X27,10)>4,1,0) -> 0 | M27: =($Y27-MOD($Y27,10))/10+IF(MOD($Y27,10)>4,1,0) -> 0 | N27: =($X27-MOD($X27,10))/10+IF(MOD($X27,10)>5,1,0) -> 0 | O27: =($Y27-MOD($Y27,10))/10+IF(MOD($Y27,10)>5,1,0) -> 0 | P27: =($X27-MOD($X27,10))/10+IF(MOD($X27,10)>6,1,0) -> 0 | Q27: =($Y27-MOD($Y27,10))/10+IF(MOD($Y27,10)>6,1,0) -> 0 | R27: =($X27-MOD($X27,10))/10+IF(MOD($X27,10)>7,1,0) -> 0 | S27: =($Y27-MOD($Y27,10))/10+IF(MOD($Y27,10)>7,1,0) -> 0 | T27: =($X27-MOD($X27,10))/10+IF(MOD($X27,10)>8,1,0) -> 0 | U27: =($Y27-MOD($Y27,10))/10+IF(MOD($Y27,10)>8,1,0) -> 0 | V27: =($X27-MOD($X27,10))/10+IF(MOD($X27,10)>9,1,0) -> 0 | W27: =($Y27-MOD($Y27,10))/10+IF(MOD($Y27,10)>9,1,0) -> 0 | X27: ='8Beokul'!G23 -> 0 | Y27: ='8Beokul'!H23 -> 0
A28: 23 | B28: ='8Beokul'!A24 -> 0 | C28: ='8Beokul'!B24 -> 0 | D28: =($X28-MOD($X28,10))/10+IF(MOD($X28,10)>0,1,0) -> 0 | E28: =($Y28-MOD($Y28,10))/10+IF(MOD($Y28,10)>0,1,0) -> 0 | F28: =($X28-MOD($X28,10))/10+IF(MOD($X28,10)>1,1,0) -> 0 | G28: =($Y28-MOD($Y28,10))/10+IF(MOD($Y28,10)>1,1,0) -> 0 | H28: =($X28-MOD($X28,10))/10+IF(MOD($X28,10)>2,1,0) -> 0 | I28: =($Y28-MOD($Y28,10))/10+IF(MOD($Y28,10)>2,1,0) -> 0 | J28: =($X28-MOD($X28,10))/10+IF(MOD($X28,10)>3,1,0) -> 0 | K28: =($Y28-MOD($Y28,10))/10+IF(MOD($Y28,10)>3,1,0) -> 0 | L28: =($X28-MOD($X28,10))/10+IF(MOD($X28,10)>4,1,0) -> 0 | M28: =($Y28-MOD($Y28,10))/10+IF(MOD($Y28,10)>4,1,0) -> 0 | N28: =($X28-MOD($X28,10))/10+IF(MOD($X28,10)>5,1,0) -> 0 | O28: =($Y28-MOD($Y28,10))/10+IF(MOD($Y28,10)>5,1,0) -> 0 | P28: =($X28-MOD($X28,10))/10+IF(MOD($X28,10)>6,1,0) -> 0 | Q28: =($Y28-MOD($Y28,10))/10+IF(MOD($Y28,10)>6,1,0) -> 0 | R28: =($X28-MOD($X28,10))/10+IF(MOD($X28,10)>7,1,0) -> 0 | S28: =($Y28-MOD($Y28,10))/10+IF(MOD($Y28,10)>7,1,0) -> 0 | T28: =($X28-MOD($X28,10))/10+IF(MOD($X28,10)>8,1,0) -> 0 | U28: =($Y28-MOD($Y28,10))/10+IF(MOD($Y28,10)>8,1,0) -> 0 | V28: =($X28-MOD($X28,10))/10+IF(MOD($X28,10)>9,1,0) -> 0 | W28: =($Y28-MOD($Y28,10))/10+IF(MOD($Y28,10)>9,1,0) -> 0 | X28: ='8Beokul'!G24 -> 0 | Y28: ='8Beokul'!H24 -> 0
A29: 24 | B29: ='8Beokul'!A25 -> 0 | C29: ='8Beokul'!B25 -> 0 | D29: =($X29-MOD($X29,10))/10+IF(MOD($X29,10)>0,1,0) -> 0 | E29: =($Y29-MOD($Y29,10))/10+IF(MOD($Y29,10)>0,1,0) -> 0 | F29: =($X29-MOD($X29,10))/10+IF(MOD($X29,10)>1,1,0) -> 0 | G29: =($Y29-MOD($Y29,10))/10+IF(MOD($Y29,10)>1,1,0) -> 0 | H29: =($X29-MOD($X29,10))/10+IF(MOD($X29,10)>2,1,0) -> 0 | I29: =($Y29-MOD($Y29,10))/10+IF(MOD($Y29,10)>2,1,0) -> 0 | J29: =($X29-MOD($X29,10))/10+IF(MOD($X29,10)>3,1,0) -> 0 | K29: =($Y29-MOD($Y29,10))/10+IF(MOD($Y29,10)>3,1,0) -> 0 | L29: =($X29-MOD($X29,10))/10+IF(MOD($X29,10)>4,1,0) -> 0 | M29: =($Y29-MOD($Y29,10))/10+IF(MOD($Y29,10)>4,1,0) -> 0 | N29: =($X29-MOD($X29,10))/10+IF(MOD($X29,10)>5,1,0) -> 0 | O29: =($Y29-MOD($Y29,10))/10+IF(MOD($Y29,10)>5,1,0) -> 0 | P29: =($X29-MOD($X29,10))/10+IF(MOD($X29,10)>6,1,0) -> 0 | Q29: =($Y29-MOD($Y29,10))/10+IF(MOD($Y29,10)>6,1,0) -> 0 | R29: =($X29-MOD($X29,10))/10+IF(MOD($X29,10)>7,1,0) -> 0 | S29: =($Y29-MOD($Y29,10))/10+IF(MOD($Y29,10)>7,1,0) -> 0 | T29: =($X29-MOD($X29,10))/10+IF(MOD($X29,10)>8,1,0) -> 0 | U29: =($Y29-MOD($Y29,10))/10+IF(MOD($Y29,10)>8,1,0) -> 0 | V29: =($X29-MOD($X29,10))/10+IF(MOD($X29,10)>9,1,0) -> 0 | W29: =($Y29-MOD($Y29,10))/10+IF(MOD($Y29,10)>9,1,0) -> 0 | X29: ='8Beokul'!G25 -> 0 | Y29: ='8Beokul'!H25 -> 0
A30: 25 | B30: ='8Beokul'!A26 -> 0 | C30: ='8Beokul'!B26 -> 0 | D30: =($X30-MOD($X30,10))/10+IF(MOD($X30,10)>0,1,0) -> 0 | E30: =($Y30-MOD($Y30,10))/10+IF(MOD($Y30,10)>0,1,0) -> 0 | F30: =($X30-MOD($X30,10))/10+IF(MOD($X30,10)>1,1,0) -> 0 | G30: =($Y30-MOD($Y30,10))/10+IF(MOD($Y30,10)>1,1,0) -> 0 | H30: =($X30-MOD($X30,10))/10+IF(MOD($X30,10)>2,1,0) -> 0 | I30: =($Y30-MOD($Y30,10))/10+IF(MOD($Y30,10)>2,1,0) -> 0 | J30: =($X30-MOD($X30,10))/10+IF(MOD($X30,10)>3,1,0) -> 0 | K30: =($Y30-MOD($Y30,10))/10+IF(MOD($Y30,10)>3,1,0) -> 0 | L30: =($X30-MOD($X30,10))/10+IF(MOD($X30,10)>4,1,0) -> 0 | M30: =($Y30-MOD($Y30,10))/10+IF(MOD($Y30,10)>4,1,0) -> 0 | N30: =($X30-MOD($X30,10))/10+IF(MOD($X30,10)>5,1,0) -> 0 | O30: =($Y30-MOD($Y30,10))/10+IF(MOD($Y30,10)>5,1,0) -> 0 | P30: =($X30-MOD($X30,10))/10+IF(MOD($X30,10)>6,1,0) -> 0 | Q30: =($Y30-MOD($Y30,10))/10+IF(MOD($Y30,10)>6,1,0) -> 0 | R30: =($X30-MOD($X30,10))/10+IF(MOD($X30,10)>7,1,0) -> 0 | S30: =($Y30-MOD($Y30,10))/10+IF(MOD($Y30,10)>7,1,0) -> 0 | T30: =($X30-MOD($X30,10))/10+IF(MOD($X30,10)>8,1,0) -> 0 | U30: =($Y30-MOD($Y30,10))/10+IF(MOD($Y30,10)>8,1,0) -> 0 | V30: =($X30-MOD($X30,10))/10+IF(MOD($X30,10)>9,1,0) -> 0 | W30: =($Y30-MOD($Y30,10))/10+IF(MOD($Y30,10)>9,1,0) -> 0 | X30: ='8Beokul'!G26 -> 0 | Y30: ='8Beokul'!H26 -> 0
A31: 26 | B31: ='8Beokul'!A27 -> 0 | C31: ='8Beokul'!B27 -> 0 | D31: =($X31-MOD($X31,10))/10+IF(MOD($X31,10)>0,1,0) -> 0 | E31: =($Y31-MOD($Y31,10))/10+IF(MOD($Y31,10)>0,1,0) -> 0 | F31: =($X31-MOD($X31,10))/10+IF(MOD($X31,10)>1,1,0) -> 0 | G31: =($Y31-MOD($Y31,10))/10+IF(MOD($Y31,10)>1,1,0) -> 0 | H31: =($X31-MOD($X31,10))/10+IF(MOD($X31,10)>2,1,0) -> 0 | I31: =($Y31-MOD($Y31,10))/10+IF(MOD($Y31,10)>2,1,0) -> 0 | J31: =($X31-MOD($X31,10))/10+IF(MOD($X31,10)>3,1,0) -> 0 | K31: =($Y31-MOD($Y31,10))/10+IF(MOD($Y31,10)>3,1,0) -> 0 | L31: =($X31-MOD($X31,10))/10+IF(MOD($X31,10)>4,1,0) -> 0 | M31: =($Y31-MOD($Y31,10))/10+IF(MOD($Y31,10)>4,1,0) -> 0 | N31: =($X31-MOD($X31,10))/10+IF(MOD($X31,10)>5,1,0) -> 0 | O31: =($Y31-MOD($Y31,10))/10+IF(MOD($Y31,10)>5,1,0) -> 0 | P31: =($X31-MOD($X31,10))/10+IF(MOD($X31,10)>6,1,0) -> 0 | Q31: =($Y31-MOD($Y31,10))/10+IF(MOD($Y31,10)>6,1,0) -> 0 | R31: =($X31-MOD($X31,10))/10+IF(MOD($X31,10)>7,1,0) -> 0 | S31: =($Y31-MOD($Y31,10))/10+IF(MOD($Y31,10)>7,1,0) -> 0 | T31: =($X31-MOD($X31,10))/10+IF(MOD($X31,10)>8,1,0) -> 0 | U31: =($Y31-MOD($Y31,10))/10+IF(MOD($Y31,10)>8,1,0) -> 0 | V31: =($X31-MOD($X31,10))/10+IF(MOD($X31,10)>9,1,0) -> 0 | W31: =($Y31-MOD($Y31,10))/10+IF(MOD($Y31,10)>9,1,0) -> 0 | X31: ='8Beokul'!G27 -> 0 | Y31: ='8Beokul'!H27 -> 0
A32: 27 | B32: ='8Beokul'!A28 -> 0 | C32: ='8Beokul'!B28 -> 0 | D32: =($X32-MOD($X32,10))/10+IF(MOD($X32,10)>0,1,0) -> 0 | E32: =($Y32-MOD($Y32,10))/10+IF(MOD($Y32,10)>0,1,0) -> 0 | F32: =($X32-MOD($X32,10))/10+IF(MOD($X32,10)>1,1,0) -> 0 | G32: =($Y32-MOD($Y32,10))/10+IF(MOD($Y32,10)>1,1,0) -> 0 | H32: =($X32-MOD($X32,10))/10+IF(MOD($X32,10)>2,1,0) -> 0 | I32: =($Y32-MOD($Y32,10))/10+IF(MOD($Y32,10)>2,1,0) -> 0 | J32: =($X32-MOD($X32,10))/10+IF(MOD($X32,10)>3,1,0) -> 0 | K32: =($Y32-MOD($Y32,10))/10+IF(MOD($Y32,10)>3,1,0) -> 0 | L32: =($X32-MOD($X32,10))/10+IF(MOD($X32,10)>4,1,0) -> 0 | M32: =($Y32-MOD($Y32,10))/10+IF(MOD($Y32,10)>4,1,0) -> 0 | N32: =($X32-MOD($X32,10))/10+IF(MOD($X32,10)>5,1,0) -> 0 | O32: =($Y32-MOD($Y32,10))/10+IF(MOD($Y32,10)>5,1,0) -> 0 | P32: =($X32-MOD($X32,10))/10+IF(MOD($X32,10)>6,1,0) -> 0 | Q32: =($Y32-MOD($Y32,10))/10+IF(MOD($Y32,10)>6,1,0) -> 0 | R32: =($X32-MOD($X32,10))/10+IF(MOD($X32,10)>7,1,0) -> 0 | S32: =($Y32-MOD($Y32,10))/10+IF(MOD($Y32,10)>7,1,0) -> 0 | T32: =($X32-MOD($X32,10))/10+IF(MOD($X32,10)>8,1,0) -> 0 | U32: =($Y32-MOD($Y32,10))/10+IF(MOD($Y32,10)>8,1,0) -> 0 | V32: =($X32-MOD($X32,10))/10+IF(MOD($X32,10)>9,1,0) -> 0 | W32: =($Y32-MOD($Y32,10))/10+IF(MOD($Y32,10)>9,1,0) -> 0 | X32: ='8Beokul'!G28 -> 0 | Y32: ='8Beokul'!H28 -> 0
A33: 28 | B33: ='8Beokul'!A29 -> 0 | C33: ='8Beokul'!B29 -> 0 | D33: =($X33-MOD($X33,10))/10+IF(MOD($X33,10)>0,1,0) -> 0 | E33: =($Y33-MOD($Y33,10))/10+IF(MOD($Y33,10)>0,1,0) -> 0 | F33: =($X33-MOD($X33,10))/10+IF(MOD($X33,10)>1,1,0) -> 0 | G33: =($Y33-MOD($Y33,10))/10+IF(MOD($Y33,10)>1,1,0) -> 0 | H33: =($X33-MOD($X33,10))/10+IF(MOD($X33,10)>2,1,0) -> 0 | I33: =($Y33-MOD($Y33,10))/10+IF(MOD($Y33,10)>2,1,0) -> 0 | J33: =($X33-MOD($X33,10))/10+IF(MOD($X33,10)>3,1,0) -> 0 | K33: =($Y33-MOD($Y33,10))/10+IF(MOD($Y33,10)>3,1,0) -> 0 | L33: =($X33-MOD($X33,10))/10+IF(MOD($X33,10)>4,1,0) -> 0 | M33: =($Y33-MOD($Y33,10))/10+IF(MOD($Y33,10)>4,1,0) -> 0 | N33: =($X33-MOD($X33,10))/10+IF(MOD($X33,10)>5,1,0) -> 0 | O33: =($Y33-MOD($Y33,10))/10+IF(MOD($Y33,10)>5,1,0) -> 0 | P33: =($X33-MOD($X33,10))/10+IF(MOD($X33,10)>6,1,0) -> 0 | Q33: =($Y33-MOD($Y33,10))/10+IF(MOD($Y33,10)>6,1,0) -> 0 | R33: =($X33-MOD($X33,10))/10+IF(MOD($X33,10)>7,1,0) -> 0 | S33: =($Y33-MOD($Y33,10))/10+IF(MOD($Y33,10)>7,1,0) -> 0 | T33: =($X33-MOD($X33,10))/10+IF(MOD($X33,10)>8,1,0) -> 0 | U33: =($Y33-MOD($Y33,10))/10+IF(MOD($Y33,10)>8,1,0) -> 0 | V33: =($X33-MOD($X33,10))/10+IF(MOD($X33,10)>9,1,0) -> 0 | W33: =($Y33-MOD($Y33,10))/10+IF(MOD($Y33,10)>9,1,0) -> 0 | X33: ='8Beokul'!G29 -> 0 | Y33: ='8Beokul'!H29 -> 0
A34: 29 | B34: ='8Beokul'!A30 -> 0 | C34: ='8Beokul'!B30 -> 0 | D34: =($X34-MOD($X34,10))/10+IF(MOD($X34,10)>0,1,0) -> 0 | E34: =($Y34-MOD($Y34,10))/10+IF(MOD($Y34,10)>0,1,0) -> 0 | F34: =($X34-MOD($X34,10))/10+IF(MOD($X34,10)>1,1,0) -> 0 | G34: =($Y34-MOD($Y34,10))/10+IF(MOD($Y34,10)>1,1,0) -> 0 | H34: =($X34-MOD($X34,10))/10+IF(MOD($X34,10)>2,1,0) -> 0 | I34: =($Y34-MOD($Y34,10))/10+IF(MOD($Y34,10)>2,1,0) -> 0 | J34: =($X34-MOD($X34,10))/10+IF(MOD($X34,10)>3,1,0) -> 0 | K34: =($Y34-MOD($Y34,10))/10+IF(MOD($Y34,10)>3,1,0) -> 0 | L34: =($X34-MOD($X34,10))/10+IF(MOD($X34,10)>4,1,0) -> 0 | M34: =($Y34-MOD($Y34,10))/10+IF(MOD($Y34,10)>4,1,0) -> 0 | N34: =($X34-MOD($X34,10))/10+IF(MOD($X34,10)>5,1,0) -> 0 | O34: =($Y34-MOD($Y34,10))/10+IF(MOD($Y34,10)>5,1,0) -> 0 | P34: =($X34-MOD($X34,10))/10+IF(MOD($X34,10)>6,1,0) -> 0 | Q34: =($Y34-MOD($Y34,10))/10+IF(MOD($Y34,10)>6,1,0) -> 0 | R34: =($X34-MOD($X34,10))/10+IF(MOD($X34,10)>7,1,0) -> 0 | S34: =($Y34-MOD($Y34,10))/10+IF(MOD($Y34,10)>7,1,0) -> 0 | T34: =($X34-MOD($X34,10))/10+IF(MOD($X34,10)>8,1,0) -> 0 | U34: =($Y34-MOD($Y34,10))/10+IF(MOD($Y34,10)>8,1,0) -> 0 | V34: =($X34-MOD($X34,10))/10+IF(MOD($X34,10)>9,1,0) -> 0 | W34: =($Y34-MOD($Y34,10))/10+IF(MOD($Y34,10)>9,1,0) -> 0 | X34: ='8Beokul'!G30 -> 0 | Y34: ='8Beokul'!H30 -> 0
A35: 30 | B35: ='8Beokul'!A31 -> 0 | C35: ='8Beokul'!B31 -> 0 | D35: =($X35-MOD($X35,10))/10+IF(MOD($X35,10)>0,1,0) -> 0 | E35: =($Y35-MOD($Y35,10))/10+IF(MOD($Y35,10)>0,1,0) -> 0 | F35: =($X35-MOD($X35,10))/10+IF(MOD($X35,10)>1,1,0) -> 0 | G35: =($Y35-MOD($Y35,10))/10+IF(MOD($Y35,10)>1,1,0) -> 0 | H35: =($X35-MOD($X35,10))/10+IF(MOD($X35,10)>2,1,0) -> 0 | I35: =($Y35-MOD($Y35,10))/10+IF(MOD($Y35,10)>2,1,0) -> 0 | J35: =($X35-MOD($X35,10))/10+IF(MOD($X35,10)>3,1,0) -> 0 | K35: =($Y35-MOD($Y35,10))/10+IF(MOD($Y35,10)>3,1,0) -> 0 | L35: =($X35-MOD($X35,10))/10+IF(MOD($X35,10)>4,1,0) -> 0 | M35: =($Y35-MOD($Y35,10))/10+IF(MOD($Y35,10)>4,1,0) -> 0 | N35: =($X35-MOD($X35,10))/10+IF(MOD($X35,10)>5,1,0) -> 0 | O35: =($Y35-MOD($Y35,10))/10+IF(MOD($Y35,10)>5,1,0) -> 0 | P35: =($X35-MOD($X35,10))/10+IF(MOD($X35,10)>6,1,0) -> 0 | Q35: =($Y35-MOD($Y35,10))/10+IF(MOD($Y35,10)>6,1,0) -> 0 | R35: =($X35-MOD($X35,10))/10+IF(MOD($X35,10)>7,1,0) -> 0 | S35: =($Y35-MOD($Y35,10))/10+IF(MOD($Y35,10)>7,1,0) -> 0 | T35: =($X35-MOD($X35,10))/10+IF(MOD($X35,10)>8,1,0) -> 0 | U35: =($Y35-MOD($Y35,10))/10+IF(MOD($Y35,10)>8,1,0) -> 0 | V35: =($X35-MOD($X35,10))/10+IF(MOD($X35,10)>9,1,0) -> 0 | W35: =($Y35-MOD($Y35,10))/10+IF(MOD($Y35,10)>9,1,0) -> 0 | X35: ='8Beokul'!G31 -> 0 | Y35: ='8Beokul'!H31 -> 0
A36: 31 | B36: ='8Beokul'!A32 -> 0 | C36: ='8Beokul'!B32 -> 0 | D36: =($X36-MOD($X36,10))/10+IF(MOD($X36,10)>0,1,0) -> 0 | E36: =($Y36-MOD($Y36,10))/10+IF(MOD($Y36,10)>0,1,0) -> 0 | F36: =($X36-MOD($X36,10))/10+IF(MOD($X36,10)>1,1,0) -> 0 | G36: =($Y36-MOD($Y36,10))/10+IF(MOD($Y36,10)>1,1,0) -> 0 | H36: =($X36-MOD($X36,10))/10+IF(MOD($X36,10)>2,1,0) -> 0 | I36: =($Y36-MOD($Y36,10))/10+IF(MOD($Y36,10)>2,1,0) -> 0 | J36: =($X36-MOD($X36,10))/10+IF(MOD($X36,10)>3,1,0) -> 0 | K36: =($Y36-MOD($Y36,10))/10+IF(MOD($Y36,10)>3,1,0) -> 0 | L36: =($X36-MOD($X36,10))/10+IF(MOD($X36,10)>4,1,0) -> 0 | M36: =($Y36-MOD($Y36,10))/10+IF(MOD($Y36,10)>4,1,0) -> 0 | N36: =($X36-MOD($X36,10))/10+IF(MOD($X36,10)>5,1,0) -> 0 | O36: =($Y36-MOD($Y36,10))/10+IF(MOD($Y36,10)>5,1,0) -> 0 | P36: =($X36-MOD($X36,10))/10+IF(MOD($X36,10)>6,1,0) -> 0 | Q36: =($Y36-MOD($Y36,10))/10+IF(MOD($Y36,10)>6,1,0) -> 0 | R36: =($X36-MOD($X36,10))/10+IF(MOD($X36,10)>7,1,0) -> 0 | S36: =($Y36-MOD($Y36,10))/10+IF(MOD($Y36,10)>7,1,0) -> 0 | T36: =($X36-MOD($X36,10))/10+IF(MOD($X36,10)>8,1,0) -> 0 | U36: =($Y36-MOD($Y36,10))/10+IF(MOD($Y36,10)>8,1,0) -> 0 | V36: =($X36-MOD($X36,10))/10+IF(MOD($X36,10)>9,1,0) -> 0 | W36: =($Y36-MOD($Y36,10))/10+IF(MOD($Y36,10)>9,1,0) -> 0 | X36: ='8Beokul'!G32 -> 0 | Y36: ='8Beokul'!H32 -> 0
... A39: 34 | B39: ='8Beokul'!A35 -> 0 | C39: ='8Beokul'!B35 -> 0 | D39: =($X39-MOD($X39,10))/10+IF(MOD($X39,10)>0,1,0) -> 0 | E39: =($Y39-MOD($Y39,10))/10+IF(MOD($Y39,10)>0,1,0) -> 0 | F39: =($X39-MOD($X39,10))/10+IF(MOD($X39,10)>1,1,0) -> 0 | G39: =($Y39-MOD($Y39,10))/10+IF(MOD($Y39,10)>1,1,0) -> 0 | H39: =($X39-MOD($X39,10))/10+IF(MOD($X39,10)>2,1,0) -> 0 | I39: =($Y39-MOD($Y39,10))/10+IF(MOD($Y39,10)>2,1,0) -> 0 | J39: =($X39-MOD($X39,10))/10+IF(MOD($X39,10)>3,1,0) -> 0 | K39: =($Y39-MOD($Y39,10))/10+IF(MOD($Y39,10)>3,1,0) -> 0 | L39: =($X39-MOD($X39,10))/10+IF(MOD($X39,10)>4,1,0) -> 0 | M39: =($Y39-MOD($Y39,10))/10+IF(MOD($Y39,10)>4,1,0) -> 0 | N39: =($X39-MOD($X39,10))/10+IF(MOD($X39,10)>5,1,0) -> 0 | O39: =($Y39-MOD($Y39,10))/10+IF(MOD($Y39,10)>5,1,0) -> 0 | P39: =($X39-MOD($X39,10))/10+IF(MOD($X39,10)>6,1,0) -> 0 | Q39: =($Y39-MOD($Y39,10))/10+IF(MOD($Y39,10)>6,1,0) -> 0 | R39: =($X39-MOD($X39,10))/10+IF(MOD($X39,10)>7,1,0) -> 0 | S39: =($Y39-MOD($Y39,10))/10+IF(MOD($Y39,10)>7,1,0) -> 0 | T39: =($X39-MOD($X39,10))/10+IF(MOD($X39,10)>8,1,0) -> 0 | U39: =($Y39-MOD($Y39,10))/10+IF(MOD($Y39,10)>8,1,0) -> 0 | V39: =($X39-MOD($X39,10))/10+IF(MOD($X39,10)>9,1,0) -> 0 | W39: =($Y39-MOD($Y39,10))/10+IF(MOD($Y39,10)>9,1,0) -> 0 | X39: ='8Beokul'!G35 -> 0 | Y39: ='8Beokul'!H35 -> 0
A40: 35 | B40: ='8Beokul'!A36 -> 0 | C40: ='8Beokul'!B36 -> 0 | D40: =($X40-MOD($X40,10))/10+IF(MOD($X40,10)>0,1,0) -> 0 | E40: =($Y40-MOD($Y40,10))/10+IF(MOD($Y40,10)>0,1,0) -> 0 | F40: =($X40-MOD($X40,10))/10+IF(MOD($X40,10)>1,1,0) -> 0 | G40: =($Y40-MOD($Y40,10))/10+IF(MOD($Y40,10)>1,1,0) -> 0 | H40: =($X40-MOD($X40,10))/10+IF(MOD($X40,10)>2,1,0) -> 0 | I40: =($Y40-MOD($Y40,10))/10+IF(MOD($Y40,10)>2,1,0) -> 0 | J40: =($X40-MOD($X40,10))/10+IF(MOD($X40,10)>3,1,0) -> 0 | K40: =($Y40-MOD($Y40,10))/10+IF(MOD($Y40,10)>3,1,0) -> 0 | L40: =($X40-MOD($X40,10))/10+IF(MOD($X40,10)>4,1,0) -> 0 | M40: =($Y40-MOD($Y40,10))/10+IF(MOD($Y40,10)>4,1,0) -> 0 | N40: =($X40-MOD($X40,10))/10+IF(MOD($X40,10)>5,1,0) -> 0 | O40: =($Y40-MOD($Y40,10))/10+IF(MOD($Y40,10)>5,1,0) -> 0 | P40: =($X40-MOD($X40,10))/10+IF(MOD($X40,10)>6,1,0) -> 0 | Q40: =($Y40-MOD($Y40,10))/10+IF(MOD($Y40,10)>6,1,0) -> 0 | R40: =($X40-MOD($X40,10))/10+IF(MOD($X40,10)>7,1,0) -> 0 | S40: =($Y40-MOD($Y40,10))/10+IF(MOD($Y40,10)>7,1,0) -> 0 | T40: =($X40-MOD($X40,10))/10+IF(MOD($X40,10)>8,1,0) -> 0 | U40: =($Y40-MOD($Y40,10))/10+IF(MOD($Y40,10)>8,1,0) -> 0 | V40: =($X40-MOD($X40,10))/10+IF(MOD($X40,10)>9,1,0) -> 0 | W40: =($Y40-MOD($Y40,10))/10+IF(MOD($Y40,10)>9,1,0) -> 0 | X40: ='8Beokul'!G36 -> 0 | Y40: ='8Beokul'!H36 -> 0 | Z40: 100 | AA40: 10 | AB40: 10 | AC40: 10 | AD40: 10 | AE40: 5 | AF40: 5 | AG40: 15 | AH40: 15 | AI40: 10 | AJ40: 10 | AK40: 100
AA41: 10 | AB41: 10 | AC41: 10 | AD41: 10 | AE41: 5 | AF41: 5 | AG41: 15 | AH41: 15 | AI41: 10 | AJ41: 10 | AK41: 100

Sheet 8A
A1: =önbilgi!B5 -> 2019-2020 1. DÖNEM | D1: ÖLÇÜTLER
A2: =CONCATENATE(önbilgi!B4," ",'8Aeokul'!N1," SINIFI ",önbilgi!B2," ","DERSİ DERS İÇİ ETKİNLİKLERE KATILIM PUANLAMA ÖLÇEĞİ") -> 8A SINIFI …………………………. DERSİ DERS İÇİ ETKİNLİKLERE KATILIM PUANLAMA ÖLÇEĞİ | D2: Derse hazırlıklı gelir. | F2: Derste kurallara uyar, dersin düzenini bozmaz. | H2: Ders araç gerekçlerini düzenli getirir. | J2: Okula geç kalma, devamsızlık alışkanlığının takibi | L2: Konu ile ilgili görüşlerini açıkça ifade eder | N2: Disiplin ve disiplin cezası durumu | P2: Yeni, özgün ve eleştirel sorular sorar. | R2: Öğrencinin kılık kıyafet durumu | T2: Okul ve ders etkinliklerine aktif katılım yapar. | V2: Öğretmene arkadaşlarına, çevreye saygı duyma | X2: TOPLAM
A3: ÖĞRENCİLER | D3: PUANLAR
A4: SIRA | B4: NO | C4: ADI SOYADI | D4: 10 | F4: 10 | H4: 10 | J4: 10 | L4: 10 | N4: 10 | P4: 10 | R4: 10 | T4: 10 | V4: 10 | X4: =SUM(D4:W4) -> 100 | Y4: 100 | Z4: =SUM(F4:X4) -> 190 | AB4: =SUM(G4:Z4) -> 470 | AD4: =SUM(H4:AB4) -> 940 | AF4: =SUM(J4:AD4) -> 1870 | AH4: =SUM(K4:AF4) -> 3730 | AJ4: =SUM(L4:AH4) -> 7460 | AL4: 100
D5: I. | E5: II. | F5: I. | G5: II. | H5: I. | I5: II. | J5: I. | K5: II. | L5: I. | M5: II. | N5: I. | O5: II. | P5: I. | Q5: II. | R5: I. | S5: II. | T5: I. | U5: II. | V5: I. | W5: II. | X5: I. | Y5: II. | Z5: II. | AA5: II. | AB5: II. | AC5: II. | AD5: II. | AE5: II. | AF5: II. | AG5: II. | AH5: II. | AI5: II. | AJ5: II. | AK5: II. | AL5: II.
A6: 1 | B6: ='8Aeokul'!A2 -> 0 | C6: ='8Aeokul'!B2 -> 0 | D6: =($X6-MOD($X6,10))/10+IF(MOD($X6,10)>0,1,0) -> 0 | E6: =($Y6-MOD($Y6,10))/10+IF(MOD($Y6,10)>0,1,0) -> 0 | F6: =($X6-MOD($X6,10))/10+IF(MOD($X6,10)>1,1,0) -> 0 | G6: =($Y6-MOD($Y6,10))/10+IF(MOD($Y6,10)>1,1,0) -> 0 | H6: =($X6-MOD($X6,10))/10+IF(MOD($X6,10)>2,1,0) -> 0 | I6: =($Y6-MOD($Y6,10))/10+IF(MOD($Y6,10)>2,1,0) -> 0 | J6: =($X6-MOD($X6,10))/10+IF(MOD($X6,10)>3,1,0) -> 0 | K6: =($Y6-MOD($Y6,10))/10+IF(MOD($Y6,10)>3,1,0) -> 0 | L6: =($X6-MOD($X6,10))/10+IF(MOD($X6,10)>4,1,0) -> 0 | M6: =($Y6-MOD($Y6,10))/10+IF(MOD($Y6,10)>4,1,0) -> 0 | N6: =($X6-MOD($X6,10))/10+IF(MOD($X6,10)>5,1,0) -> 0 | O6: =($Y6-MOD($Y6,10))/10+IF(MOD($Y6,10)>5,1,0) -> 0 | P6: =($X6-MOD($X6,10))/10+IF(MOD($X6,10)>6,1,0) -> 0 | Q6: =($Y6-MOD($Y6,10))/10+IF(MOD($Y6,10)>6,1,0) -> 0 | R6: =($X6-MOD($X6,10))/10+IF(MOD($X6,10)>7,1,0) -> 0 | S6: =($Y6-MOD($Y6,10))/10+IF(MOD($Y6,10)>7,1,0) -> 0 | T6: =($X6-MOD($X6,10))/10+IF(MOD($X6,10)>8,1,0) -> 0 | U6: =($Y6-MOD($Y6,10))/10+IF(MOD($Y6,10)>8,1,0) -> 0 | V6: =($X6-MOD($X6,10))/10+IF(MOD($X6,10)>9,1,0) -> 0 | W6: =($Y6-MOD($Y6,10))/10+IF(MOD($Y6,10)>9,1,0) -> 0 | X6: ='8Aeokul'!G2 -> 0 | Y6: ='8Aeokul'!H2 -> 0 | Z6: ='8Aeokul'!I2 -> 0 | AA6: ='8Aeokul'!J2 -> 0 | AB6: ='8Aeokul'!K2 -> 0 | AC6: ='8Aeokul'!L2 -> 0 | AD6: ='8Aeokul'!M2 -> 0 | AE6: ='8Aeokul'!N2 -> 0 | ... AL6: ='8Aeokul'!U2 -> 0
A7: 2 | B7: ='8Aeokul'!A3 -> 0 | C7: ='8Aeokul'!B3 -> 0 | D7: =($X7-MOD($X7,10))/10+IF(MOD($X7,10)>0,1,0) -> 0 | E7: =($Y7-MOD($Y7,10))/10+IF(MOD($Y7,10)>0,1,0) -> 0 | F7: =($X7-MOD($X7,10))/10+IF(MOD($X7,10)>1,1,0) -> 0 | G7: =($Y7-MOD($Y7,10))/10+IF(MOD($Y7,10)>1,1,0) -> 0 | H7: =($X7-MOD($X7,10))/10+IF(MOD($X7,10)>2,1,0) -> 0 | I7: =($Y7-MOD($Y7,10))/10+IF(MOD($Y7,10)>2,1,0) -> 0 | J7: =($X7-MOD($X7,10))/10+IF(MOD($X7,10)>3,1,0) -> 0 | K7: =($Y7-MOD($Y7,10))/10+IF(MOD($Y7,10)>3,1,0) -> 0 | L7: =($X7-MOD($X7,10))/10+IF(MOD($X7,10)>4,1,0) -> 0 | M7: =($Y7-MOD($Y7,10))/10+IF(MOD($Y7,10)>4,1,0) -> 0 | N7: =($X7-MOD($X7,10))/10+IF(MOD($X7,10)>5,1,0) -> 0 | O7: =($Y7-MOD($Y7,10))/10+IF(MOD($Y7,10)>5,1,0) -> 0 | P7: =($X7-MOD($X7,10))/10+IF(MOD($X7,10)>6,1,0) -> 0 | Q7: =($Y7-MOD($Y7,10))/10+IF(MOD($Y7,10)>6,1,0) -> 0 | R7: =($X7-MOD($X7,10))/10+IF(MOD($X7,10)>7,1,0) -> 0 | S7: =($Y7-MOD($Y7,10))/10+IF(MOD($Y7,10)>7,1,0) -> 0 | T7: =($X7-MOD($X7,10))/10+IF(MOD($X7,10)>8,1,0) -> 0 | U7: =($Y7-MOD($Y7,10))/10+IF(MOD($Y7,10)>8,1,0) -> 0 | V7: =($X7-MOD($X7,10))/10+IF(MOD($X7,10)>9,1,0) -> 0 | W7: =($Y7-MOD($Y7,10))/10+IF(MOD($Y7,10)>9,1,0) -> 0 | X7: ='8Aeokul'!G3 -> 0 | Y7: ='8Aeokul'!H3 -> 0 | Z7: ='8Aeokul'!I3 -> 0 | AA7: ='8Aeokul'!J3 -> 0 | AB7: ='8Aeokul'!K3 -> 0 | AC7: ='8Aeokul'!L3 -> 0 | AD7: ='8Aeokul'!M3 -> 0 | AE7: ='8Aeokul'!N3 -> 0 | ... AL7: ='8Aeokul'!U3 -> 0
A8: 3 | B8: ='8Aeokul'!A4 -> 0 | C8: ='8Aeokul'!B4 -> 0 | D8: =($X8-MOD($X8,10))/10+IF(MOD($X8,10)>0,1,0) -> 0 | E8: =($Y8-MOD($Y8,10))/10+IF(MOD($Y8,10)>0,1,0) -> 0 | F8: =($X8-MOD($X8,10))/10+IF(MOD($X8,10)>1,1,0) -> 0 | G8: =($Y8-MOD($Y8,10))/10+IF(MOD($Y8,10)>1,1,0) -> 0 | H8: =($X8-MOD($X8,10))/10+IF(MOD($X8,10)>2,1,0) -> 0 | I8: =($Y8-MOD($Y8,10))/10+IF(MOD($Y8,10)>2,1,0) -> 0 | J8: =($X8-MOD($X8,10))/10+IF(MOD($X8,10)>3,1,0) -> 0 | K8: =($Y8-MOD($Y8,10))/10+IF(MOD($Y8,10)>3,1,0) -> 0 | L8: =($X8-MOD($X8,10))/10+IF(MOD($X8,10)>4,1,0) -> 0 | M8: =($Y8-MOD($Y8,10))/10+IF(MOD($Y8,10)>4,1,0) -> 0 | N8: =($X8-MOD($X8,10))/10+IF(MOD($X8,10)>5,1,0) -> 0 | O8: =($Y8-MOD($Y8,10))/10+IF(MOD($Y8,10)>5,1,0) -> 0 | P8: =($X8-MOD($X8,10))/10+IF(MOD($X8,10)>6,1,0) -> 0 | Q8: =($Y8-MOD($Y8,10))/10+IF(MOD($Y8,10)>6,1,0) -> 0 | R8: =($X8-MOD($X8,10))/10+IF(MOD($X8,10)>7,1,0) -> 0 | S8: =($Y8-MOD($Y8,10))/10+IF(MOD($Y8,10)>7,1,0) -> 0 | T8: =($X8-MOD($X8,10))/10+IF(MOD($X8,10)>8,1,0) -> 0 | U8: =($Y8-MOD($Y8,10))/10+IF(MOD($Y8,10)>8,1,0) -> 0 | V8: =($X8-MOD($X8,10))/10+IF(MOD($X8,10)>9,1,0) -> 0 | W8: =($Y8-MOD($Y8,10))/10+IF(MOD($Y8,10)>9,1,0) -> 0 | X8: ='8Aeokul'!G4 -> 0 | Y8: ='8Aeokul'!H4 -> 0 | Z8: ='8Aeokul'!I4 -> 0 | AA8: ='8Aeokul'!J4 -> 0 | AB8: ='8Aeokul'!K4 -> 0 | AC8: ='8Aeokul'!L4 -> 0 | AD8: ='8Aeokul'!M4 -> 0 | AE8: ='8Aeokul'!N4 -> 0 | ... AL8: ='8Aeokul'!U4 -> 0
A9: 4 | B9: ='8Aeokul'!A5 -> 0 | C9: ='8Aeokul'!B5 -> 0 | D9: =($X9-MOD($X9,10))/10+IF(MOD($X9,10)>0,1,0) -> 0 | E9: =($Y9-MOD($Y9,10))/10+IF(MOD($Y9,10)>0,1,0) -> 0 | F9: =($X9-MOD($X9,10))/10+IF(MOD($X9,10)>1,1,0) -> 0 | G9: =($Y9-MOD($Y9,10))/10+IF(MOD($Y9,10)>1,1,0) -> 0 | H9: =($X9-MOD($X9,10))/10+IF(MOD($X9,10)>2,1,0) -> 0 | I9: =($Y9-MOD($Y9,10))/10+IF(MOD($Y9,10)>2,1,0) -> 0 | J9: =($X9-MOD($X9,10))/10+IF(MOD($X9,10)>3,1,0) -> 0 | K9: =($Y9-MOD($Y9,10))/10+IF(MOD($Y9,10)>3,1,0) -> 0 | L9: =($X9-MOD($X9,10))/10+IF(MOD($X9,10)>4,1,0) -> 0 | M9: =($Y9-MOD($Y9,10))/10+IF(MOD($Y9,10)>4,1,0) -> 0 | N9: =($X9-MOD($X9,10))/10+IF(MOD($X9,10)>5,1,0) -> 0 | O9: =($Y9-MOD($Y9,10))/10+IF(MOD($Y9,10)>5,1,0) -> 0 | P9: =($X9-MOD($X9,10))/10+IF(MOD($X9,10)>6,1,0) -> 0 | Q9: =($Y9-MOD($Y9,10))/10+IF(MOD($Y9,10)>6,1,0) -> 0 | R9: =($X9-MOD($X9,10))/10+IF(MOD($X9,10)>7,1,0) -> 0 | S9: =($Y9-MOD($Y9,10))/10+IF(MOD($Y9,10)>7,1,0) -> 0 | T9: =($X9-MOD($X9,10))/10+IF(MOD($X9,10)>8,1,0) -> 0 | U9: =($Y9-MOD($Y9,10))/10+IF(MOD($Y9,10)>8,1,0) -> 0 | V9: =($X9-MOD($X9,10))/10+IF(MOD($X9,10)>9,1,0) -> 0 | W9: =($Y9-MOD($Y9,10))/10+IF(MOD($Y9,10)>9,1,0) -> 0 | X9: ='8Aeokul'!G5 -> 0 | Y9: ='8Aeokul'!H5 -> 0 | Z9: ='8Aeokul'!I5 -> 0 | AA9: ='8Aeokul'!J5 -> 0 | AB9: ='8Aeokul'!K5 -> 0 | AC9: ='8Aeokul'!L5 -> 0 | AD9: ='8Aeokul'!M5 -> 0 | AE9: ='8Aeokul'!N5 -> 0 | ... AL9: ='8Aeokul'!U5 -> 0
A10: 5 | B10: ='8Aeokul'!A6 -> 0 | C10: ='8Aeokul'!B6 -> 0 | D10: =($X10-MOD($X10,10))/10+IF(MOD($X10,10)>0,1,0) -> 0 | E10: =($Y10-MOD($Y10,10))/10+IF(MOD($Y10,10)>0,1,0) -> 0 | F10: =($X10-MOD($X10,10))/10+IF(MOD($X10,10)>1,1,0) -> 0 | G10: =($Y10-MOD($Y10,10))/10+IF(MOD($Y10,10)>1,1,0) -> 0 | H10: =($X10-MOD($X10,10))/10+IF(MOD($X10,10)>2,1,0) -> 0 | I10: =($Y10-MOD($Y10,10))/10+IF(MOD($Y10,10)>2,1,0) -> 0 | J10: =($X10-MOD($X10,10))/10+IF(MOD($X10,10)>3,1,0) -> 0 | K10: =($Y10-MOD($Y10,10))/10+IF(MOD($Y10,10)>3,1,0) -> 0 | L10: =($X10-MOD($X10,10))/10+IF(MOD($X10,10)>4,1,0) -> 0 | M10: =($Y10-MOD($Y10,10))/10+IF(MOD($Y10,10)>4,1,0) -> 0 | N10: =($X10-MOD($X10,10))/10+IF(MOD($X10,10)>5,1,0) -> 0 | O10: =($Y10-MOD($Y10,10))/10+IF(MOD($Y10,10)>5,1,0) -> 0 | P10: =($X10-MOD($X10,10))/10+IF(MOD($X10,10)>6,1,0) -> 0 | Q10: =($Y10-MOD($Y10,10))/10+IF(MOD($Y10,10)>6,1,0) -> 0 | R10: =($X10-MOD($X10,10))/10+IF(MOD($X10,10)>7,1,0) -> 0 | S10: =($Y10-MOD($Y10,10))/10+IF(MOD($Y10,10)>7,1,0) -> 0 | T10: =($X10-MOD($X10,10))/10+IF(MOD($X10,10)>8,1,0) -> 0 | U10: =($Y10-MOD($Y10,10))/10+IF(MOD($Y10,10)>8,1,0) -> 0 | V10: =($X10-MOD($X10,10))/10+IF(MOD($X10,10)>9,1,0) -> 0 | W10: =($Y10-MOD($Y10,10))/10+IF(MOD($Y10,10)>9,1,0) -> 0 | X10: ='8Aeokul'!G6 -> 0 | Y10: ='8Aeokul'!H6 -> 0 | Z10: ='8Aeokul'!I6 -> 0 | AA10: ='8Aeokul'!J6 -> 0 | AB10: ='8Aeokul'!K6 -> 0 | AC10: ='8Aeokul'!L6 -> 0 | AD10: ='8Aeokul'!M6 -> 0 | AE10: ='8Aeokul'!N6 -> 0 | ... AL10: ='8Aeokul'!U6 -> 0
A11: 6 | B11: ='8Aeokul'!A7 -> 0 | C11: ='8Aeokul'!B7 -> 0 | D11: =($X11-MOD($X11,10))/10+IF(MOD($X11,10)>0,1,0) -> 0 | E11: =($Y11-MOD($Y11,10))/10+IF(MOD($Y11,10)>0,1,0) -> 0 | F11: =($X11-MOD($X11,10))/10+IF(MOD($X11,10)>1,1,0) -> 0 | G11: =($Y11-MOD($Y11,10))/10+IF(MOD($Y11,10)>1,1,0) -> 0 | H11: =($X11-MOD($X11,10))/10+IF(MOD($X11,10)>2,1,0) -> 0 | I11: =($Y11-MOD($Y11,10))/10+IF(MOD($Y11,10)>2,1,0) -> 0 | J11: =($X11-MOD($X11,10))/10+IF(MOD($X11,10)>3,1,0) -> 0 | K11: =($Y11-MOD($Y11,10))/10+IF(MOD($Y11,10)>3,1,0) -> 0 | L11: =($X11-MOD($X11,10))/10+IF(MOD($X11,10)>4,1,0) -> 0 | M11: =($Y11-MOD($Y11,10))/10+IF(MOD($Y11,10)>4,1,0) -> 0 | N11: =($X11-MOD($X11,10))/10+IF(MOD($X11,10)>5,1,0) -> 0 | O11: =($Y11-MOD($Y11,10))/10+IF(MOD($Y11,10)>5,1,0) -> 0 | P11: =($X11-MOD($X11,10))/10+IF(MOD($X11,10)>6,1,0) -> 0 | Q11: =($Y11-MOD($Y11,10))/10+IF(MOD($Y11,10)>6,1,0) -> 0 | R11: =($X11-MOD($X11,10))/10+IF(MOD($X11,10)>7,1,0) -> 0 | S11: =($Y11-MOD($Y11,10))/10+IF(MOD($Y11,10)>7,1,0) -> 0 | T11: =($X11-MOD($X11,10))/10+IF(MOD($X11,10)>8,1,0) -> 0 | U11: =($Y11-MOD($Y11,10))/10+IF(MOD($Y11,10)>8,1,0) -> 0 | V11: =($X11-MOD($X11,10))/10+IF(MOD($X11,10)>9,1,0) -> 0 | W11: =($Y11-MOD($Y11,10))/10+IF(MOD($Y11,10)>9,1,0) -> 0 | X11: ='8Aeokul'!G7 -> 0 | Y11: ='8Aeokul'!H7 -> 0 | Z11: ='8Aeokul'!I7 -> 0 | AA11: ='8Aeokul'!J7 -> 0 | AB11: ='8Aeokul'!K7 -> 0 | AC11: ='8Aeokul'!L7 -> 0 | AD11: ='8Aeokul'!M7 -> 0 | AE11: ='8Aeokul'!N7 -> 0 | ... AL11: ='8Aeokul'!U7 -> 0
A12: 7 | B12: ='8Aeokul'!A8 -> 0 | C12: ='8Aeokul'!B8 -> 0 | D12: =($X12-MOD($X12,10))/10+IF(MOD($X12,10)>0,1,0) -> 0 | E12: =($Y12-MOD($Y12,10))/10+IF(MOD($Y12,10)>0,1,0) -> 0 | F12: =($X12-MOD($X12,10))/10+IF(MOD($X12,10)>1,1,0) -> 0 | G12: =($Y12-MOD($Y12,10))/10+IF(MOD($Y12,10)>1,1,0) -> 0 | H12: =($X12-MOD($X12,10))/10+IF(MOD($X12,10)>2,1,0) -> 0 | I12: =($Y12-MOD($Y12,10))/10+IF(MOD($Y12,10)>2,1,0) -> 0 | J12: =($X12-MOD($X12,10))/10+IF(MOD($X12,10)>3,1,0) -> 0 | K12: =($Y12-MOD($Y12,10))/10+IF(MOD($Y12,10)>3,1,0) -> 0 | L12: =($X12-MOD($X12,10))/10+IF(MOD($X12,10)>4,1,0) -> 0 | M12: =($Y12-MOD($Y12,10))/10+IF(MOD($Y12,10)>4,1,0) -> 0 | N12: =($X12-MOD($X12,10))/10+IF(MOD($X12,10)>5,1,0) -> 0 | O12: =($Y12-MOD($Y12,10))/10+IF(MOD($Y12,10)>5,1,0) -> 0 | P12: =($X12-MOD($X12,10))/10+IF(MOD($X12,10)>6,1,0) -> 0 | Q12: =($Y12-MOD($Y12,10))/10+IF(MOD($Y12,10)>6,1,0) -> 0 | R12: =($X12-MOD($X12,10))/10+IF(MOD($X12,10)>7,1,0) -> 0 | S12: =($Y12-MOD($Y12,10))/10+IF(MOD($Y12,10)>7,1,0) -> 0 | T12: =($X12-MOD($X12,10))/10+IF(MOD($X12,10)>8,1,0) -> 0 | U12: =($Y12-MOD($Y12,10))/10+IF(MOD($Y12,10)>8,1,0) -> 0 | V12: =($X12-MOD($X12,10))/10+IF(MOD($X12,10)>9,1,0) -> 0 | W12: =($Y12-MOD($Y12,10))/10+IF(MOD($Y12,10)>9,1,0) -> 0 | X12: ='8Aeokul'!G8 -> 0 | Y12: ='8Aeokul'!H8 -> 0 | Z12: ='8Aeokul'!I8 -> 0 | AA12: ='8Aeokul'!J8 -> 0 | AB12: ='8Aeokul'!K8 -> 0 | AC12: ='8Aeokul'!L8 -> 0 | AD12: ='8Aeokul'!M8 -> 0 | AE12: ='8Aeokul'!N8 -> 0 | ... AL12: ='8Aeokul'!U8 -> 0
A13: 8 | B13: ='8Aeokul'!A9 -> 0 | C13: ='8Aeokul'!B9 -> 0 | D13: =($X13-MOD($X13,10))/10+IF(MOD($X13,10)>0,1,0) -> 0 | E13: =($Y13-MOD($Y13,10))/10+IF(MOD($Y13,10)>0,1,0) -> 0 | F13: =($X13-MOD($X13,10))/10+IF(MOD($X13,10)>1,1,0) -> 0 | G13: =($Y13-MOD($Y13,10))/10+IF(MOD($Y13,10)>1,1,0) -> 0 | H13: =($X13-MOD($X13,10))/10+IF(MOD($X13,10)>2,1,0) -> 0 | I13: =($Y13-MOD($Y13,10))/10+IF(MOD($Y13,10)>2,1,0) -> 0 | J13: =($X13-MOD($X13,10))/10+IF(MOD($X13,10)>3,1,0) -> 0 | K13: =($Y13-MOD($Y13,10))/10+IF(MOD($Y13,10)>3,1,0) -> 0 | L13: =($X13-MOD($X13,10))/10+IF(MOD($X13,10)>4,1,0) -> 0 | M13: =($Y13-MOD($Y13,10))/10+IF(MOD($Y13,10)>4,1,0) -> 0 | N13: =($X13-MOD($X13,10))/10+IF(MOD($X13,10)>5,1,0) -> 0 | O13: =($Y13-MOD($Y13,10))/10+IF(MOD($Y13,10)>5,1,0) -> 0 | P13: =($X13-MOD($X13,10))/10+IF(MOD($X13,10)>6,1,0) -> 0 | Q13: =($Y13-MOD($Y13,10))/10+IF(MOD($Y13,10)>6,1,0) -> 0 | R13: =($X13-MOD($X13,10))/10+IF(MOD($X13,10)>7,1,0) -> 0 | S13: =($Y13-MOD($Y13,10))/10+IF(MOD($Y13,10)>7,1,0) -> 0 | T13: =($X13-MOD($X13,10))/10+IF(MOD($X13,10)>8,1,0) -> 0 | U13: =($Y13-MOD($Y13,10))/10+IF(MOD($Y13,10)>8,1,0) -> 0 | V13: =($X13-MOD($X13,10))/10+IF(MOD($X13,10)>9,1,0) -> 0 | W13: =($Y13-MOD($Y13,10))/10+IF(MOD($Y13,10)>9,1,0) -> 0 | X13: ='8Aeokul'!G9 -> 0 | Y13: ='8Aeokul'!H9 -> 0 | Z13: ='8Aeokul'!I9 -> 0 | AA13: ='8Aeokul'!J9 -> 0 | AB13: ='8Aeokul'!K9 -> 0 | AC13: ='8Aeokul'!L9 -> 0 | AD13: ='8Aeokul'!M9 -> 0 | AE13: ='8Aeokul'!N9 -> 0 | ... AL13: ='8Aeokul'!U9 -> 0
A14: 9 | B14: ='8Aeokul'!A10 -> 0 | C14: ='8Aeokul'!B10 -> 0 | D14: =($X14-MOD($X14,10))/10+IF(MOD($X14,10)>0,1,0) -> 0 | E14: =($Y14-MOD($Y14,10))/10+IF(MOD($Y14,10)>0,1,0) -> 0 | F14: =($X14-MOD($X14,10))/10+IF(MOD($X14,10)>1,1,0) -> 0 | G14: =($Y14-MOD($Y14,10))/10+IF(MOD($Y14,10)>1,1,0) -> 0 | H14: =($X14-MOD($X14,10))/10+IF(MOD($X14,10)>2,1,0) -> 0 | I14: =($Y14-MOD($Y14,10))/10+IF(MOD($Y14,10)>2,1,0) -> 0 | J14: =($X14-MOD($X14,10))/10+IF(MOD($X14,10)>3,1,0) -> 0 | K14: =($Y14-MOD($Y14,10))/10+IF(MOD($Y14,10)>3,1,0) -> 0 | L14: =($X14-MOD($X14,10))/10+IF(MOD($X14,10)>4,1,0) -> 0 | M14: =($Y14-MOD($Y14,10))/10+IF(MOD($Y14,10)>4,1,0) -> 0 | N14: =($X14-MOD($X14,10))/10+IF(MOD($X14,10)>5,1,0) -> 0 | O14: =($Y14-MOD($Y14,10))/10+IF(MOD($Y14,10)>5,1,0) -> 0 | P14: =($X14-MOD($X14,10))/10+IF(MOD($X14,10)>6,1,0) -> 0 | Q14: =($Y14-MOD($Y14,10))/10+IF(MOD($Y14,10)>6,1,0) -> 0 | R14: =($X14-MOD($X14,10))/10+IF(MOD($X14,10)>7,1,0) -> 0 | S14: =($Y14-MOD($Y14,10))/10+IF(MOD($Y14,10)>7,1,0) -> 0 | T14: =($X14-MOD($X14,10))/10+IF(MOD($X14,10)>8,1,0) -> 0 | U14: =($Y14-MOD($Y14,10))/10+IF(MOD($Y14,10)>8,1,0) -> 0 | V14: =($X14-MOD($X14,10))/10+IF(MOD($X14,10)>9,1,0) -> 0 | W14: =($Y14-MOD($Y14,10))/10+IF(MOD($Y14,10)>9,1,0) -> 0 | X14: ='8Aeokul'!G10 -> 0 | Y14: ='8Aeokul'!H10 -> 0 | Z14: ='8Aeokul'!I10 -> 0 | AA14: ='8Aeokul'!J10 -> 0 | AB14: ='8Aeokul'!K10 -> 0 | AC14: ='8Aeokul'!L10 -> 0 | AD14: ='8Aeokul'!M10 -> 0 | AE14: ='8Aeokul'!N10 -> 0 | ... AL14: ='8Aeokul'!U10 -> 0
A15: 10 | B15: ='8Aeokul'!A11 -> 0 | C15: ='8Aeokul'!B11 -> 0 | D15: =($X15-MOD($X15,10))/10+IF(MOD($X15,10)>0,1,0) -> 0 | E15: =($Y15-MOD($Y15,10))/10+IF(MOD($Y15,10)>0,1,0) -> 0 | F15: =($X15-MOD($X15,10))/10+IF(MOD($X15,10)>1,1,0) -> 0 | G15: =($Y15-MOD($Y15,10))/10+IF(MOD($Y15,10)>1,1,0) -> 0 | H15: =($X15-MOD($X15,10))/10+IF(MOD($X15,10)>2,1,0) -> 0 | I15: =($Y15-MOD($Y15,10))/10+IF(MOD($Y15,10)>2,1,0) -> 0 | J15: =($X15-MOD($X15,10))/10+IF(MOD($X15,10)>3,1,0) -> 0 | K15: =($Y15-MOD($Y15,10))/10+IF(MOD($Y15,10)>3,1,0) -> 0 | L15: =($X15-MOD($X15,10))/10+IF(MOD($X15,10)>4,1,0) -> 0 | M15: =($Y15-MOD($Y15,10))/10+IF(MOD($Y15,10)>4,1,0) -> 0 | N15: =($X15-MOD($X15,10))/10+IF(MOD($X15,10)>5,1,0) -> 0 | O15: =($Y15-MOD($Y15,10))/10+IF(MOD($Y15,10)>5,1,0) -> 0 | P15: =($X15-MOD($X15,10))/10+IF(MOD($X15,10)>6,1,0) -> 0 | Q15: =($Y15-MOD($Y15,10))/10+IF(MOD($Y15,10)>6,1,0) -> 0 | R15: =($X15-MOD($X15,10))/10+IF(MOD($X15,10)>7,1,0) -> 0 | S15: =($Y15-MOD($Y15,10))/10+IF(MOD($Y15,10)>7,1,0) -> 0 | T15: =($X15-MOD($X15,10))/10+IF(MOD($X15,10)>8,1,0) -> 0 | U15: =($Y15-MOD($Y15,10))/10+IF(MOD($Y15,10)>8,1,0) -> 0 | V15: =($X15-MOD($X15,10))/10+IF(MOD($X15,10)>9,1,0) -> 0 | W15: =($Y15-MOD($Y15,10))/10+IF(MOD($Y15,10)>9,1,0) -> 0 | X15: ='8Aeokul'!G11 -> 0 | Y15: ='8Aeokul'!H11 -> 0 | Z15: ='8Aeokul'!I11 -> 0 | AA15: ='8Aeokul'!J11 -> 0 | AB15: ='8Aeokul'!K11 -> 0 | AC15: ='8Aeokul'!L11 -> 0 | AD15: ='8Aeokul'!M11 -> 0 | AE15: ='8Aeokul'!N11 -> 0 | ... AL15: ='8Aeokul'!U11 -> 0
A16: 11 | B16: ='8Aeokul'!A12 -> 0 | C16: ='8Aeokul'!B12 -> 0 | D16: =($X16-MOD($X16,10))/10+IF(MOD($X16,10)>0,1,0) -> 0 | E16: =($Y16-MOD($Y16,10))/10+IF(MOD($Y16,10)>0,1,0) -> 0 | F16: =($X16-MOD($X16,10))/10+IF(MOD($X16,10)>1,1,0) -> 0 | G16: =($Y16-MOD($Y16,10))/10+IF(MOD($Y16,10)>1,1,0) -> 0 | H16: =($X16-MOD($X16,10))/10+IF(MOD($X16,10)>2,1,0) -> 0 | I16: =($Y16-MOD($Y16,10))/10+IF(MOD($Y16,10)>2,1,0) -> 0 | J16: =($X16-MOD($X16,10))/10+IF(MOD($X16,10)>3,1,0) -> 0 | K16: =($Y16-MOD($Y16,10))/10+IF(MOD($Y16,10)>3,1,0) -> 0 | L16: =($X16-MOD($X16,10))/10+IF(MOD($X16,10)>4,1,0) -> 0 | M16: =($Y16-MOD($Y16,10))/10+IF(MOD($Y16,10)>4,1,0) -> 0 | N16: =($X16-MOD($X16,10))/10+IF(MOD($X16,10)>5,1,0) -> 0 | O16: =($Y16-MOD($Y16,10))/10+IF(MOD($Y16,10)>5,1,0) -> 0 | P16: =($X16-MOD($X16,10))/10+IF(MOD($X16,10)>6,1,0) -> 0 | Q16: =($Y16-MOD($Y16,10))/10+IF(MOD($Y16,10)>6,1,0) -> 0 | R16: =($X16-MOD($X16,10))/10+IF(MOD($X16,10)>7,1,0) -> 0 | S16: =($Y16-MOD($Y16,10))/10+IF(MOD($Y16,10)>7,1,0) -> 0 | T16: =($X16-MOD($X16,10))/10+IF(MOD($X16,10)>8,1,0) -> 0 | U16: =($Y16-MOD($Y16,10))/10+IF(MOD($Y16,10)>8,1,0) -> 0 | V16: =($X16-MOD($X16,10))/10+IF(MOD($X16,10)>9,1,0) -> 0 | W16: =($Y16-MOD($Y16,10))/10+IF(MOD($Y16,10)>9,1,0) -> 0 | X16: ='8Aeokul'!G12 -> 0 | Y16: ='8Aeokul'!H12 -> 0 | Z16: ='8Aeokul'!I12 -> 0 | AA16: ='8Aeokul'!J12 -> 0 | AB16: ='8Aeokul'!K12 -> 0 | AC16: ='8Aeokul'!L12 -> 0 | AD16: ='8Aeokul'!M12 -> 0 | AE16: ='8Aeokul'!N12 -> 0 | ... AL16: ='8Aeokul'!U12 -> 0
A17: 12 | B17: ='8Aeokul'!A13 -> 0 | C17: ='8Aeokul'!B13 -> 0 | D17: =($X17-MOD($X17,10))/10+IF(MOD($X17,10)>0,1,0) -> 0 | E17: =($Y17-MOD($Y17,10))/10+IF(MOD($Y17,10)>0,1,0) -> 0 | F17: =($X17-MOD($X17,10))/10+IF(MOD($X17,10)>1,1,0) -> 0 | G17: =($Y17-MOD($Y17,10))/10+IF(MOD($Y17,10)>1,1,0) -> 0 | H17: =($X17-MOD($X17,10))/10+IF(MOD($X17,10)>2,1,0) -> 0 | I17: =($Y17-MOD($Y17,10))/10+IF(MOD($Y17,10)>2,1,0) -> 0 | J17: =($X17-MOD($X17,10))/10+IF(MOD($X17,10)>3,1,0) -> 0 | K17: =($Y17-MOD($Y17,10))/10+IF(MOD($Y17,10)>3,1,0) -> 0 | L17: =($X17-MOD($X17,10))/10+IF(MOD($X17,10)>4,1,0) -> 0 | M17: =($Y17-MOD($Y17,10))/10+IF(MOD($Y17,10)>4,1,0) -> 0 | N17: =($X17-MOD($X17,10))/10+IF(MOD($X17,10)>5,1,0) -> 0 | O17: =($Y17-MOD($Y17,10))/10+IF(MOD($Y17,10)>5,1,0) -> 0 | P17: =($X17-MOD($X17,10))/10+IF(MOD($X17,10)>6,1,0) -> 0 | Q17: =($Y17-MOD($Y17,10))/10+IF(MOD($Y17,10)>6,1,0) -> 0 | R17: =($X17-MOD($X17,10))/10+IF(MOD($X17,10)>7,1,0) -> 0 | S17: =($Y17-MOD($Y17,10))/10+IF(MOD($Y17,10)>7,1,0) -> 0 | T17: =($X17-MOD($X17,10))/10+IF(MOD($X17,10)>8,1,0) -> 0 | U17: =($Y17-MOD($Y17,10))/10+IF(MOD($Y17,10)>8,1,0) -> 0 | V17: =($X17-MOD($X17,10))/10+IF(MOD($X17,10)>9,1,0) -> 0 | W17: =($Y17-MOD($Y17,10))/10+IF(MOD($Y17,10)>9,1,0) -> 0 | X17: ='8Aeokul'!G13 -> 0 | Y17: ='8Aeokul'!H13 -> 0 | Z17: ='8Aeokul'!I13 -> 0 | AA17: ='8Aeokul'!J13 -> 0 | AB17: ='8Aeokul'!K13 -> 0 | AC17: ='8Aeokul'!L13 -> 0 | AD17: ='8Aeokul'!M13 -> 0 | AE17: ='8Aeokul'!N13 -> 0 | ... AL17: ='8Aeokul'!U13 -> 0
... A25: 20 | B25: ='8Aeokul'!A21 -> 0 | C25: ='8Aeokul'!B21 -> 0 | D25: =($X25-MOD($X25,10))/10+IF(MOD($X25,10)>0,1,0) -> 0 | E25: =($Y25-MOD($Y25,10))/10+IF(MOD($Y25,10)>0,1,0) -> 0 | F25: =($X25-MOD($X25,10))/10+IF(MOD($X25,10)>1,1,0) -> 0 | G25: =($Y25-MOD($Y25,10))/10+IF(MOD($Y25,10)>1,1,0) -> 0 | H25: =($X25-MOD($X25,10))/10+IF(MOD($X25,10)>2,1,0) -> 0 | I25: =($Y25-MOD($Y25,10))/10+IF(MOD($Y25,10)>2,1,0) -> 0 | J25: =($X25-MOD($X25,10))/10+IF(MOD($X25,10)>3,1,0) -> 0 | K25: =($Y25-MOD($Y25,10))/10+IF(MOD($Y25,10)>3,1,0) -> 0 | L25: =($X25-MOD($X25,10))/10+IF(MOD($X25,10)>4,1,0) -> 0 | M25: =($Y25-MOD($Y25,10))/10+IF(MOD($Y25,10)>4,1,0) -> 0 | N25: =($X25-MOD($X25,10))/10+IF(MOD($X25,10)>5,1,0) -> 0 | O25: =($Y25-MOD($Y25,10))/10+IF(MOD($Y25,10)>5,1,0) -> 0 | P25: =($X25-MOD($X25,10))/10+IF(MOD($X25,10)>6,1,0) -> 0 | Q25: =($Y25-MOD($Y25,10))/10+IF(MOD($Y25,10)>6,1,0) -> 0 | R25: =($X25-MOD($X25,10))/10+IF(MOD($X25,10)>7,1,0) -> 0 | S25: =($Y25-MOD($Y25,10))/10+IF(MOD($Y25,10)>7,1,0) -> 0 | T25: =($X25-MOD($X25,10))/10+IF(MOD($X25,10)>8,1,0) -> 0 | U25: =($Y25-MOD($Y25,10))/10+IF(MOD($Y25,10)>8,1,0) -> 0 | V25: =($X25-MOD($X25,10))/10+IF(MOD($X25,10)>9,1,0) -> 0 | W25: =($Y25-MOD($Y25,10))/10+IF(MOD($Y25,10)>9,1,0) -> 0 | X25: ='8Aeokul'!G21 -> 0 | Y25: ='8Aeokul'!H21 -> 0 | Z25: ='8Aeokul'!I21 -> 0 | AA25: ='8Aeokul'!J21 -> 0 | AB25: ='8Aeokul'!K21 -> 0 | AC25: ='8Aeokul'!L21 -> 0 | AD25: ='8Aeokul'!M21 -> 0 | AE25: ='8Aeokul'!N21 -> 0 | ... AL25: ='8Aeokul'!U21 -> 0
A26: 21 | B26: ='8Aeokul'!A22 -> 0 | C26: ='8Aeokul'!B22 -> 0 | D26: =($X26-MOD($X26,10))/10+IF(MOD($X26,10)>0,1,0) -> 0 | E26: =($Y26-MOD($Y26,10))/10+IF(MOD($Y26,10)>0,1,0) -> 0 | F26: =($X26-MOD($X26,10))/10+IF(MOD($X26,10)>1,1,0) -> 0 | G26: =($Y26-MOD($Y26,10))/10+IF(MOD($Y26,10)>1,1,0) -> 0 | H26: =($X26-MOD($X26,10))/10+IF(MOD($X26,10)>2,1,0) -> 0 | I26: =($Y26-MOD($Y26,10))/10+IF(MOD($Y26,10)>2,1,0) -> 0 | J26: =($X26-MOD($X26,10))/10+IF(MOD($X26,10)>3,1,0) -> 0 | K26: =($Y26-MOD($Y26,10))/10+IF(MOD($Y26,10)>3,1,0) -> 0 | L26: =($X26-MOD($X26,10))/10+IF(MOD($X26,10)>4,1,0) -> 0 | M26: =($Y26-MOD($Y26,10))/10+IF(MOD($Y26,10)>4,1,0) -> 0 | N26: =($X26-MOD($X26,10))/10+IF(MOD($X26,10)>5,1,0) -> 0 | O26: =($Y26-MOD($Y26,10))/10+IF(MOD($Y26,10)>5,1,0) -> 0 | P26: =($X26-MOD($X26,10))/10+IF(MOD($X26,10)>6,1,0) -> 0 | Q26: =($Y26-MOD($Y26,10))/10+IF(MOD($Y26,10)>6,1,0) -> 0 | R26: =($X26-MOD($X26,10))/10+IF(MOD($X26,10)>7,1,0) -> 0 | S26: =($Y26-MOD($Y26,10))/10+IF(MOD($Y26,10)>7,1,0) -> 0 | T26: =($X26-MOD($X26,10))/10+IF(MOD($X26,10)>8,1,0) -> 0 | U26: =($Y26-MOD($Y26,10))/10+IF(MOD($Y26,10)>8,1,0) -> 0 | V26: =($X26-MOD($X26,10))/10+IF(MOD($X26,10)>9,1,0) -> 0 | W26: =($Y26-MOD($Y26,10))/10+IF(MOD($Y26,10)>9,1,0) -> 0 | X26: ='8Aeokul'!G22 -> 0 | Y26: ='8Aeokul'!H22 -> 0
A27: 22 | B27: ='8Aeokul'!A23 -> 0 | C27: ='8Aeokul'!B23 -> 0 | D27: =($X27-MOD($X27,10))/10+IF(MOD($X27,10)>0,1,0) -> 0 | E27: =($Y27-MOD($Y27,10))/10+IF(MOD($Y27,10)>0,1,0) -> 0 | F27: =($X27-MOD($X27,10))/10+IF(MOD($X27,10)>1,1,0) -> 0 | G27: =($Y27-MOD($Y27,10))/10+IF(MOD($Y27,10)>1,1,0) -> 0 | H27: =($X27-MOD($X27,10))/10+IF(MOD($X27,10)>2,1,0) -> 0 | I27: =($Y27-MOD($Y27,10))/10+IF(MOD($Y27,10)>2,1,0) -> 0 | J27: =($X27-MOD($X27,10))/10+IF(MOD($X27,10)>3,1,0) -> 0 | K27: =($Y27-MOD($Y27,10))/10+IF(MOD($Y27,10)>3,1,0) -> 0 | L27: =($X27-MOD($X27,10))/10+IF(MOD($X27,10)>4,1,0) -> 0 | M27: =($Y27-MOD($Y27,10))/10+IF(MOD($Y27,10)>4,1,0) -> 0 | N27: =($X27-MOD($X27,10))/10+IF(MOD($X27,10)>5,1,0) -> 0 | O27: =($Y27-MOD($Y27,10))/10+IF(MOD($Y27,10)>5,1,0) -> 0 | P27: =($X27-MOD($X27,10))/10+IF(MOD($X27,10)>6,1,0) -> 0 | Q27: =($Y27-MOD($Y27,10))/10+IF(MOD($Y27,10)>6,1,0) -> 0 | R27: =($X27-MOD($X27,10))/10+IF(MOD($X27,10)>7,1,0) -> 0 | S27: =($Y27-MOD($Y27,10))/10+IF(MOD($Y27,10)>7,1,0) -> 0 | T27: =($X27-MOD($X27,10))/10+IF(MOD($X27,10)>8,1,0) -> 0 | U27: =($Y27-MOD($Y27,10))/10+IF(MOD($Y27,10)>8,1,0) -> 0 | V27: =($X27-MOD($X27,10))/10+IF(MOD($X27,10)>9,1,0) -> 0 | W27: =($Y27-MOD($Y27,10))/10+IF(MOD($Y27,10)>9,1,0) -> 0 | X27: ='8Aeokul'!G23 -> 0 | Y27: ='8Aeokul'!H23 -> 0
A28: 23 | B28: ='8Aeokul'!A24 -> 0 | C28: ='8Aeokul'!B24 -> 0 | D28: =($X28-MOD($X28,10))/10+IF(MOD($X28,10)>0,1,0) -> 0 | E28: =($Y28-MOD($Y28,10))/10+IF(MOD($Y28,10)>0,1,0) -> 0 | F28: =($X28-MOD($X28,10))/10+IF(MOD($X28,10)>1,1,0) -> 0 | G28: =($Y28-MOD($Y28,10))/10+IF(MOD($Y28,10)>1,1,0) -> 0 | H28: =($X28-MOD($X28,10))/10+IF(MOD($X28,10)>2,1,0) -> 0 | I28: =($Y28-MOD($Y28,10))/10+IF(MOD($Y28,10)>2,1,0) -> 0 | J28: =($X28-MOD($X28,10))/10+IF(MOD($X28,10)>3,1,0) -> 0 | K28: =($Y28-MOD($Y28,10))/10+IF(MOD($Y28,10)>3,1,0) -> 0 | L28: =($X28-MOD($X28,10))/10+IF(MOD($X28,10)>4,1,0) -> 0 | M28: =($Y28-MOD($Y28,10))/10+IF(MOD($Y28,10)>4,1,0) -> 0 | N28: =($X28-MOD($X28,10))/10+IF(MOD($X28,10)>5,1,0) -> 0 | O28: =($Y28-MOD($Y28,10))/10+IF(MOD($Y28,10)>5,1,0) -> 0 | P28: =($X28-MOD($X28,10))/10+IF(MOD($X28,10)>6,1,0) -> 0 | Q28: =($Y28-MOD($Y28,10))/10+IF(MOD($Y28,10)>6,1,0) -> 0 | R28: =($X28-MOD($X28,10))/10+IF(MOD($X28,10)>7,1,0) -> 0 | S28: =($Y28-MOD($Y28,10))/10+IF(MOD($Y28,10)>7,1,0) -> 0 | T28: =($X28-MOD($X28,10))/10+IF(MOD($X28,10)>8,1,0) -> 0 | U28: =($Y28-MOD($Y28,10))/10+IF(MOD($Y28,10)>8,1,0) -> 0 | V28: =($X28-MOD($X28,10))/10+IF(MOD($X28,10)>9,1,0) -> 0 | W28: =($Y28-MOD($Y28,10))/10+IF(MOD($Y28,10)>9,1,0) -> 0 | X28: ='8Aeokul'!G24 -> 0 | Y28: ='8Aeokul'!H24 -> 0
A29: 24 | B29: ='8Aeokul'!A25 -> 0 | C29: ='8Aeokul'!B25 -> 0 | D29: =($X29-MOD($X29,10))/10+IF(MOD($X29,10)>0,1,0) -> 0 | E29: =($Y29-MOD($Y29,10))/10+IF(MOD($Y29,10)>0,1,0) -> 0 | F29: =($X29-MOD($X29,10))/10+IF(MOD($X29,10)>1,1,0) -> 0 | G29: =($Y29-MOD($Y29,10))/10+IF(MOD($Y29,10)>1,1,0) -> 0 | H29: =($X29-MOD($X29,10))/10+IF(MOD($X29,10)>2,1,0) -> 0 | I29: =($Y29-MOD($Y29,10))/10+IF(MOD($Y29,10)>2,1,0) -> 0 | J29: =($X29-MOD($X29,10))/10+IF(MOD($X29,10)>3,1,0) -> 0 | K29: =($Y29-MOD($Y29,10))/10+IF(MOD($Y29,10)>3,1,0) -> 0 | L29: =($X29-MOD($X29,10))/10+IF(MOD($X29,10)>4,1,0) -> 0 | M29: =($Y29-MOD($Y29,10))/10+IF(MOD($Y29,10)>4,1,0) -> 0 | N29: =($X29-MOD($X29,10))/10+IF(MOD($X29,10)>5,1,0) -> 0 | O29: =($Y29-MOD($Y29,10))/10+IF(MOD($Y29,10)>5,1,0) -> 0 | P29: =($X29-MOD($X29,10))/10+IF(MOD($X29,10)>6,1,0) -> 0 | Q29: =($Y29-MOD($Y29,10))/10+IF(MOD($Y29,10)>6,1,0) -> 0 | R29: =($X29-MOD($X29,10))/10+IF(MOD($X29,10)>7,1,0) -> 0 | S29: =($Y29-MOD($Y29,10))/10+IF(MOD($Y29,10)>7,1,0) -> 0 | T29: =($X29-MOD($X29,10))/10+IF(MOD($X29,10)>8,1,0) -> 0 | U29: =($Y29-MOD($Y29,10))/10+IF(MOD($Y29,10)>8,1,0) -> 0 | V29: =($X29-MOD($X29,10))/10+IF(MOD($X29,10)>9,1,0) -> 0 | W29: =($Y29-MOD($Y29,10))/10+IF(MOD($Y29,10)>9,1,0) -> 0 | X29: ='8Aeokul'!G25 -> 0 | Y29: ='8Aeokul'!H25 -> 0
A30: 25 | B30: ='8Aeokul'!A26 -> 0 | C30: ='8Aeokul'!B26 -> 0 | D30: =($X30-MOD($X30,10))/10+IF(MOD($X30,10)>0,1,0) -> 0 | E30: =($Y30-MOD($Y30,10))/10+IF(MOD($Y30,10)>0,1,0) -> 0 | F30: =($X30-MOD($X30,10))/10+IF(MOD($X30,10)>1,1,0) -> 0 | G30: =($Y30-MOD($Y30,10))/10+IF(MOD($Y30,10)>1,1,0) -> 0 | H30: =($X30-MOD($X30,10))/10+IF(MOD($X30,10)>2,1,0) -> 0 | I30: =($Y30-MOD($Y30,10))/10+IF(MOD($Y30,10)>2,1,0) -> 0 | J30: =($X30-MOD($X30,10))/10+IF(MOD($X30,10)>3,1,0) -> 0 | K30: =($Y30-MOD($Y30,10))/10+IF(MOD($Y30,10)>3,1,0) -> 0 | L30: =($X30-MOD($X30,10))/10+IF(MOD($X30,10)>4,1,0) -> 0 | M30: =($Y30-MOD($Y30,10))/10+IF(MOD($Y30,10)>4,1,0) -> 0 | N30: =($X30-MOD($X30,10))/10+IF(MOD($X30,10)>5,1,0) -> 0 | O30: =($Y30-MOD($Y30,10))/10+IF(MOD($Y30,10)>5,1,0) -> 0 | P30: =($X30-MOD($X30,10))/10+IF(MOD($X30,10)>6,1,0) -> 0 | Q30: =($Y30-MOD($Y30,10))/10+IF(MOD($Y30,10)>6,1,0) -> 0 | R30: =($X30-MOD($X30,10))/10+IF(MOD($X30,10)>7,1,0) -> 0 | S30: =($Y30-MOD($Y30,10))/10+IF(MOD($Y30,10)>7,1,0) -> 0 | T30: =($X30-MOD($X30,10))/10+IF(MOD($X30,10)>8,1,0) -> 0 | U30: =($Y30-MOD($Y30,10))/10+IF(MOD($Y30,10)>8,1,0) -> 0 | V30: =($X30-MOD($X30,10))/10+IF(MOD($X30,10)>9,1,0) -> 0 | W30: =($Y30-MOD($Y30,10))/10+IF(MOD($Y30,10)>9,1,0) -> 0 | X30: ='8Aeokul'!G26 -> 0 | Y30: ='8Aeokul'!H26 -> 0
A31: 26 | B31: ='8Aeokul'!A27 -> 0 | C31: ='8Aeokul'!B27 -> 0 | D31: =($X31-MOD($X31,10))/10+IF(MOD($X31,10)>0,1,0) -> 0 | E31: =($Y31-MOD($Y31,10))/10+IF(MOD($Y31,10)>0,1,0) -> 0 | F31: =($X31-MOD($X31,10))/10+IF(MOD($X31,10)>1,1,0) -> 0 | G31: =($Y31-MOD($Y31,10))/10+IF(MOD($Y31,10)>1,1,0) -> 0 | H31: =($X31-MOD($X31,10))/10+IF(MOD($X31,10)>2,1,0) -> 0 | I31: =($Y31-MOD($Y31,10))/10+IF(MOD($Y31,10)>2,1,0) -> 0 | J31: =($X31-MOD($X31,10))/10+IF(MOD($X31,10)>3,1,0) -> 0 | K31: =($Y31-MOD($Y31,10))/10+IF(MOD($Y31,10)>3,1,0) -> 0 | L31: =($X31-MOD($X31,10))/10+IF(MOD($X31,10)>4,1,0) -> 0 | M31: =($Y31-MOD($Y31,10))/10+IF(MOD($Y31,10)>4,1,0) -> 0 | N31: =($X31-MOD($X31,10))/10+IF(MOD($X31,10)>5,1,0) -> 0 | O31: =($Y31-MOD($Y31,10))/10+IF(MOD($Y31,10)>5,1,0) -> 0 | P31: =($X31-MOD($X31,10))/10+IF(MOD($X31,10)>6,1,0) -> 0 | Q31: =($Y31-MOD($Y31,10))/10+IF(MOD($Y31,10)>6,1,0) -> 0 | R31: =($X31-MOD($X31,10))/10+IF(MOD($X31,10)>7,1,0) -> 0 | S31: =($Y31-MOD($Y31,10))/10+IF(MOD($Y31,10)>7,1,0) -> 0 | T31: =($X31-MOD($X31,10))/10+IF(MOD($X31,10)>8,1,0) -> 0 | U31: =($Y31-MOD($Y31,10))/10+IF(MOD($Y31,10)>8,1,0) -> 0 | V31: =($X31-MOD($X31,10))/10+IF(MOD($X31,10)>9,1,0) -> 0 | W31: =($Y31-MOD($Y31,10))/10+IF(MOD($Y31,10)>9,1,0) -> 0 | X31: ='8Aeokul'!G27 -> 0 | Y31: ='8Aeokul'!H27 -> 0
A32: 27 | B32: ='8Aeokul'!A28 -> 0 | C32: ='8Aeokul'!B28 -> 0 | D32: =($X32-MOD($X32,10))/10+IF(MOD($X32,10)>0,1,0) -> 0 | E32: =($Y32-MOD($Y32,10))/10+IF(MOD($Y32,10)>0,1,0) -> 0 | F32: =($X32-MOD($X32,10))/10+IF(MOD($X32,10)>1,1,0) -> 0 | G32: =($Y32-MOD($Y32,10))/10+IF(MOD($Y32,10)>1,1,0) -> 0 | H32: =($X32-MOD($X32,10))/10+IF(MOD($X32,10)>2,1,0) -> 0 | I32: =($Y32-MOD($Y32,10))/10+IF(MOD($Y32,10)>2,1,0) -> 0 | J32: =($X32-MOD($X32,10))/10+IF(MOD($X32,10)>3,1,0) -> 0 | K32: =($Y32-MOD($Y32,10))/10+IF(MOD($Y32,10)>3,1,0) -> 0 | L32: =($X32-MOD($X32,10))/10+IF(MOD($X32,10)>4,1,0) -> 0 | M32: =($Y32-MOD($Y32,10))/10+IF(MOD($Y32,10)>4,1,0) -> 0 | N32: =($X32-MOD($X32,10))/10+IF(MOD($X32,10)>5,1,0) -> 0 | O32: =($Y32-MOD($Y32,10))/10+IF(MOD($Y32,10)>5,1,0) -> 0 | P32: =($X32-MOD($X32,10))/10+IF(MOD($X32,10)>6,1,0) -> 0 | Q32: =($Y32-MOD($Y32,10))/10+IF(MOD($Y32,10)>6,1,0) -> 0 | R32: =($X32-MOD($X32,10))/10+IF(MOD($X32,10)>7,1,0) -> 0 | S32: =($Y32-MOD($Y32,10))/10+IF(MOD($Y32,10)>7,1,0) -> 0 | T32: =($X32-MOD($X32,10))/10+IF(MOD($X32,10)>8,1,0) -> 0 | U32: =($Y32-MOD($Y32,10))/10+IF(MOD($Y32,10)>8,1,0) -> 0 | V32: =($X32-MOD($X32,10))/10+IF(MOD($X32,10)>9,1,0) -> 0 | W32: =($Y32-MOD($Y32,10))/10+IF(MOD($Y32,10)>9,1,0) -> 0 | X32: ='8Aeokul'!G28 -> 0 | Y32: ='8Aeokul'!H28 -> 0
A33: 28 | B33: ='8Aeokul'!A29 -> 0 | C33: ='8Aeokul'!B29 -> 0 | D33: =($X33-MOD($X33,10))/10+IF(MOD($X33,10)>0,1,0) -> 0 | E33: =($Y33-MOD($Y33,10))/10+IF(MOD($Y33,10)>0,1,0) -> 0 | F33: =($X33-MOD($X33,10))/10+IF(MOD($X33,10)>1,1,0) -> 0 | G33: =($Y33-MOD($Y33,10))/10+IF(MOD($Y33,10)>1,1,0) -> 0 | H33: =($X33-MOD($X33,10))/10+IF(MOD($X33,10)>2,1,0) -> 0 | I33: =($Y33-MOD($Y33,10))/10+IF(MOD($Y33,10)>2,1,0) -> 0 | J33: =($X33-MOD($X33,10))/10+IF(MOD($X33,10)>3,1,0) -> 0 | K33: =($Y33-MOD($Y33,10))/10+IF(MOD($Y33,10)>3,1,0) -> 0 | L33: =($X33-MOD($X33,10))/10+IF(MOD($X33,10)>4,1,0) -> 0 | M33: =($Y33-MOD($Y33,10))/10+IF(MOD($Y33,10)>4,1,0) -> 0 | N33: =($X33-MOD($X33,10))/10+IF(MOD($X33,10)>5,1,0) -> 0 | O33: =($Y33-MOD($Y33,10))/10+IF(MOD($Y33,10)>5,1,0) -> 0 | P33: =($X33-MOD($X33,10))/10+IF(MOD($X33,10)>6,1,0) -> 0 | Q33: =($Y33-MOD($Y33,10))/10+IF(MOD($Y33,10)>6,1,0) -> 0 | R33: =($X33-MOD($X33,10))/10+IF(MOD($X33,10)>7,1,0) -> 0 | S33: =($Y33-MOD($Y33,10))/10+IF(MOD($Y33,10)>7,1,0) -> 0 | T33: =($X33-MOD($X33,10))/10+IF(MOD($X33,10)>8,1,0) -> 0 | U33: =($Y33-MOD($Y33,10))/10+IF(MOD($Y33,10)>8,1,0) -> 0 | V33: =($X33-MOD($X33,10))/10+IF(MOD($X33,10)>9,1,0) -> 0 | W33: =($Y33-MOD($Y33,10))/10+IF(MOD($Y33,10)>9,1,0) -> 0 | X33: ='8Aeokul'!G29 -> 0 | Y33: ='8Aeokul'!H29 -> 0
A34: 29 | B34: ='8Aeokul'!A30 -> 0 | C34: ='8Aeokul'!B30 -> 0 | D34: =($X34-MOD($X34,10))/10+IF(MOD($X34,10)>0,1,0) -> 0 | E34: =($Y34-MOD($Y34,10))/10+IF(MOD($Y34,10)>0,1,0) -> 0 | F34: =($X34-MOD($X34,10))/10+IF(MOD($X34,10)>1,1,0) -> 0 | G34: =($Y34-MOD($Y34,10))/10+IF(MOD($Y34,10)>1,1,0) -> 0 | H34: =($X34-MOD($X34,10))/10+IF(MOD($X34,10)>2,1,0) -> 0 | I34: =($Y34-MOD($Y34,10))/10+IF(MOD($Y34,10)>2,1,0) -> 0 | J34: =($X34-MOD($X34,10))/10+IF(MOD($X34,10)>3,1,0) -> 0 | K34: =($Y34-MOD($Y34,10))/10+IF(MOD($Y34,10)>3,1,0) -> 0 | L34: =($X34-MOD($X34,10))/10+IF(MOD($X34,10)>4,1,0) -> 0 | M34: =($Y34-MOD($Y34,10))/10+IF(MOD($Y34,10)>4,1,0) -> 0 | N34: =($X34-MOD($X34,10))/10+IF(MOD($X34,10)>5,1,0) -> 0 | O34: =($Y34-MOD($Y34,10))/10+IF(MOD($Y34,10)>5,1,0) -> 0 | P34: =($X34-MOD($X34,10))/10+IF(MOD($X34,10)>6,1,0) -> 0 | Q34: =($Y34-MOD($Y34,10))/10+IF(MOD($Y34,10)>6,1,0) -> 0 | R34: =($X34-MOD($X34,10))/10+IF(MOD($X34,10)>7,1,0) -> 0 | S34: =($Y34-MOD($Y34,10))/10+IF(MOD($Y34,10)>7,1,0) -> 0 | T34: =($X34-MOD($X34,10))/10+IF(MOD($X34,10)>8,1,0) -> 0 | U34: =($Y34-MOD($Y34,10))/10+IF(MOD($Y34,10)>8,1,0) -> 0 | V34: =($X34-MOD($X34,10))/10+IF(MOD($X34,10)>9,1,0) -> 0 | W34: =($Y34-MOD($Y34,10))/10+IF(MOD($Y34,10)>9,1,0) -> 0 | X34: ='8Aeokul'!G30 -> 0 | Y34: ='8Aeokul'!H30 -> 0
A35: 30 | B35: ='8Aeokul'!A31 -> 0 | C35: ='8Aeokul'!B31 -> 0 | D35: =($X35-MOD($X35,10))/10+IF(MOD($X35,10)>0,1,0) -> 0 | E35: =($Y35-MOD($Y35,10))/10+IF(MOD($Y35,10)>0,1,0) -> 0 | F35: =($X35-MOD($X35,10))/10+IF(MOD($X35,10)>1,1,0) -> 0 | G35: =($Y35-MOD($Y35,10))/10+IF(MOD($Y35,10)>1,1,0) -> 0 | H35: =($X35-MOD($X35,10))/10+IF(MOD($X35,10)>2,1,0) -> 0 | I35: =($Y35-MOD($Y35,10))/10+IF(MOD($Y35,10)>2,1,0) -> 0 | J35: =($X35-MOD($X35,10))/10+IF(MOD($X35,10)>3,1,0) -> 0 | K35: =($Y35-MOD($Y35,10))/10+IF(MOD($Y35,10)>3,1,0) -> 0 | L35: =($X35-MOD($X35,10))/10+IF(MOD($X35,10)>4,1,0) -> 0 | M35: =($Y35-MOD($Y35,10))/10+IF(MOD($Y35,10)>4,1,0) -> 0 | N35: =($X35-MOD($X35,10))/10+IF(MOD($X35,10)>5,1,0) -> 0 | O35: =($Y35-MOD($Y35,10))/10+IF(MOD($Y35,10)>5,1,0) -> 0 | P35: =($X35-MOD($X35,10))/10+IF(MOD($X35,10)>6,1,0) -> 0 | Q35: =($Y35-MOD($Y35,10))/10+IF(MOD($Y35,10)>6,1,0) -> 0 | R35: =($X35-MOD($X35,10))/10+IF(MOD($X35,10)>7,1,0) -> 0 | S35: =($Y35-MOD($Y35,10))/10+IF(MOD($Y35,10)>7,1,0) -> 0 | T35: =($X35-MOD($X35,10))/10+IF(MOD($X35,10)>8,1,0) -> 0 | U35: =($Y35-MOD($Y35,10))/10+IF(MOD($Y35,10)>8,1,0) -> 0 | V35: =($X35-MOD($X35,10))/10+IF(MOD($X35,10)>9,1,0) -> 0 | W35: =($Y35-MOD($Y35,10))/10+IF(MOD($Y35,10)>9,1,0) -> 0 | X35: ='8Aeokul'!G31 -> 0 | Y35: ='8Aeokul'!H31 -> 0
A36: 31 | B36: ='8Aeokul'!A32 -> 0 | C36: ='8Aeokul'!B32 -> 0 | D36: =($X36-MOD($X36,10))/10+IF(MOD($X36,10)>0,1,0) -> 0 | E36: =($Y36-MOD($Y36,10))/10+IF(MOD($Y36,10)>0,1,0) -> 0 | F36: =($X36-MOD($X36,10))/10+IF(MOD($X36,10)>1,1,0) -> 0 | G36: =($Y36-MOD($Y36,10))/10+IF(MOD($Y36,10)>1,1,0) -> 0 | H36: =($X36-MOD($X36,10))/10+IF(MOD($X36,10)>2,1,0) -> 0 | I36: =($Y36-MOD($Y36,10))/10+IF(MOD($Y36,10)>2,1,0) -> 0 | J36: =($X36-MOD($X36,10))/10+IF(MOD($X36,10)>3,1,0) -> 0 | K36: =($Y36-MOD($Y36,10))/10+IF(MOD($Y36,10)>3,1,0) -> 0 | L36: =($X36-MOD($X36,10))/10+IF(MOD($X36,10)>4,1,0) -> 0 | M36: =($Y36-MOD($Y36,10))/10+IF(MOD($Y36,10)>4,1,0) -> 0 | N36: =($X36-MOD($X36,10))/10+IF(MOD($X36,10)>5,1,0) -> 0 | O36: =($Y36-MOD($Y36,10))/10+IF(MOD($Y36,10)>5,1,0) -> 0 | P36: =($X36-MOD($X36,10))/10+IF(MOD($X36,10)>6,1,0) -> 0 | Q36: =($Y36-MOD($Y36,10))/10+IF(MOD($Y36,10)>6,1,0) -> 0 | R36: =($X36-MOD($X36,10))/10+IF(MOD($X36,10)>7,1,0) -> 0 | S36: =($Y36-MOD($Y36,10))/10+IF(MOD($Y36,10)>7,1,0) -> 0 | T36: =($X36-MOD($X36,10))/10+IF(MOD($X36,10)>8,1,0) -> 0 | U36: =($Y36-MOD($Y36,10))/10+IF(MOD($Y36,10)>8,1,0) -> 0 | V36: =($X36-MOD($X36,10))/10+IF(MOD($X36,10)>9,1,0) -> 0 | W36: =($Y36-MOD($Y36,10))/10+IF(MOD($Y36,10)>9,1,0) -> 0 | X36: ='8Aeokul'!G32 -> 0 | Y36: ='8Aeokul'!H32 -> 0
A37: 32 | B37: ='8Aeokul'!A33 -> 0 | C37: ='8Aeokul'!B33 -> 0 | D37: =($X37-MOD($X37,10))/10+IF(MOD($X37,10)>0,1,0) -> 0 | E37: =($Y37-MOD($Y37,10))/10+IF(MOD($Y37,10)>0,1,0) -> 0 | F37: =($X37-MOD($X37,10))/10+IF(MOD($X37,10)>1,1,0) -> 0 | G37: =($Y37-MOD($Y37,10))/10+IF(MOD($Y37,10)>1,1,0) -> 0 | H37: =($X37-MOD($X37,10))/10+IF(MOD($X37,10)>2,1,0) -> 0 | I37: =($Y37-MOD($Y37,10))/10+IF(MOD($Y37,10)>2,1,0) -> 0 | J37: =($X37-MOD($X37,10))/10+IF(MOD($X37,10)>3,1,0) -> 0 | K37: =($Y37-MOD($Y37,10))/10+IF(MOD($Y37,10)>3,1,0) -> 0 | L37: =($X37-MOD($X37,10))/10+IF(MOD($X37,10)>4,1,0) -> 0 | M37: =($Y37-MOD($Y37,10))/10+IF(MOD($Y37,10)>4,1,0) -> 0 | N37: =($X37-MOD($X37,10))/10+IF(MOD($X37,10)>5,1,0) -> 0 | O37: =($Y37-MOD($Y37,10))/10+IF(MOD($Y37,10)>5,1,0) -> 0 | P37: =($X37-MOD($X37,10))/10+IF(MOD($X37,10)>6,1,0) -> 0 | Q37: =($Y37-MOD($Y37,10))/10+IF(MOD($Y37,10)>6,1,0) -> 0 | R37: =($X37-MOD($X37,10))/10+IF(MOD($X37,10)>7,1,0) -> 0 | S37: =($Y37-MOD($Y37,10))/10+IF(MOD($Y37,10)>7,1,0) -> 0 | T37: =($X37-MOD($X37,10))/10+IF(MOD($X37,10)>8,1,0) -> 0 | U37: =($Y37-MOD($Y37,10))/10+IF(MOD($Y37,10)>8,1,0) -> 0 | V37: =($X37-MOD($X37,10))/10+IF(MOD($X37,10)>9,1,0) -> 0 | W37: =($Y37-MOD($Y37,10))/10+IF(MOD($Y37,10)>9,1,0) -> 0 | X37: ='8Aeokul'!G33 -> 0 | Y37: ='8Aeokul'!H33 -> 0
... A40: 35 | B40: ='8Aeokul'!A36 -> 0 | C40: ='8Aeokul'!B36 -> 0 | D40: =($X40-MOD($X40,10))/10+IF(MOD($X40,10)>0,1,0) -> 0 | E40: =($Y40-MOD($Y40,10))/10+IF(MOD($Y40,10)>0,1,0) -> 0 | F40: =($X40-MOD($X40,10))/10+IF(MOD($X40,10)>1,1,0) -> 0 | G40: =($Y40-MOD($Y40,10))/10+IF(MOD($Y40,10)>1,1,0) -> 0 | H40: =($X40-MOD($X40,10))/10+IF(MOD($X40,10)>2,1,0) -> 0 | I40: =($Y40-MOD($Y40,10))/10+IF(MOD($Y40,10)>2,1,0) -> 0 | J40: =($X40-MOD($X40,10))/10+IF(MOD($X40,10)>3,1,0) -> 0 | K40: =($Y40-MOD($Y40,10))/10+IF(MOD($Y40,10)>3,1,0) -> 0 | L40: =($X40-MOD($X40,10))/10+IF(MOD($X40,10)>4,1,0) -> 0 | M40: =($Y40-MOD($Y40,10))/10+IF(MOD($Y40,10)>4,1,0) -> 0 | N40: =($X40-MOD($X40,10))/10+IF(MOD($X40,10)>5,1,0) -> 0 | O40: =($Y40-MOD($Y40,10))/10+IF(MOD($Y40,10)>5,1,0) -> 0 | P40: =($X40-MOD($X40,10))/10+IF(MOD($X40,10)>6,1,0) -> 0 | Q40: =($Y40-MOD($Y40,10))/10+IF(MOD($Y40,10)>6,1,0) -> 0 | R40: =($X40-MOD($X40,10))/10+IF(MOD($X40,10)>7,1,0) -> 0 | S40: =($Y40-MOD($Y40,10))/10+IF(MOD($Y40,10)>7,1,0) -> 0 | T40: =($X40-MOD($X40,10))/10+IF(MOD($X40,10)>8,1,0) -> 0 | U40: =($Y40-MOD($Y40,10))/10+IF(MOD($Y40,10)>8,1,0) -> 0 | V40: =($X40-MOD($X40,10))/10+IF(MOD($X40,10)>9,1,0) -> 0 | W40: =($Y40-MOD($Y40,10))/10+IF(MOD($Y40,10)>9,1,0) -> 0 | X40: ='8Aeokul'!G36 -> 0 | Y40: ='8Aeokul'!H36 -> 0
Z41: 100 | AA41: 10 | AB41: 10 | AC41: 10 | AD41: 10 | AE41: 5 | AF41: 5 | AG41: 15 | AH41: 15 | AI41: 10 | AJ41: 10 | AK41: 100
AA42: 10 | AB42: 10 | AC42: 10 | AD42: 10 | AE42: 5 | AF42: 5 | AG42: 15 | AH42: 15 | AI42: 10 | AJ42: 10 | AK42: 100

Sheet 7C
A1: =önbilgi!B5 -> 2019-2020 1. DÖNEM | D1: ÖLÇÜTLER
A2: =CONCATENATE(önbilgi!B4," ",'7Ceokul'!N1," SINIFI ",önbilgi!B2," ","DERSİ DERS İÇİ ETKİNLİKLERE KATILIM PUANLAMA ÖLÇEĞİ") -> 7C SINIFI …………………………. DERSİ DERS İÇİ ETKİNLİKLERE KATILIM PUANLAMA ÖLÇEĞİ | D2: Derse hazırlıklı gelir. | F2: Derste kurallara uyar, dersin düzenini bozmaz. | H2: Ders araç gerekçlerini düzenli getirir. | J2: Okula geç kalma, devamsızlık alışkanlığının takibi | L2: Konu ile ilgili görüşlerini açıkça ifade eder | N2: Disiplin ve disiplin cezası durumu | P2: Yeni, özgün ve eleştirel sorular sorar. | R2: Öğrencinin kılık kıyafet durumu | T2: Okul ve ders etkinliklerine aktif katılım yapar. | V2: Öğretmene arkadaşlarına, çevreye saygı duyma | X2: TOPLAM
A3: ÖĞRENCİLER | D3: PUANLAR
A4: SIRA | B4: NO | C4: ADI SOYADI | D4: 10 | F4: 10 | H4: 10 | J4: 10 | L4: 10 | N4: 10 | P4: 10 | R4: 10 | T4: 10 | V4: 10 | X4: =SUM(D4:W4) -> 100 | Y4: 100 | Z4: =SUM(F4:X4) -> 190 | AB4: =SUM(G4:Z4) -> 470 | AD4: =SUM(H4:AB4) -> 940 | AF4: =SUM(J4:AD4) -> 1870 | AH4: =SUM(K4:AF4) -> 3730 | AJ4: =SUM(L4:AH4) -> 7460 | AL4: 100
D5: I. | E5: II. | F5: I. | G5: II. | H5: I. | I5: II. | J5: I. | K5: II. | L5: I. | M5: II. | N5: I. | O5: II. | P5: I. | Q5: II. | R5: I. | S5: II. | T5: I. | U5: II. | V5: I. | W5: II. | X5: I. | Y5: II. | Z5: II. | AA5: II. | AB5: II. | AC5: II. | AD5: II. | AE5: II. | AF5: II. | AG5: II. | AH5: II. | AI5: II. | AJ5: II. | AK5: II. | AL5: II.
A6: 1 | B6: ='7Ceokul'!A2 -> 0 | C6: ='7Ceokul'!B2 -> 0 | D6: =($X6-MOD($X6,10))/10+IF(MOD($X6,10)>0,1,0) -> 0 | E6: =($Y6-MOD($Y6,10))/10+IF(MOD($Y6,10)>0,1,0) -> 0 | F6: =($X6-MOD($X6,10))/10+IF(MOD($X6,10)>1,1,0) -> 0 | G6: =($Y6-MOD($Y6,10))/10+IF(MOD($Y6,10)>1,1,0) -> 0 | H6: =($X6-MOD($X6,10))/10+IF(MOD($X6,10)>2,1,0) -> 0 | I6: =($Y6-MOD($Y6,10))/10+IF(MOD($Y6,10)>2,1,0) -> 0 | J6: =($X6-MOD($X6,10))/10+IF(MOD($X6,10)>3,1,0) -> 0 | K6: =($Y6-MOD($Y6,10))/10+IF(MOD($Y6,10)>3,1,0) -> 0 | L6: =($X6-MOD($X6,10))/10+IF(MOD($X6,10)>4,1,0) -> 0 | M6: =($Y6-MOD($Y6,10))/10+IF(MOD($Y6,10)>4,1,0) -> 0 | N6: =($X6-MOD($X6,10))/10+IF(MOD($X6,10)>5,1,0) -> 0 | O6: =($Y6-MOD($Y6,10))/10+IF(MOD($Y6,10)>5,1,0) -> 0 | P6: =($X6-MOD($X6,10))/10+IF(MOD($X6,10)>6,1,0) -> 0 | Q6: =($Y6-MOD($Y6,10))/10+IF(MOD($Y6,10)>6,1,0) -> 0 | R6: =($X6-MOD($X6,10))/10+IF(MOD($X6,10)>7,1,0) -> 0 | S6: =($Y6-MOD($Y6,10))/10+IF(MOD($Y6,10)>7,1,0) -> 0 | T6: =($X6-MOD($X6,10))/10+IF(MOD($X6,10)>8,1,0) -> 0 | U6: =($Y6-MOD($Y6,10))/10+IF(MOD($Y6,10)>8,1,0) -> 0 | V6: =($X6-MOD($X6,10))/10+IF(MOD($X6,10)>9,1,0) -> 0 | W6: =($Y6-MOD($Y6,10))/10+IF(MOD($Y6,10)>9,1,0) -> 0 | X6: ='7Ceokul'!G2 -> 0 | Y6: ='7Ceokul'!H2 -> 0 | Z6: ='7Ceokul'!I2 -> 0 | AA6: ='7Ceokul'!J2 -> 0 | AB6: ='7Ceokul'!K2 -> 0 | AC6: ='7Ceokul'!L2 -> 0 | AD6: ='7Ceokul'!M2 -> 0 | AE6: ='7Ceokul'!N2 -> 0 | ... AL6: ='7Ceokul'!U2 -> 0
A7: 2 | B7: ='7Ceokul'!A3 -> 0 | C7: ='7Ceokul'!B3 -> 0 | D7: =($X7-MOD($X7,10))/10+IF(MOD($X7,10)>0,1,0) -> 0 | E7: =($Y7-MOD($Y7,10))/10+IF(MOD($Y7,10)>0,1,0) -> 0 | F7: =($X7-MOD($X7,10))/10+IF(MOD($X7,10)>1,1,0) -> 0 | G7: =($Y7-MOD($Y7,10))/10+IF(MOD($Y7,10)>1,1,0) -> 0 | H7: =($X7-MOD($X7,10))/10+IF(MOD($X7,10)>2,1,0) -> 0 | I7: =($Y7-MOD($Y7,10))/10+IF(MOD($Y7,10)>2,1,0) -> 0 | J7: =($X7-MOD($X7,10))/10+IF(MOD($X7,10)>3,1,0) -> 0 | K7: =($Y7-MOD($Y7,10))/10+IF(MOD($Y7,10)>3,1,0) -> 0 | L7: =($X7-MOD($X7,10))/10+IF(MOD($X7,10)>4,1,0) -> 0 | M7: =($Y7-MOD($Y7,10))/10+IF(MOD($Y7,10)>4,1,0) -> 0 | N7: =($X7-MOD($X7,10))/10+IF(MOD($X7,10)>5,1,0) -> 0 | O7: =($Y7-MOD($Y7,10))/10+IF(MOD($Y7,10)>5,1,0) -> 0 | P7: =($X7-MOD($X7,10))/10+IF(MOD($X7,10)>6,1,0) -> 0 | Q7: =($Y7-MOD($Y7,10))/10+IF(MOD($Y7,10)>6,1,0) -> 0 | R7: =($X7-MOD($X7,10))/10+IF(MOD($X7,10)>7,1,0) -> 0 | S7: =($Y7-MOD($Y7,10))/10+IF(MOD($Y7,10)>7,1,0) -> 0 | T7: =($X7-MOD($X7,10))/10+IF(MOD($X7,10)>8,1,0) -> 0 | U7: =($Y7-MOD($Y7,10))/10+IF(MOD($Y7,10)>8,1,0) -> 0 | V7: =($X7-MOD($X7,10))/10+IF(MOD($X7,10)>9,1,0) -> 0 | W7: =($Y7-MOD($Y7,10))/10+IF(MOD($Y7,10)>9,1,0) -> 0 | X7: ='7Ceokul'!G3 -> 0 | Y7: ='7Ceokul'!H3 -> 0 | Z7: ='7Ceokul'!I3 -> 0 | AA7: ='7Ceokul'!J3 -> 0 | AB7: ='7Ceokul'!K3 -> 0 | AC7: ='7Ceokul'!L3 -> 0 | AD7: ='7Ceokul'!M3 -> 0 | AE7: ='7Ceokul'!N3 -> 0 | ... AL7: ='7Ceokul'!U3 -> 0
A8: 3 | B8: ='7Ceokul'!A4 -> 0 | C8: ='7Ceokul'!B4 -> 0 | D8: =($X8-MOD($X8,10))/10+IF(MOD($X8,10)>0,1,0) -> 0 | E8: =($Y8-MOD($Y8,10))/10+IF(MOD($Y8,10)>0,1,0) -> 0 | F8: =($X8-MOD($X8,10))/10+IF(MOD($X8,10)>1,1,0) -> 0 | G8: =($Y8-MOD($Y8,10))/10+IF(MOD($Y8,10)>1,1,0) -> 0 | H8: =($X8-MOD($X8,10))/10+IF(MOD($X8,10)>2,1,0) -> 0 | I8: =($Y8-MOD($Y8,10))/10+IF(MOD($Y8,10)>2,1,0) -> 0 | J8: =($X8-MOD($X8,10))/10+IF(MOD($X8,10)>3,1,0) -> 0 | K8: =($Y8-MOD($Y8,10))/10+IF(MOD($Y8,10)>3,1,0) -> 0 | L8: =($X8-MOD($X8,10))/10+IF(MOD($X8,10)>4,1,0) -> 0 | M8: =($Y8-MOD($Y8,10))/10+IF(MOD($Y8,10)>4,1,0) -> 0 | N8: =($X8-MOD($X8,10))/10+IF(MOD($X8,10)>5,1,0) -> 0 | O8: =($Y8-MOD($Y8,10))/10+IF(MOD($Y8,10)>5,1,0) -> 0 | P8: =($X8-MOD($X8,10))/10+IF(MOD($X8,10)>6,1,0) -> 0 | Q8: =($Y8-MOD($Y8,10))/10+IF(MOD($Y8,10)>6,1,0) -> 0 | R8: =($X8-MOD($X8,10))/10+IF(MOD($X8,10)>7,1,0) -> 0 | S8: =($Y8-MOD($Y8,10))/10+IF(MOD($Y8,10)>7,1,0) -> 0 | T8: =($X8-MOD($X8,10))/10+IF(MOD($X8,10)>8,1,0) -> 0 | U8: =($Y8-MOD($Y8,10))/10+IF(MOD($Y8,10)>8,1,0) -> 0 | V8: =($X8-MOD($X8,10))/10+IF(MOD($X8,10)>9,1,0) -> 0 | W8: =($Y8-MOD($Y8,10))/10+IF(MOD($Y8,10)>9,1,0) -> 0 | X8: ='7Ceokul'!G4 -> 0 | Y8: ='7Ceokul'!H4 -> 0 | Z8: ='7Ceokul'!I4 -> 0 | AA8: ='7Ceokul'!J4 -> 0 | AB8: ='7Ceokul'!K4 -> 0 | AC8: ='7Ceokul'!L4 -> 0 | AD8: ='7Ceokul'!M4 -> 0 | AE8: ='7Ceokul'!N4 -> 0 | ... AL8: ='7Ceokul'!U4 -> 0
A9: 4 | B9: ='7Ceokul'!A5 -> 0 | C9: ='7Ceokul'!B5 -> 0 | D9: =($X9-MOD($X9,10))/10+IF(MOD($X9,10)>0,1,0) -> 0 | E9: =($Y9-MOD($Y9,10))/10+IF(MOD($Y9,10)>0,1,0) -> 0 | F9: =($X9-MOD($X9,10))/10+IF(MOD($X9,10)>1,1,0) -> 0 | G9: =($Y9-MOD($Y9,10))/10+IF(MOD($Y9,10)>1,1,0) -> 0 | H9: =($X9-MOD($X9,10))/10+IF(MOD($X9,10)>2,1,0) -> 0 | I9: =($Y9-MOD($Y9,10))/10+IF(MOD($Y9,10)>2,1,0) -> 0 | J9: =($X9-MOD($X9,10))/10+IF(MOD($X9,10)>3,1,0) -> 0 | K9: =($Y9-MOD($Y9,10))/10+IF(MOD($Y9,10)>3,1,0) -> 0 | L9: =($X9-MOD($X9,10))/10+IF(MOD($X9,10)>4,1,0) -> 0 | M9: =($Y9-MOD($Y9,10))/10+IF(MOD($Y9,10)>4,1,0) -> 0 | N9: =($X9-MOD($X9,10))/10+IF(MOD($X9,10)>5,1,0) -> 0 | O9: =($Y9-MOD($Y9,10))/10+IF(MOD($Y9,10)>5,1,0) -> 0 | P9: =($X9-MOD($X9,10))/10+IF(MOD($X9,10)>6,1,0) -> 0 | Q9: =($Y9-MOD($Y9,10))/10+IF(MOD($Y9,10)>6,1,0) -> 0 | R9: =($X9-MOD($X9,10))/10+IF(MOD($X9,10)>7,1,0) -> 0 | S9: =($Y9-MOD($Y9,10))/10+IF(MOD($Y9,10)>7,1,0) -> 0 | T9: =($X9-MOD($X9,10))/10+IF(MOD($X9,10)>8,1,0) -> 0 | U9: =($Y9-MOD($Y9,10))/10+IF(MOD($Y9,10)>8,1,0) -> 0 | V9: =($X9-MOD($X9,10))/10+IF(MOD($X9,10)>9,1,0) -> 0 | W9: =($Y9-MOD($Y9,10))/10+IF(MOD($Y9,10)>9,1,0) -> 0 | X9: ='7Ceokul'!G5 -> 0 | Y9: ='7Ceokul'!H5 -> 0 | Z9: ='7Ceokul'!I5 -> 0 | AA9: ='7Ceokul'!J5 -> 0 | AB9: ='7Ceokul'!K5 -> 0 | AC9: ='7Ceokul'!L5 -> 0 | AD9: ='7Ceokul'!M5 -> 0 | AE9: ='7Ceokul'!N5 -> 0 | ... AL9: ='7Ceokul'!U5 -> 0
A10: 5 | B10: ='7Ceokul'!A6 -> 0 | C10: ='7Ceokul'!B6 -> 0 | D10: =($X10-MOD($X10,10))/10+IF(MOD($X10,10)>0,1,0) -> 0 | E10: =($Y10-MOD($Y10,10))/10+IF(MOD($Y10,10)>0,1,0) -> 0 | F10: =($X10-MOD($X10,10))/10+IF(MOD($X10,10)>1,1,0) -> 0 | G10: =($Y10-MOD($Y10,10))/10+IF(MOD($Y10,10)>1,1,0) -> 0 | H10: =($X10-MOD($X10,10))/10+IF(MOD($X10,10)>2,1,0) -> 0 | I10: =($Y10-MOD($Y10,10))/10+IF(MOD($Y10,10)>2,1,0) -> 0 | J10: =($X10-MOD($X10,10))/10+IF(MOD($X10,10)>3,1,0) -> 0 | K10: =($Y10-MOD($Y10,10))/10+IF(MOD($Y10,10)>3,1,0) -> 0 | L10: =($X10-MOD($X10,10))/10+IF(MOD($X10,10)>4,1,0) -> 0 | M10: =($Y10-MOD($Y10,10))/10+IF(MOD($Y10,10)>4,1,0) -> 0 | N10: =($X10-MOD($X10,10))/10+IF(MOD($X10,10)>5,1,0) -> 0 | O10: =($Y10-MOD($Y10,10))/10+IF(MOD($Y10,10)>5,1,0) -> 0 | P10: =($X10-MOD($X10,10))/10+IF(MOD($X10,10)>6,1,0) -> 0 | Q10: =($Y10-MOD($Y10,10))/10+IF(MOD($Y10,10)>6,1,0) -> 0 | R10: =($X10-MOD($X10,10))/10+IF(MOD($X10,10)>7,1,0) -> 0 | S10: =($Y10-MOD($Y10,10))/10+IF(MOD($Y10,10)>7,1,0) -> 0 | T10: =($X10-MOD($X10,10))/10+IF(MOD($X10,10)>8,1,0) -> 0 | U10: =($Y10-MOD($Y10,10))/10+IF(MOD($Y10,10)>8,1,0) -> 0 | V10: =($X10-MOD($X10,10))/10+IF(MOD($X10,10)>9,1,0) -> 0 | W10: =($Y10-MOD($Y10,10))/10+IF(MOD($Y10,10)>9,1,0) -> 0 | X10: ='7Ceokul'!G6 -> 0 | Y10: ='7Ceokul'!H6 -> 0 | Z10: ='7Ceokul'!I6 -> 0 | AA10: ='7Ceokul'!J6 -> 0 | AB10: ='7Ceokul'!K6 -> 0 | AC10: ='7Ceokul'!L6 -> 0 | AD10: ='7Ceokul'!M6 -> 0 | AE10: ='7Ceokul'!N6 -> 0 | ... AL10: ='7Ceokul'!U6 -> 0
A11: 6 | B11: ='7Ceokul'!A7 -> 0 | C11: ='7Ceokul'!B7 -> 0 | D11: =($X11-MOD($X11,10))/10+IF(MOD($X11,10)>0,1,0) -> 0 | E11: =($Y11-MOD($Y11,10))/10+IF(MOD($Y11,10)>0,1,0) -> 0 | F11: =($X11-MOD($X11,10))/10+IF(MOD($X11,10)>1,1,0) -> 0 | G11: =($Y11-MOD($Y11,10))/10+IF(MOD($Y11,10)>1,1,0) -> 0 | H11: =($X11-MOD($X11,10))/10+IF(MOD($X11,10)>2,1,0) -> 0 | I11: =($Y11-MOD($Y11,10))/10+IF(MOD($Y11,10)>2,1,0) -> 0 | J11: =($X11-MOD($X11,10))/10+IF(MOD($X11,10)>3,1,0) -> 0 | K11: =($Y11-MOD($Y11,10))/10+IF(MOD($Y11,10)>3,1,0) -> 0 | L11: =($X11-MOD($X11,10))/10+IF(MOD($X11,10)>4,1,0) -> 0 | M11: =($Y11-MOD($Y11,10))/10+IF(MOD($Y11,10)>4,1,0) -> 0 | N11: =($X11-MOD($X11,10))/10+IF(MOD($X11,10)>5,1,0) -> 0 | O11: =($Y11-MOD($Y11,10))/10+IF(MOD($Y11,10)>5,1,0) -> 0 | P11: =($X11-MOD($X11,10))/10+IF(MOD($X11,10)>6,1,0) -> 0 | Q11: =($Y11-MOD($Y11,10))/10+IF(MOD($Y11,10)>6,1,0) -> 0 | R11: =($X11-MOD($X11,10))/10+IF(MOD($X11,10)>7,1,0) -> 0 | S11: =($Y11-MOD($Y11,10))/10+IF(MOD($Y11,10)>7,1,0) -> 0 | T11: =($X11-MOD($X11,10))/10+IF(MOD($X11,10)>8,1,0) -> 0 | U11: =($Y11-MOD($Y11,10))/10+IF(MOD($Y11,10)>8,1,0) -> 0 | V11: =($X11-MOD($X11,10))/10+IF(MOD($X11,10)>9,1,0) -> 0 | W11: =($Y11-MOD($Y11,10))/10+IF(MOD($Y11,10)>9,1,0) -> 0 | X11: ='7Ceokul'!G7 -> 0 | Y11: ='7Ceokul'!H7 -> 0 | Z11: ='7Ceokul'!I7 -> 0 | AA11: ='7Ceokul'!J7 -> 0 | AB11: ='7Ceokul'!K7 -> 0 | AC11: ='7Ceokul'!L7 -> 0 | AD11: ='7Ceokul'!M7 -> 0 | AE11: ='7Ceokul'!N7 -> 0 | ... AL11: ='7Ceokul'!U7 -> 0
A12: 7 | B12: ='7Ceokul'!A8 -> 0 | C12: ='7Ceokul'!B8 -> 0 | D12: =($X12-MOD($X12,10))/10+IF(MOD($X12,10)>0,1,0) -> 0 | E12: =($Y12-MOD($Y12,10))/10+IF(MOD($Y12,10)>0,1,0) -> 0 | F12: =($X12-MOD($X12,10))/10+IF(MOD($X12,10)>1,1,0) -> 0 | G12: =($Y12-MOD($Y12,10))/10+IF(MOD($Y12,10)>1,1,0) -> 0 | H12: =($X12-MOD($X12,10))/10+IF(MOD($X12,10)>2,1,0) -> 0 | I12: =($Y12-MOD($Y12,10))/10+IF(MOD($Y12,10)>2,1,0) -> 0 | J12: =($X12-MOD($X12,10))/10+IF(MOD($X12,10)>3,1,0) -> 0 | K12: =($Y12-MOD($Y12,10))/10+IF(MOD($Y12,10)>3,1,0) -> 0 | L12: =($X12-MOD($X12,10))/10+IF(MOD($X12,10)>4,1,0) -> 0 | M12: =($Y12-MOD($Y12,10))/10+IF(MOD($Y12,10)>4,1,0) -> 0 | N12: =($X12-MOD($X12,10))/10+IF(MOD($X12,10)>5,1,0) -> 0 | O12: =($Y12-MOD($Y12,10))/10+IF(MOD($Y12,10)>5,1,0) -> 0 | P12: =($X12-MOD($X12,10))/10+IF(MOD($X12,10)>6,1,0) -> 0 | Q12: =($Y12-MOD($Y12,10))/10+IF(MOD($Y12,10)>6,1,0) -> 0 | R12: =($X12-MOD($X12,10))/10+IF(MOD($X12,10)>7,1,0) -> 0 | S12: =($Y12-MOD($Y12,10))/10+IF(MOD($Y12,10)>7,1,0) -> 0 | T12: =($X12-MOD($X12,10))/10+IF(MOD($X12,10)>8,1,0) -> 0 | U12: =($Y12-MOD($Y12,10))/10+IF(MOD($Y12,10)>8,1,0) -> 0 | V12: =($X12-MOD($X12,10))/10+IF(MOD($X12,10)>9,1,0) -> 0 | W12: =($Y12-MOD($Y12,10))/10+IF(MOD($Y12,10)>9,1,0) -> 0 | X12: ='7Ceokul'!G8 -> 0 | Y12: ='7Ceokul'!H8 -> 0 | Z12: ='7Ceokul'!I8 -> 0 | AA12: ='7Ceokul'!J8 -> 0 | AB12: ='7Ceokul'!K8 -> 0 | AC12: ='7Ceokul'!L8 -> 0 | AD12: ='7Ceokul'!M8 -> 0 | AE12: ='7Ceokul'!N8 -> 0 | ... AL12: ='7Ceokul'!U8 -> 0
A13: 8 | B13: ='7Ceokul'!A9 -> 0 | C13: ='7Ceokul'!B9 -> 0 | D13: =($X13-MOD($X13,10))/10+IF(MOD($X13,10)>0,1,0) -> 0 | E13: =($Y13-MOD($Y13,10))/10+IF(MOD($Y13,10)>0,1,0) -> 0 | F13: =($X13-MOD($X13,10))/10+IF(MOD($X13,10)>1,1,0) -> 0 | G13: =($Y13-MOD($Y13,10))/10+IF(MOD($Y13,10)>1,1,0) -> 0 | H13: =($X13-MOD($X13,10))/10+IF(MOD($X13,10)>2,1,0) -> 0 | I13: =($Y13-MOD($Y13,10))/10+IF(MOD($Y13,10)>2,1,0) -> 0 | J13: =($X13-MOD($X13,10))/10+IF(MOD($X13,10)>3,1,0) -> 0 | K13: =($Y13-MOD($Y13,10))/10+IF(MOD($Y13,10)>3,1,0) -> 0 | L13: =($X13-MOD($X13,10))/10+IF(MOD($X13,10)>4,1,0) -> 0 | M13: =($Y13-MOD($Y13,10))/10+IF(MOD($Y13,10)>4,1,0) -> 0 | N13: =($X13-MOD($X13,10))/10+IF(MOD($X13,10)>5,1,0) -> 0 | O13: =($Y13-MOD($Y13,10))/10+IF(MOD($Y13,10)>5,1,0) -> 0 | P13: =($X13-MOD($X13,10))/10+IF(MOD($X13,10)>6,1,0) -> 0 | Q13: =($Y13-MOD($Y13,10))/10+IF(MOD($Y13,10)>6,1,0) -> 0 | R13: =($X13-MOD($X13,10))/10+IF(MOD($X13,10)>7,1,0) -> 0 | S13: =($Y13-MOD($Y13,10))/10+IF(MOD($Y13,10)>7,1,0) -> 0 | T13: =($X13-MOD($X13,10))/10+IF(MOD($X13,10)>8,1,0) -> 0 | U13: =($Y13-MOD($Y13,10))/10+IF(MOD($Y13,10)>8,1,0) -> 0 | V13: =($X13-MOD($X13,10))/10+IF(MOD($X13,10)>9,1,0) -> 0 | W13: =($Y13-MOD($Y13,10))/10+IF(MOD($Y13,10)>9,1,0) -> 0 | X13: ='7Ceokul'!G9 -> 0 | Y13: ='7Ceokul'!H9 -> 0 | Z13: ='7Ceokul'!I9 -> 0 | AA13: ='7Ceokul'!J9 -> 0 | AB13: ='7Ceokul'!K9 -> 0 | AC13: ='7Ceokul'!L9 -> 0 | AD13: ='7Ceokul'!M9 -> 0 | AE13: ='7Ceokul'!N9 -> 0 | ... AL13: ='7Ceokul'!U9 -> 0
A14: 9 | B14: ='7Ceokul'!A10 -> 0 | C14: ='7Ceokul'!B10 -> 0 | D14: =($X14-MOD($X14,10))/10+IF(MOD($X14,10)>0,1,0) -> 0 | E14: =($Y14-MOD($Y14,10))/10+IF(MOD($Y14,10)>0,1,0) -> 0 | F14: =($X14-MOD($X14,10))/10+IF(MOD($X14,10)>1,1,0) -> 0 | G14: =($Y14-MOD($Y14,10))/10+IF(MOD($Y14,10)>1,1,0) -> 0 | H14: =($X14-MOD($X14,10))/10+IF(MOD($X14,10)>2,1,0) -> 0 | I14: =($Y14-MOD($Y14,10))/10+IF(MOD($Y14,10)>2,1,0) -> 0 | J14: =($X14-MOD($X14,10))/10+IF(MOD($X14,10)>3,1,0) -> 0 | K14: =($Y14-MOD($Y14,10))/10+IF(MOD($Y14,10)>3,1,0) -> 0 | L14: =($X14-MOD($X14,10))/10+IF(MOD($X14,10)>4,1,0) -> 0 | M14: =($Y14-MOD($Y14,10))/10+IF(MOD($Y14,10)>4,1,0) -> 0 | N14: =($X14-MOD($X14,10))/10+IF(MOD($X14,10)>5,1,0) -> 0 | O14: =($Y14-MOD($Y14,10))/10+IF(MOD($Y14,10)>5,1,0) -> 0 | P14: =($X14-MOD($X14,10))/10+IF(MOD($X14,10)>6,1,0) -> 0 | Q14: =($Y14-MOD($Y14,10))/10+IF(MOD($Y14,10)>6,1,0) -> 0 | R14: =($X14-MOD($X14,10))/10+IF(MOD($X14,10)>7,1,0) -> 0 | S14: =($Y14-MOD($Y14,10))/10+IF(MOD($Y14,10)>7,1,0) -> 0 | T14: =($X14-MOD($X14,10))/10+IF(MOD($X14,10)>8,1,0) -> 0 | U14: =($Y14-MOD($Y14,10))/10+IF(MOD($Y14,10)>8,1,0) -> 0 | V14: =($X14-MOD($X14,10))/10+IF(MOD($X14,10)>9,1,0) -> 0 | W14: =($Y14-MOD($Y14,10))/10+IF(MOD($Y14,10)>9,1,0) -> 0 | X14: ='7Ceokul'!G10 -> 0 | Y14: ='7Ceokul'!H10 -> 0 | Z14: ='7Ceokul'!I10 -> 0 | AA14: ='7Ceokul'!J10 -> 0 | AB14: ='7Ceokul'!K10 -> 0 | AC14: ='7Ceokul'!L10 -> 0 | AD14: ='7Ceokul'!M10 -> 0 | AE14: ='7Ceokul'!N10 -> 0 | ... AL14: ='7Ceokul'!U10 -> 0
A15: 10 | B15: ='7Ceokul'!A11 -> 0 | C15: ='7Ceokul'!B11 -> 0 | D15: =($X15-MOD($X15,10))/10+IF(MOD($X15,10)>0,1,0) -> 0 | E15: =($Y15-MOD($Y15,10))/10+IF(MOD($Y15,10)>0,1,0) -> 0 | F15: =($X15-MOD($X15,10))/10+IF(MOD($X15,10)>1,1,0) -> 0 | G15: =($Y15-MOD($Y15,10))/10+IF(MOD($Y15,10)>1,1,0) -> 0 | H15: =($X15-MOD($X15,10))/10+IF(MOD($X15,10)>2,1,0) -> 0 | I15: =($Y15-MOD($Y15,10))/10+IF(MOD($Y15,10)>2,1,0) -> 0 | J15: =($X15-MOD($X15,10))/10+IF(MOD($X15,10)>3,1,0) -> 0 | K15: =($Y15-MOD($Y15,10))/10+IF(MOD($Y15,10)>3,1,0) -> 0 | L15: =($X15-MOD($X15,10))/10+IF(MOD($X15,10)>4,1,0) -> 0 | M15: =($Y15-MOD($Y15,10))/10+IF(MOD($Y15,10)>4,1,0) -> 0 | N15: =($X15-MOD($X15,10))/10+IF(MOD($X15,10)>5,1,0) -> 0 | O15: =($Y15-MOD($Y15,10))/10+IF(MOD($Y15,10)>5,1,0) -> 0 | P15: =($X15-MOD($X15,10))/10+IF(MOD($X15,10)>6,1,0) -> 0 | Q15: =($Y15-MOD($Y15,10))/10+IF(MOD($Y15,10)>6,1,0) -> 0 | R15: =($X15-MOD($X15,10))/10+IF(MOD($X15,10)>7,1,0) -> 0 | S15: =($Y15-MOD($Y15,10))/10+IF(MOD($Y15,10)>7,1,0) -> 0 | T15: =($X15-MOD($X15,10))/10+IF(MOD($X15,10)>8,1,0) -> 0 | U15: =($Y15-MOD($Y15,10))/10+IF(MOD($Y15,10)>8,1,0) -> 0 | V15: =($X15-MOD($X15,10))/10+IF(MOD($X15,10)>9,1,0) -> 0 | W15: =($Y15-MOD($Y15,10))/10+IF(MOD($Y15,10)>9,1,0) -> 0 | X15: ='7Ceokul'!G11 -> 0 | Y15: ='7Ceokul'!H11 -> 0 | Z15: ='7Ceokul'!I11 -> 0 | AA15: ='7Ceokul'!J11 -> 0 | AB15: ='7Ceokul'!K11 -> 0 | AC15: ='7Ceokul'!L11 -> 0 | AD15: ='7Ceokul'!M11 -> 0 | AE15: ='7Ceokul'!N11 -> 0 | ... AL15: ='7Ceokul'!U11 -> 0
A16: 11 | B16: ='7Ceokul'!A12 -> 0 | C16: ='7Ceokul'!B12 -> 0 | D16: =($X16-MOD($X16,10))/10+IF(MOD($X16,10)>0,1,0) -> 0 | E16: =($Y16-MOD($Y16,10))/10+IF(MOD($Y16,10)>0,1,0) -> 0 | F16: =($X16-MOD($X16,10))/10+IF(MOD($X16,10)>1,1,0) -> 0 | G16: =($Y16-MOD($Y16,10))/10+IF(MOD($Y16,10)>1,1,0) -> 0 | H16: =($X16-MOD($X16,10))/10+IF(MOD($X16,10)>2,1,0) -> 0 | I16: =($Y16-MOD($Y16,10))/10+IF(MOD($Y16,10)>2,1,0) -> 0 | J16: =($X16-MOD($X16,10))/10+IF(MOD($X16,10)>3,1,0) -> 0 | K16: =($Y16-MOD($Y16,10))/10+IF(MOD($Y16,10)>3,1,0) -> 0 | L16: =($X16-MOD($X16,10))/10+IF(MOD($X16,10)>4,1,0) -> 0 | M16: =($Y16-MOD($Y16,10))/10+IF(MOD($Y16,10)>4,1,0) -> 0 | N16: =($X16-MOD($X16,10))/10+IF(MOD($X16,10)>5,1,0) -> 0 | O16: =($Y16-MOD($Y16,10))/10+IF(MOD($Y16,10)>5,1,0) -> 0 | P16: =($X16-MOD($X16,10))/10+IF(MOD($X16,10)>6,1,0) -> 0 | Q16: =($Y16-MOD($Y16,10))/10+IF(MOD($Y16,10)>6,1,0) -> 0 | R16: =($X16-MOD($X16,10))/10+IF(MOD($X16,10)>7,1,0) -> 0 | S16: =($Y16-MOD($Y16,10))/10+IF(MOD($Y16,10)>7,1,0) -> 0 | T16: =($X16-MOD($X16,10))/10+IF(MOD($X16,10)>8,1,0) -> 0 | U16: =($Y16-MOD($Y16,10))/10+IF(MOD($Y16,10)>8,1,0) -> 0 | V16: =($X16-MOD($X16,10))/10+IF(MOD($X16,10)>9,1,0) -> 0 | W16: =($Y16-MOD($Y16,10))/10+IF(MOD($Y16,10)>9,1,0) -> 0 | X16: ='7Ceokul'!G12 -> 0 | Y16: ='7Ceokul'!H12 -> 0 | Z16: ='7Ceokul'!I12 -> 0 | AA16: ='7Ceokul'!J12 -> 0 | AB16: ='7Ceokul'!K12 -> 0 | AC16: ='7Ceokul'!L12 -> 0 | AD16: ='7Ceokul'!M12 -> 0 | AE16: ='7Ceokul'!N12 -> 0 | ... AL16: ='7Ceokul'!U12 -> 0
A17: 12 | B17: ='7Ceokul'!A13 -> 0 | C17: ='7Ceokul'!B13 -> 0 | D17: =($X17-MOD($X17,10))/10+IF(MOD($X17,10)>0,1,0) -> 0 | E17: =($Y17-MOD($Y17,10))/10+IF(MOD($Y17,10)>0,1,0) -> 0 | F17: =($X17-MOD($X17,10))/10+IF(MOD($X17,10)>1,1,0) -> 0 | G17: =($Y17-MOD($Y17,10))/10+IF(MOD($Y17,10)>1,1,0) -> 0 | H17: =($X17-MOD($X17,10))/10+IF(MOD($X17,10)>2,1,0) -> 0 | I17: =($Y17-MOD($Y17,10))/10+IF(MOD($Y17,10)>2,1,0) -> 0 | J17: =($X17-MOD($X17,10))/10+IF(MOD($X17,10)>3,1,0) -> 0 | K17: =($Y17-MOD($Y17,10))/10+IF(MOD($Y17,10)>3,1,0) -> 0 | L17: =($X17-MOD($X17,10))/10+IF(MOD($X17,10)>4,1,0) -> 0 | M17: =($Y17-MOD($Y17,10))/10+IF(MOD($Y17,10)>4,1,0) -> 0 | N17: =($X17-MOD($X17,10))/10+IF(MOD($X17,10)>5,1,0) -> 0 | O17: =($Y17-MOD($Y17,10))/10+IF(MOD($Y17,10)>5,1,0) -> 0 | P17: =($X17-MOD($X17,10))/10+IF(MOD($X17,10)>6,1,0) -> 0 | Q17: =($Y17-MOD($Y17,10))/10+IF(MOD($Y17,10)>6,1,0) -> 0 | R17: =($X17-MOD($X17,10))/10+IF(MOD($X17,10)>7,1,0) -> 0 | S17: =($Y17-MOD($Y17,10))/10+IF(MOD($Y17,10)>7,1,0) -> 0 | T17: =($X17-MOD($X17,10))/10+IF(MOD($X17,10)>8,1,0) -> 0 | U17: =($Y17-MOD($Y17,10))/10+IF(MOD($Y17,10)>8,1,0) -> 0 | V17: =($X17-MOD($X17,10))/10+IF(MOD($X17,10)>9,1,0) -> 0 | W17: =($Y17-MOD($Y17,10))/10+IF(MOD($Y17,10)>9,1,0) -> 0 | X17: ='7Ceokul'!G13 -> 0 | Y17: ='7Ceokul'!H13 -> 0 | Z17: ='7Ceokul'!I13 -> 0 | AA17: ='7Ceokul'!J13 -> 0 | AB17: ='7Ceokul'!K13 -> 0 | AC17: ='7Ceokul'!L13 -> 0 | AD17: ='7Ceokul'!M13 -> 0 | AE17: ='7Ceokul'!N13 -> 0 | ... AL17: ='7Ceokul'!U13 -> 0
... A27: 22 | B27: ='7Ceokul'!A23 -> 0 | C27: ='7Ceokul'!B23 -> 0 | D27: =($X27-MOD($X27,10))/10+IF(MOD($X27,10)>0,1,0) -> 0 | E27: =($Y27-MOD($Y27,10))/10+IF(MOD($Y27,10)>0,1,0) -> 0 | F27: =($X27-MOD($X27,10))/10+IF(MOD($X27,10)>1,1,0) -> 0 | G27: =($Y27-MOD($Y27,10))/10+IF(MOD($Y27,10)>1,1,0) -> 0 | H27: =($X27-MOD($X27,10))/10+IF(MOD($X27,10)>2,1,0) -> 0 | I27: =($Y27-MOD($Y27,10))/10+IF(MOD($Y27,10)>2,1,0) -> 0 | J27: =($X27-MOD($X27,10))/10+IF(MOD($X27,10)>3,1,0) -> 0 | K27: =($Y27-MOD($Y27,10))/10+IF(MOD($Y27,10)>3,1,0) -> 0 | L27: =($X27-MOD($X27,10))/10+IF(MOD($X27,10)>4,1,0) -> 0 | M27: =($Y27-MOD($Y27,10))/10+IF(MOD($Y27,10)>4,1,0) -> 0 | N27: =($X27-MOD($X27,10))/10+IF(MOD($X27,10)>5,1,0) -> 0 | O27: =($Y27-MOD($Y27,10))/10+IF(MOD($Y27,10)>5,1,0) -> 0 | P27: =($X27-MOD($X27,10))/10+IF(MOD($X27,10)>6,1,0) -> 0 | Q27: =($Y27-MOD($Y27,10))/10+IF(MOD($Y27,10)>6,1,0) -> 0 | R27: =($X27-MOD($X27,10))/10+IF(MOD($X27,10)>7,1,0) -> 0 | S27: =($Y27-MOD($Y27,10))/10+IF(MOD($Y27,10)>7,1,0) -> 0 | T27: =($X27-MOD($X27,10))/10+IF(MOD($X27,10)>8,1,0) -> 0 | U27: =($Y27-MOD($Y27,10))/10+IF(MOD($Y27,10)>8,1,0) -> 0 | V27: =($X27-MOD($X27,10))/10+IF(MOD($X27,10)>9,1,0) -> 0 | W27: =($Y27-MOD($Y27,10))/10+IF(MOD($Y27,10)>9,1,0) -> 0 | X27: ='7Ceokul'!G23 -> 0 | Y27: ='7Ceokul'!H23 -> 0 | Z27: ='7Ceokul'!I23 -> 0 | AA27: ='7Ceokul'!J23 -> 0 | AB27: ='7Ceokul'!K23 -> 0 | AC27: ='7Ceokul'!L23 -> 0 | AD27: ='7Ceokul'!M23 -> 0 | AE27: ='7Ceokul'!N23 -> 0 | ... AL27: ='7Ceokul'!U23 -> 0
A28: 23 | B28: ='7Ceokul'!A24 -> 0 | C28: ='7Ceokul'!B24 -> 0 | D28: =($X28-MOD($X28,10))/10+IF(MOD($X28,10)>0,1,0) -> 0 | E28: =($Y28-MOD($Y28,10))/10+IF(MOD($Y28,10)>0,1,0) -> 0 | F28: =($X28-MOD($X28,10))/10+IF(MOD($X28,10)>1,1,0) -> 0 | G28: =($Y28-MOD($Y28,10))/10+IF(MOD($Y28,10)>1,1,0) -> 0 | H28: =($X28-MOD($X28,10))/10+IF(MOD($X28,10)>2,1,0) -> 0 | I28: =($Y28-MOD($Y28,10))/10+IF(MOD($Y28,10)>2,1,0) -> 0 | J28: =($X28-MOD($X28,10))/10+IF(MOD($X28,10)>3,1,0) -> 0 | K28: =($Y28-MOD($Y28,10))/10+IF(MOD($Y28,10)>3,1,0) -> 0 | L28: =($X28-MOD($X28,10))/10+IF(MOD($X28,10)>4,1,0) -> 0 | M28: =($Y28-MOD($Y28,10))/10+IF(MOD($Y28,10)>4,1,0) -> 0 | N28: =($X28-MOD($X28,10))/10+IF(MOD($X28,10)>5,1,0) -> 0 | O28: =($Y28-MOD($Y28,10))/10+IF(MOD($Y28,10)>5,1,0) -> 0 | P28: =($X28-MOD($X28,10))/10+IF(MOD($X28,10)>6,1,0) -> 0 | Q28: =($Y28-MOD($Y28,10))/10+IF(MOD($Y28,10)>6,1,0) -> 0 | R28: =($X28-MOD($X28,10))/10+IF(MOD($X28,10)>7,1,0) -> 0 | S28: =($Y28-MOD($Y28,10))/10+IF(MOD($Y28,10)>7,1,0) -> 0 | T28: =($X28-MOD($X28,10))/10+IF(MOD($X28,10)>8,1,0) -> 0 | U28: =($Y28-MOD($Y28,10))/10+IF(MOD($Y28,10)>8,1,0) -> 0 | V28: =($X28-MOD($X28,10))/10+IF(MOD($X28,10)>9,1,0) -> 0 | W28: =($Y28-MOD($Y28,10))/10+IF(MOD($Y28,10)>9,1,0) -> 0 | X28: ='7Ceokul'!G24 -> 0 | Y28: ='7Ceokul'!H24 -> 0
A29: 24 | B29: ='7Ceokul'!A25 -> 0 | C29: ='7Ceokul'!B25 -> 0 | D29: =($X29-MOD($X29,10))/10+IF(MOD($X29,10)>0,1,0) -> 0 | E29: =($Y29-MOD($Y29,10))/10+IF(MOD($Y29,10)>0,1,0) -> 0 | F29: =($X29-MOD($X29,10))/10+IF(MOD($X29,10)>1,1,0) -> 0 | G29: =($Y29-MOD($Y29,10))/10+IF(MOD($Y29,10)>1,1,0) -> 0 | H29: =($X29-MOD($X29,10))/10+IF(MOD($X29,10)>2,1,0) -> 0 | I29: =($Y29-MOD($Y29,10))/10+IF(MOD($Y29,10)>2,1,0) -> 0 | J29: =($X29-MOD($X29,10))/10+IF(MOD($X29,10)>3,1,0) -> 0 | K29: =($Y29-MOD($Y29,10))/10+IF(MOD($Y29,10)>3,1,0) -> 0 | L29: =($X29-MOD($X29,10))/10+IF(MOD($X29,10)>4,1,0) -> 0 | M29: =($Y29-MOD($Y29,10))/10+IF(MOD($Y29,10)>4,1,0) -> 0 | N29: =($X29-MOD($X29,10))/10+IF(MOD($X29,10)>5,1,0) -> 0 | O29: =($Y29-MOD($Y29,10))/10+IF(MOD($Y29,10)>5,1,0) -> 0 | P29: =($X29-MOD($X29,10))/10+IF(MOD($X29,10)>6,1,0) -> 0 | Q29: =($Y29-MOD($Y29,10))/10+IF(MOD($Y29,10)>6,1,0) -> 0 | R29: =($X29-MOD($X29,10))/10+IF(MOD($X29,10)>7,1,0) -> 0 | S29: =($Y29-MOD($Y29,10))/10+IF(MOD($Y29,10)>7,1,0) -> 0 | T29: =($X29-MOD($X29,10))/10+IF(MOD($X29,10)>8,1,0) -> 0 | U29: =($Y29-MOD($Y29,10))/10+IF(MOD($Y29,10)>8,1,0) -> 0 | V29: =($X29-MOD($X29,10))/10+IF(MOD($X29,10)>9,1,0) -> 0 | W29: =($Y29-MOD($Y29,10))/10+IF(MOD($Y29,10)>9,1,0) -> 0 | X29: ='7Ceokul'!G25 -> 0 | Y29: ='7Ceokul'!H25 -> 0
A30: 25 | B30: ='7Ceokul'!A26 -> 0 | C30: ='7Ceokul'!B26 -> 0 | D30: =($X30-MOD($X30,10))/10+IF(MOD($X30,10)>0,1,0) -> 0 | E30: =($Y30-MOD($Y30,10))/10+IF(MOD($Y30,10)>0,1,0) -> 0 | F30: =($X30-MOD($X30,10))/10+IF(MOD($X30,10)>1,1,0) -> 0 | G30: =($Y30-MOD($Y30,10))/10+IF(MOD($Y30,10)>1,1,0) -> 0 | H30: =($X30-MOD($X30,10))/10+IF(MOD($X30,10)>2,1,0) -> 0 | I30: =($Y30-MOD($Y30,10))/10+IF(MOD($Y30,10)>2,1,0) -> 0 | J30: =($X30-MOD($X30,10))/10+IF(MOD($X30,10)>3,1,0) -> 0 | K30: =($Y30-MOD($Y30,10))/10+IF(MOD($Y30,10)>3,1,0) -> 0 | L30: =($X30-MOD($X30,10))/10+IF(MOD($X30,10)>4,1,0) -> 0 | M30: =($Y30-MOD($Y30,10))/10+IF(MOD($Y30,10)>4,1,0) -> 0 | N30: =($X30-MOD($X30,10))/10+IF(MOD($X30,10)>5,1,0) -> 0 | O30: =($Y30-MOD($Y30,10))/10+IF(MOD($Y30,10)>5,1,0) -> 0 | P30: =($X30-MOD($X30,10))/10+IF(MOD($X30,10)>6,1,0) -> 0 | Q30: =($Y30-MOD($Y30,10))/10+IF(MOD($Y30,10)>6,1,0) -> 0 | R30: =($X30-MOD($X30,10))/10+IF(MOD($X30,10)>7,1,0) -> 0 | S30: =($Y30-MOD($Y30,10))/10+IF(MOD($Y30,10)>7,1,0) -> 0 | T30: =($X30-MOD($X30,10))/10+IF(MOD($X30,10)>8,1,0) -> 0 | U30: =($Y30-MOD($Y30,10))/10+IF(MOD($Y30,10)>8,1,0) -> 0 | V30: =($X30-MOD($X30,10))/10+IF(MOD($X30,10)>9,1,0) -> 0 | W30: =($Y30-MOD($Y30,10))/10+IF(MOD($Y30,10)>9,1,0) -> 0 | X30: ='7Ceokul'!G26 -> 0 | Y30: ='7Ceokul'!H26 -> 0
A31: 26 | B31: ='7Ceokul'!A27 -> 0 | C31: ='7Ceokul'!B27 -> 0 | D31: =($X31-MOD($X31,10))/10+IF(MOD($X31,10)>0,1,0) -> 0 | E31: =($Y31-MOD($Y31,10))/10+IF(MOD($Y31,10)>0,1,0) -> 0 | F31: =($X31-MOD($X31,10))/10+IF(MOD($X31,10)>1,1,0) -> 0 | G31: =($Y31-MOD($Y31,10))/10+IF(MOD($Y31,10)>1,1,0) -> 0 | H31: =($X31-MOD($X31,10))/10+IF(MOD($X31,10)>2,1,0) -> 0 | I31: =($Y31-MOD($Y31,10))/10+IF(MOD($Y31,10)>2,1,0) -> 0 | J31: =($X31-MOD($X31,10))/10+IF(MOD($X31,10)>3,1,0) -> 0 | K31: =($Y31-MOD($Y31,10))/10+IF(MOD($Y31,10)>3,1,0) -> 0 | L31: =($X31-MOD($X31,10))/10+IF(MOD($X31,10)>4,1,0) -> 0 | M31: =($Y31-MOD($Y31,10))/10+IF(MOD($Y31,10)>4,1,0) -> 0 | N31: =($X31-MOD($X31,10))/10+IF(MOD($X31,10)>5,1,0) -> 0 | O31: =($Y31-MOD($Y31,10))/10+IF(MOD($Y31,10)>5,1,0) -> 0 | P31: =($X31-MOD($X31,10))/10+IF(MOD($X31,10)>6,1,0) -> 0 | Q31: =($Y31-MOD($Y31,10))/10+IF(MOD($Y31,10)>6,1,0) -> 0 | R31: =($X31-MOD($X31,10))/10+IF(MOD($X31,10)>7,1,0) -> 0 | S31: =($Y31-MOD($Y31,10))/10+IF(MOD($Y31,10)>7,1,0) -> 0 | T31: =($X31-MOD($X31,10))/10+IF(MOD($X31,10)>8,1,0) -> 0 | U31: =($Y31-MOD($Y31,10))/10+IF(MOD($Y31,10)>8,1,0) -> 0 | V31: =($X31-MOD($X31,10))/10+IF(MOD($X31,10)>9,1,0) -> 0 | W31: =($Y31-MOD($Y31,10))/10+IF(MOD($Y31,10)>9,1,0) -> 0 | X31: ='7Ceokul'!G27 -> 0 | Y31: ='7Ceokul'!H27 -> 0
A32: 27 | B32: ='7Ceokul'!A28 -> 0 | C32: ='7Ceokul'!B28 -> 0 | D32: =($X32-MOD($X32,10))/10+IF(MOD($X32,10)>0,1,0) -> 0 | E32: =($Y32-MOD($Y32,10))/10+IF(MOD($Y32,10)>0,1,0) -> 0 | F32: =($X32-MOD($X32,10))/10+IF(MOD($X32,10)>1,1,0) -> 0 | G32: =($Y32-MOD($Y32,10))/10+IF(MOD($Y32,10)>1,1,0) -> 0 | H32: =($X32-MOD($X32,10))/10+IF(MOD($X32,10)>2,1,0) -> 0 | I32: =($Y32-MOD($Y32,10))/10+IF(MOD($Y32,10)>2,1,0) -> 0 | J32: =($X32-MOD($X32,10))/10+IF(MOD($X32,10)>3,1,0) -> 0 | K32: =($Y32-MOD($Y32,10))/10+IF(MOD($Y32,10)>3,1,0) -> 0 | L32: =($X32-MOD($X32,10))/10+IF(MOD($X32,10)>4,1,0) -> 0 | M32: =($Y32-MOD($Y32,10))/10+IF(MOD($Y32,10)>4,1,0) -> 0 | N32: =($X32-MOD($X32,10))/10+IF(MOD($X32,10)>5,1,0) -> 0 | O32: =($Y32-MOD($Y32,10))/10+IF(MOD($Y32,10)>5,1,0) -> 0 | P32: =($X32-MOD($X32,10))/10+IF(MOD($X32,10)>6,1,0) -> 0 | Q32: =($Y32-MOD($Y32,10))/10+IF(MOD($Y32,10)>6,1,0) -> 0 | R32: =($X32-MOD($X32,10))/10+IF(MOD($X32,10)>7,1,0) -> 0 | S32: =($Y32-MOD($Y32,10))/10+IF(MOD($Y32,10)>7,1,0) -> 0 | T32: =($X32-MOD($X32,10))/10+IF(MOD($X32,10)>8,1,0) -> 0 | U32: =($Y32-MOD($Y32,10))/10+IF(MOD($Y32,10)>8,1,0) -> 0 | V32: =($X32-MOD($X32,10))/10+IF(MOD($X32,10)>9,1,0) -> 0 | W32: =($Y32-MOD($Y32,10))/10+IF(MOD($Y32,10)>9,1,0) -> 0 | X32: ='7Ceokul'!G28 -> 0 | Y32: ='7Ceokul'!H28 -> 0
A33: 28 | B33: ='7Ceokul'!A29 -> 0 | C33: ='7Ceokul'!B29 -> 0 | D33: =($X33-MOD($X33,10))/10+IF(MOD($X33,10)>0,1,0) -> 0 | E33: =($Y33-MOD($Y33,10))/10+IF(MOD($Y33,10)>0,1,0) -> 0 | F33: =($X33-MOD($X33,10))/10+IF(MOD($X33,10)>1,1,0) -> 0 | G33: =($Y33-MOD($Y33,10))/10+IF(MOD($Y33,10)>1,1,0) -> 0 | H33: =($X33-MOD($X33,10))/10+IF(MOD($X33,10)>2,1,0) -> 0 | I33: =($Y33-MOD($Y33,10))/10+IF(MOD($Y33,10)>2,1,0) -> 0 | J33: =($X33-MOD($X33,10))/10+IF(MOD($X33,10)>3,1,0) -> 0 | K33: =($Y33-MOD($Y33,10))/10+IF(MOD($Y33,10)>3,1,0) -> 0 | L33: =($X33-MOD($X33,10))/10+IF(MOD($X33,10)>4,1,0) -> 0 | M33: =($Y33-MOD($Y33,10))/10+IF(MOD($Y33,10)>4,1,0) -> 0 | N33: =($X33-MOD($X33,10))/10+IF(MOD($X33,10)>5,1,0) -> 0 | O33: =($Y33-MOD($Y33,10))/10+IF(MOD($Y33,10)>5,1,0) -> 0 | P33: =($X33-MOD($X33,10))/10+IF(MOD($X33,10)>6,1,0) -> 0 | Q33: =($Y33-MOD($Y33,10))/10+IF(MOD($Y33,10)>6,1,0) -> 0 | R33: =($X33-MOD($X33,10))/10+IF(MOD($X33,10)>7,1,0) -> 0 | S33: =($Y33-MOD($Y33,10))/10+IF(MOD($Y33,10)>7,1,0) -> 0 | T33: =($X33-MOD($X33,10))/10+IF(MOD($X33,10)>8,1,0) -> 0 | U33: =($Y33-MOD($Y33,10))/10+IF(MOD($Y33,10)>8,1,0) -> 0 | V33: =($X33-MOD($X33,10))/10+IF(MOD($X33,10)>9,1,0) -> 0 | W33: =($Y33-MOD($Y33,10))/10+IF(MOD($Y33,10)>9,1,0) -> 0 | X33: ='7Ceokul'!G29 -> 0 | Y33: ='7Ceokul'!H29 -> 0
A34: 29 | B34: ='7Ceokul'!A30 -> 0 | C34: ='7Ceokul'!B30 -> 0 | D34: =($X34-MOD($X34,10))/10+IF(MOD($X34,10)>0,1,0) -> 0 | E34: =($Y34-MOD($Y34,10))/10+IF(MOD($Y34,10)>0,1,0) -> 0 | F34: =($X34-MOD($X34,10))/10+IF(MOD($X34,10)>1,1,0) -> 0 | G34: =($Y34-MOD($Y34,10))/10+IF(MOD($Y34,10)>1,1,0) -> 0 | H34: =($X34-MOD($X34,10))/10+IF(MOD($X34,10)>2,1,0) -> 0 | I34: =($Y34-MOD($Y34,10))/10+IF(MOD($Y34,10)>2,1,0) -> 0 | J34: =($X34-MOD($X34,10))/10+IF(MOD($X34,10)>3,1,0) -> 0 | K34: =($Y34-MOD($Y34,10))/10+IF(MOD($Y34,10)>3,1,0) -> 0 | L34: =($X34-MOD($X34,10))/10+IF(MOD($X34,10)>4,1,0) -> 0 | M34: =($Y34-MOD($Y34,10))/10+IF(MOD($Y34,10)>4,1,0) -> 0 | N34: =($X34-MOD($X34,10))/10+IF(MOD($X34,10)>5,1,0) -> 0 | O34: =($Y34-MOD($Y34,10))/10+IF(MOD($Y34,10)>5,1,0) -> 0 | P34: =($X34-MOD($X34,10))/10+IF(MOD($X34,10)>6,1,0) -> 0 | Q34: =($Y34-MOD($Y34,10))/10+IF(MOD($Y34,10)>6,1,0) -> 0 | R34: =($X34-MOD($X34,10))/10+IF(MOD($X34,10)>7,1,0) -> 0 | S34: =($Y34-MOD($Y34,10))/10+IF(MOD($Y34,10)>7,1,0) -> 0 | T34: =($X34-MOD($X34,10))/10+IF(MOD($X34,10)>8,1,0) -> 0 | U34: =($Y34-MOD($Y34,10))/10+IF(MOD($Y34,10)>8,1,0) -> 0 | V34: =($X34-MOD($X34,10))/10+IF(MOD($X34,10)>9,1,0) -> 0 | W34: =($Y34-MOD($Y34,10))/10+IF(MOD($Y34,10)>9,1,0) -> 0 | X34: ='7Ceokul'!G30 -> 0 | Y34: ='7Ceokul'!H30 -> 0
A35: 30 | B35: ='7Ceokul'!A31 -> 0 | C35: ='7Ceokul'!B31 -> 0 | D35: =($X35-MOD($X35,10))/10+IF(MOD($X35,10)>0,1,0) -> 0 | E35: =($Y35-MOD($Y35,10))/10+IF(MOD($Y35,10)>0,1,0) -> 0 | F35: =($X35-MOD($X35,10))/10+IF(MOD($X35,10)>1,1,0) -> 0 | G35: =($Y35-MOD($Y35,10))/10+IF(MOD($Y35,10)>1,1,0) -> 0 | H35: =($X35-MOD($X35,10))/10+IF(MOD($X35,10)>2,1,0) -> 0 | I35: =($Y35-MOD($Y35,10))/10+IF(MOD($Y35,10)>2,1,0) -> 0 | J35: =($X35-MOD($X35,10))/10+IF(MOD($X35,10)>3,1,0) -> 0 | K35: =($Y35-MOD($Y35,10))/10+IF(MOD($Y35,10)>3,1,0) -> 0 | L35: =($X35-MOD($X35,10))/10+IF(MOD($X35,10)>4,1,0) -> 0 | M35: =($Y35-MOD($Y35,10))/10+IF(MOD($Y35,10)>4,1,0) -> 0 | N35: =($X35-MOD($X35,10))/10+IF(MOD($X35,10)>5,1,0) -> 0 | O35: =($Y35-MOD($Y35,10))/10+IF(MOD($Y35,10)>5,1,0) -> 0 | P35: =($X35-MOD($X35,10))/10+IF(MOD($X35,10)>6,1,0) -> 0 | Q35: =($Y35-MOD($Y35,10))/10+IF(MOD($Y35,10)>6,1,0) -> 0 | R35: =($X35-MOD($X35,10))/10+IF(MOD($X35,10)>7,1,0) -> 0 | S35: =($Y35-MOD($Y35,10))/10+IF(MOD($Y35,10)>7,1,0) -> 0 | T35: =($X35-MOD($X35,10))/10+IF(MOD($X35,10)>8,1,0) -> 0 | U35: =($Y35-MOD($Y35,10))/10+IF(MOD($Y35,10)>8,1,0) -> 0 | V35: =($X35-MOD($X35,10))/10+IF(MOD($X35,10)>9,1,0) -> 0 | W35: =($Y35-MOD($Y35,10))/10+IF(MOD($Y35,10)>9,1,0) -> 0 | X35: ='7Ceokul'!G31 -> 0 | Y35: ='7Ceokul'!H31 -> 0
A36: 31 | B36: ='7Ceokul'!A32 -> 0 | C36: ='7Ceokul'!B32 -> 0 | D36: =($X36-MOD($X36,10))/10+IF(MOD($X36,10)>0,1,0) -> 0 | E36: =($Y36-MOD($Y36,10))/10+IF(MOD($Y36,10)>0,1,0) -> 0 | F36: =($X36-MOD($X36,10))/10+IF(MOD($X36,10)>1,1,0) -> 0 | G36: =($Y36-MOD($Y36,10))/10+IF(MOD($Y36,10)>1,1,0) -> 0 | H36: =($X36-MOD($X36,10))/10+IF(MOD($X36,10)>2,1,0) -> 0 | I36: =($Y36-MOD($Y36,10))/10+IF(MOD($Y36,10)>2,1,0) -> 0 | J36: =($X36-MOD($X36,10))/10+IF(MOD($X36,10)>3,1,0) -> 0 | K36: =($Y36-MOD($Y36,10))/10+IF(MOD($Y36,10)>3,1,0) -> 0 | L36: =($X36-MOD($X36,10))/10+IF(MOD($X36,10)>4,1,0) -> 0 | M36: =($Y36-MOD($Y36,10))/10+IF(MOD($Y36,10)>4,1,0) -> 0 | N36: =($X36-MOD($X36,10))/10+IF(MOD($X36,10)>5,1,0) -> 0 | O36: =($Y36-MOD($Y36,10))/10+IF(MOD($Y36,10)>5,1,0) -> 0 | P36: =($X36-MOD($X36,10))/10+IF(MOD($X36,10)>6,1,0) -> 0 | Q36: =($Y36-MOD($Y36,10))/10+IF(MOD($Y36,10)>6,1,0) -> 0 | R36: =($X36-MOD($X36,10))/10+IF(MOD($X36,10)>7,1,0) -> 0 | S36: =($Y36-MOD($Y36,10))/10+IF(MOD($Y36,10)>7,1,0) -> 0 | T36: =($X36-MOD($X36,10))/10+IF(MOD($X36,10)>8,1,0) -> 0 | U36: =($Y36-MOD($Y36,10))/10+IF(MOD($Y36,10)>8,1,0) -> 0 | V36: =($X36-MOD($X36,10))/10+IF(MOD($X36,10)>9,1,0) -> 0 | W36: =($Y36-MOD($Y36,10))/10+IF(MOD($Y36,10)>9,1,0) -> 0 | X36: ='7Ceokul'!G32 -> 0 | Y36: ='7Ceokul'!H32 -> 0
A37: 32 | B37: ='7Ceokul'!A33 -> 0 | C37: ='7Ceokul'!B33 -> 0 | D37: =($X37-MOD($X37,10))/10+IF(MOD($X37,10)>0,1,0) -> 0 | E37: =($Y37-MOD($Y37,10))/10+IF(MOD($Y37,10)>0,1,0) -> 0 | F37: =($X37-MOD($X37,10))/10+IF(MOD($X37,10)>1,1,0) -> 0 | G37: =($Y37-MOD($Y37,10))/10+IF(MOD($Y37,10)>1,1,0) -> 0 | H37: =($X37-MOD($X37,10))/10+IF(MOD($X37,10)>2,1,0) -> 0 | I37: =($Y37-MOD($Y37,10))/10+IF(MOD($Y37,10)>2,1,0) -> 0 | J37: =($X37-MOD($X37,10))/10+IF(MOD($X37,10)>3,1,0) -> 0 | K37: =($Y37-MOD($Y37,10))/10+IF(MOD($Y37,10)>3,1,0) -> 0 | L37: =($X37-MOD($X37,10))/10+IF(MOD($X37,10)>4,1,0) -> 0 | M37: =($Y37-MOD($Y37,10))/10+IF(MOD($Y37,10)>4,1,0) -> 0 | N37: =($X37-MOD($X37,10))/10+IF(MOD($X37,10)>5,1,0) -> 0 | O37: =($Y37-MOD($Y37,10))/10+IF(MOD($Y37,10)>5,1,0) -> 0 | P37: =($X37-MOD($X37,10))/10+IF(MOD($X37,10)>6,1,0) -> 0 | Q37: =($Y37-MOD($Y37,10))/10+IF(MOD($Y37,10)>6,1,0) -> 0 | R37: =($X37-MOD($X37,10))/10+IF(MOD($X37,10)>7,1,0) -> 0 | S37: =($Y37-MOD($Y37,10))/10+IF(MOD($Y37,10)>7,1,0) -> 0 | T37: =($X37-MOD($X37,10))/10+IF(MOD($X37,10)>8,1,0) -> 0 | U37: =($Y37-MOD($Y37,10))/10+IF(MOD($Y37,10)>8,1,0) -> 0 | V37: =($X37-MOD($X37,10))/10+IF(MOD($X37,10)>9,1,0) -> 0 | W37: =($Y37-MOD($Y37,10))/10+IF(MOD($Y37,10)>9,1,0) -> 0 | X37: ='7Ceokul'!G33 -> 0 | Y37: ='7Ceokul'!H33 -> 0
A38: 33 | B38: ='7Ceokul'!A34 -> 0 | C38: ='7Ceokul'!B34 -> 0 | D38: =($X38-MOD($X38,10))/10+IF(MOD($X38,10)>0,1,0) -> 0 | E38: =($Y38-MOD($Y38,10))/10+IF(MOD($Y38,10)>0,1,0) -> 0 | F38: =($X38-MOD($X38,10))/10+IF(MOD($X38,10)>1,1,0) -> 0 | G38: =($Y38-MOD($Y38,10))/10+IF(MOD($Y38,10)>1,1,0) -> 0 | H38: =($X38-MOD($X38,10))/10+IF(MOD($X38,10)>2,1,0) -> 0 | I38: =($Y38-MOD($Y38,10))/10+IF(MOD($Y38,10)>2,1,0) -> 0 | J38: =($X38-MOD($X38,10))/10+IF(MOD($X38,10)>3,1,0) -> 0 | K38: =($Y38-MOD($Y38,10))/10+IF(MOD($Y38,10)>3,1,0) -> 0 | L38: =($X38-MOD($X38,10))/10+IF(MOD($X38,10)>4,1,0) -> 0 | M38: =($Y38-MOD($Y38,10))/10+IF(MOD($Y38,10)>4,1,0) -> 0 | N38: =($X38-MOD($X38,10))/10+IF(MOD($X38,10)>5,1,0) -> 0 | O38: =($Y38-MOD($Y38,10))/10+IF(MOD($Y38,10)>5,1,0) -> 0 | P38: =($X38-MOD($X38,10))/10+IF(MOD($X38,10)>6,1,0) -> 0 | Q38: =($Y38-MOD($Y38,10))/10+IF(MOD($Y38,10)>6,1,0) -> 0 | R38: =($X38-MOD($X38,10))/10+IF(MOD($X38,10)>7,1,0) -> 0 | S38: =($Y38-MOD($Y38,10))/10+IF(MOD($Y38,10)>7,1,0) -> 0 | T38: =($X38-MOD($X38,10))/10+IF(MOD($X38,10)>8,1,0) -> 0 | U38: =($Y38-MOD($Y38,10))/10+IF(MOD($Y38,10)>8,1,0) -> 0 | V38: =($X38-MOD($X38,10))/10+IF(MOD($X38,10)>9,1,0) -> 0 | W38: =($Y38-MOD($Y38,10))/10+IF(MOD($Y38,10)>9,1,0) -> 0 | X38: ='7Ceokul'!G34 -> 0 | Y38: ='7Ceokul'!H34 -> 0
A39: 34 | B39: ='7Ceokul'!A35 -> 0 | C39: ='7Ceokul'!B35 -> 0 | D39: =($X39-MOD($X39,10))/10+IF(MOD($X39,10)>0,1,0) -> 0 | E39: =($Y39-MOD($Y39,10))/10+IF(MOD($Y39,10)>0,1,0) -> 0 | F39: =($X39-MOD($X39,10))/10+IF(MOD($X39,10)>1,1,0) -> 0 | G39: =($Y39-MOD($Y39,10))/10+IF(MOD($Y39,10)>1,1,0) -> 0 | H39: =($X39-MOD($X39,10))/10+IF(MOD($X39,10)>2,1,0) -> 0 | I39: =($Y39-MOD($Y39,10))/10+IF(MOD($Y39,10)>2,1,0) -> 0 | J39: =($X39-MOD($X39,10))/10+IF(MOD($X39,10)>3,1,0) -> 0 | K39: =($Y39-MOD($Y39,10))/10+IF(MOD($Y39,10)>3,1,0) -> 0 | L39: =($X39-MOD($X39,10))/10+IF(MOD($X39,10)>4,1,0) -> 0 | M39: =($Y39-MOD($Y39,10))/10+IF(MOD($Y39,10)>4,1,0) -> 0 | N39: =($X39-MOD($X39,10))/10+IF(MOD($X39,10)>5,1,0) -> 0 | O39: =($Y39-MOD($Y39,10))/10+IF(MOD($Y39,10)>5,1,0) -> 0 | P39: =($X39-MOD($X39,10))/10+IF(MOD($X39,10)>6,1,0) -> 0 | Q39: =($Y39-MOD($Y39,10))/10+IF(MOD($Y39,10)>6,1,0) -> 0 | R39: =($X39-MOD($X39,10))/10+IF(MOD($X39,10)>7,1,0) -> 0 | S39: =($Y39-MOD($Y39,10))/10+IF(MOD($Y39,10)>7,1,0) -> 0 | T39: =($X39-MOD($X39,10))/10+IF(MOD($X39,10)>8,1,0) -> 0 | U39: =($Y39-MOD($Y39,10))/10+IF(MOD($Y39,10)>8,1,0) -> 0 | V39: =($X39-MOD($X39,10))/10+IF(MOD($X39,10)>9,1,0) -> 0 | W39: =($Y39-MOD($Y39,10))/10+IF(MOD($Y39,10)>9,1,0) -> 0 | X39: ='7Ceokul'!G35 -> 0 | Y39: ='7Ceokul'!H35 -> 0
... A42: 37 | B42: ='7Ceokul'!A38 -> 0 | C42: ='7Ceokul'!B38 -> 0 | D42: =($X42-MOD($X42,10))/10+IF(MOD($X42,10)>0,1,0) -> 0 | E42: =($Y42-MOD($Y42,10))/10+IF(MOD($Y42,10)>0,1,0) -> 0 | F42: =($X42-MOD($X42,10))/10+IF(MOD($X42,10)>1,1,0) -> 0 | G42: =($Y42-MOD($Y42,10))/10+IF(MOD($Y42,10)>1,1,0) -> 0 | H42: =($X42-MOD($X42,10))/10+IF(MOD($X42,10)>2,1,0) -> 0 | I42: =($Y42-MOD($Y42,10))/10+IF(MOD($Y42,10)>2,1,0) -> 0 | J42: =($X42-MOD($X42,10))/10+IF(MOD($X42,10)>3,1,0) -> 0 | K42: =($Y42-MOD($Y42,10))/10+IF(MOD($Y42,10)>3,1,0) -> 0 | L42: =($X42-MOD($X42,10))/10+IF(MOD($X42,10)>4,1,0) -> 0 | M42: =($Y42-MOD($Y42,10))/10+IF(MOD($Y42,10)>4,1,0) -> 0 | N42: =($X42-MOD($X42,10))/10+IF(MOD($X42,10)>5,1,0) -> 0 | O42: =($Y42-MOD($Y42,10))/10+IF(MOD($Y42,10)>5,1,0) -> 0 | P42: =($X42-MOD($X42,10))/10+IF(MOD($X42,10)>6,1,0) -> 0 | Q42: =($Y42-MOD($Y42,10))/10+IF(MOD($Y42,10)>6,1,0) -> 0 | R42: =($X42-MOD($X42,10))/10+IF(MOD($X42,10)>7,1,0) -> 0 | S42: =($Y42-MOD($Y42,10))/10+IF(MOD($Y42,10)>7,1,0) -> 0 | T42: =($X42-MOD($X42,10))/10+IF(MOD($X42,10)>8,1,0) -> 0 | U42: =($Y42-MOD($Y42,10))/10+IF(MOD($Y42,10)>8,1,0) -> 0 | V42: =($X42-MOD($X42,10))/10+IF(MOD($X42,10)>9,1,0) -> 0 | W42: =($Y42-MOD($Y42,10))/10+IF(MOD($Y42,10)>9,1,0) -> 0 | X42: ='7Ceokul'!G38 -> 0 | Y42: ='7Ceokul'!H38 -> 0
A43: 38 | B43: ='7Ceokul'!A39 -> 0 | C43: ='7Ceokul'!B39 -> 0 | D43: =($X43-MOD($X43,10))/10+IF(MOD($X43,10)>0,1,0) -> 0 | E43: =($Y43-MOD($Y43,10))/10+IF(MOD($Y43,10)>0,1,0) -> 0 | F43: =($X43-MOD($X43,10))/10+IF(MOD($X43,10)>1,1,0) -> 0 | G43: =($Y43-MOD($Y43,10))/10+IF(MOD($Y43,10)>1,1,0) -> 0 | H43: =($X43-MOD($X43,10))/10+IF(MOD($X43,10)>2,1,0) -> 0 | I43: =($Y43-MOD($Y43,10))/10+IF(MOD($Y43,10)>2,1,0) -> 0 | J43: =($X43-MOD($X43,10))/10+IF(MOD($X43,10)>3,1,0) -> 0 | K43: =($Y43-MOD($Y43,10))/10+IF(MOD($Y43,10)>3,1,0) -> 0 | L43: =($X43-MOD($X43,10))/10+IF(MOD($X43,10)>4,1,0) -> 0 | M43: =($Y43-MOD($Y43,10))/10+IF(MOD($Y43,10)>4,1,0) -> 0 | N43: =($X43-MOD($X43,10))/10+IF(MOD($X43,10)>5,1,0) -> 0 | O43: =($Y43-MOD($Y43,10))/10+IF(MOD($Y43,10)>5,1,0) -> 0 | P43: =($X43-MOD($X43,10))/10+IF(MOD($X43,10)>6,1,0) -> 0 | Q43: =($Y43-MOD($Y43,10))/10+IF(MOD($Y43,10)>6,1,0) -> 0 | R43: =($X43-MOD($X43,10))/10+IF(MOD($X43,10)>7,1,0) -> 0 | S43: =($Y43-MOD($Y43,10))/10+IF(MOD($Y43,10)>7,1,0) -> 0 | T43: =($X43-MOD($X43,10))/10+IF(MOD($X43,10)>8,1,0) -> 0 | U43: =($Y43-MOD($Y43,10))/10+IF(MOD($Y43,10)>8,1,0) -> 0 | V43: =($X43-MOD($X43,10))/10+IF(MOD($X43,10)>9,1,0) -> 0 | W43: =($Y43-MOD($Y43,10))/10+IF(MOD($Y43,10)>9,1,0) -> 0 | X43: ='7Ceokul'!G39 -> 0 | Y43: ='7Ceokul'!H39 -> 0 | Z43: 100 | AA43: 10 | AB43: 10 | AC43: 10 | AD43: 10 | AE43: 5 | AF43: 5 | AG43: 15 | AH43: 15 | AI43: 10 | AJ43: 10 | AK43: 100
AA44: 10 | AB44: 10 | AC44: 10 | AD44: 10 | AE44: 5 | AF44: 5 | AG44: 15 | AH44: 15 | AI44: 10 | AJ44: 10 | AK44: 100

Sheet 7B
A1: =önbilgi!B5 -> 2019-2020 1. DÖNEM | D1: ÖLÇÜTLER
A2: =CONCATENATE(önbilgi!B4," ",'7Beokul'!N1," SINIFI ",önbilgi!B2," ","DERSİ DERS İÇİ ETKİNLİKLERE KATILIM PUANLAMA ÖLÇEĞİ") -> 7B SINIFI …………………………. DERSİ DERS İÇİ ETKİNLİKLERE KATILIM PUANLAMA ÖLÇEĞİ | D2: Derse hazırlıklı gelir. | F2: Derste kurallara uyar, dersin düzenini bozmaz. | H2: Ders araç gerekçlerini düzenli getirir. | J2: Okula geç kalma, devamsızlık alışkanlığının takibi | L2: Konu ile ilgili görüşlerini açıkça ifade eder | N2: Disiplin ve disiplin cezası durumu | P2: Yeni, özgün ve eleştirel sorular sorar. | R2: Öğrencinin kılık kıyafet durumu | T2: Okul ve ders etkinliklerine aktif katılım yapar. | V2: Öğretmene arkadaşlarına, çevreye saygı duyma | X2: TOPLAM
A3: ÖĞRENCİLER | D3: PUANLAR
A4: SIRA | B4: NO | C4: ADI SOYADI | D4: 10 | F4: 10 | H4: 10 | J4: 10 | L4: 10 | N4: 10 | P4: 10 | R4: 10 | T4: 10 | V4: 10 | X4: =SUM(D4:W4) -> 100 | Y4: 100 | Z4: =SUM(F4:X4) -> 190 | AB4: =SUM(G4:Z4) -> 470 | AD4: =SUM(H4:AB4) -> 940 | AF4: =SUM(J4:AD4) -> 1870 | AH4: =SUM(K4:AF4) -> 3730 | AJ4: =SUM(L4:AH4) -> 7460 | AL4: 100
D5: I. | E5: II. | F5: I. | G5: II. | H5: I. | I5: II. | J5: I. | K5: II. | L5: I. | M5: II. | N5: I. | O5: II. | P5: I. | Q5: II. | R5: I. | S5: II. | T5: I. | U5: II. | V5: I. | W5: II. | X5: I. | Y5: II. | Z5: II. | AA5: II. | AB5: II. | AC5: II. | AD5: II. | AE5: II. | AF5: II. | AG5: II. | AH5: II. | AI5: II. | AJ5: II. | AK5: II. | AL5: II.
A6: 1 | B6: ='7Beokul'!A2 -> 0 | C6: ='7Beokul'!B2 -> 0 | D6: =($X6-MOD($X6,10))/10+IF(MOD($X6,10)>0,1,0) -> 0 | E6: =($Y6-MOD($Y6,10))/10+IF(MOD($Y6,10)>0,1,0) -> 0 | F6: =($X6-MOD($X6,10))/10+IF(MOD($X6,10)>1,1,0) -> 0 | G6: =($Y6-MOD($Y6,10))/10+IF(MOD($Y6,10)>1,1,0) -> 0 | H6: =($X6-MOD($X6,10))/10+IF(MOD($X6,10)>2,1,0) -> 0 | I6: =($Y6-MOD($Y6,10))/10+IF(MOD($Y6,10)>2,1,0) -> 0 | J6: =($X6-MOD($X6,10))/10+IF(MOD($X6,10)>3,1,0) -> 0 | K6: =($Y6-MOD($Y6,10))/10+IF(MOD($Y6,10)>3,1,0) -> 0 | L6: =($X6-MOD($X6,10))/10+IF(MOD($X6,10)>4,1,0) -> 0 | M6: =($Y6-MOD($Y6,10))/10+IF(MOD($Y6,10)>4,1,0) -> 0 | N6: =($X6-MOD($X6,10))/10+IF(MOD($X6,10)>5,1,0) -> 0 | O6: =($Y6-MOD($Y6,10))/10+IF(MOD($Y6,10)>5,1,0) -> 0 | P6: =($X6-MOD($X6,10))/10+IF(MOD($X6,10)>6,1,0) -> 0 | Q6: =($Y6-MOD($Y6,10))/10+IF(MOD($Y6,10)>6,1,0) -> 0 | R6: =($X6-MOD($X6,10))/10+IF(MOD($X6,10)>7,1,0) -> 0 | S6: =($Y6-MOD($Y6,10))/10+IF(MOD($Y6,10)>7,1,0) -> 0 | T6: =($X6-MOD($X6,10))/10+IF(MOD($X6,10)>8,1,0) -> 0 | U6: =($Y6-MOD($Y6,10))/10+IF(MOD($Y6,10)>8,1,0) -> 0 | V6: =($X6-MOD($X6,10))/10+IF(MOD($X6,10)>9,1,0) -> 0 | W6: =($Y6-MOD($Y6,10))/10+IF(MOD($Y6,10)>9,1,0) -> 0 | X6: ='7Beokul'!G2 -> 0 | Y6: ='7Beokul'!H2 -> 0 | Z6: ='7Beokul'!I2 -> 0 | AA6: ='7Beokul'!J2 -> 0 | AB6: ='7Beokul'!K2 -> 0 | AC6: ='7Beokul'!L2 -> 0 | AD6: ='7Beokul'!M2 -> 0 | AE6: ='7Beokul'!N2 -> 0 | ... AL6: ='7Beokul'!U2 -> 0
A7: 2 | B7: ='7Beokul'!A3 -> 0 | C7: ='7Beokul'!B3 -> 0 | D7: =($X7-MOD($X7,10))/10+IF(MOD($X7,10)>0,1,0) -> 0 | E7: =($Y7-MOD($Y7,10))/10+IF(MOD($Y7,10)>0,1,0) -> 0 | F7: =($X7-MOD($X7,10))/10+IF(MOD($X7,10)>1,1,0) -> 0 | G7: =($Y7-MOD($Y7,10))/10+IF(MOD($Y7,10)>1,1,0) -> 0 | H7: =($X7-MOD($X7,10))/10+IF(MOD($X7,10)>2,1,0) -> 0 | I7: =($Y7-MOD($Y7,10))/10+IF(MOD($Y7,10)>2,1,0) -> 0 | J7: =($X7-MOD($X7,10))/10+IF(MOD($X7,10)>3,1,0) -> 0 | K7: =($Y7-MOD($Y7,10))/10+IF(MOD($Y7,10)>3,1,0) -> 0 | L7: =($X7-MOD($X7,10))/10+IF(MOD($X7,10)>4,1,0) -> 0 | M7: =($Y7-MOD($Y7,10))/10+IF(MOD($Y7,10)>4,1,0) -> 0 | N7: =($X7-MOD($X7,10))/10+IF(MOD($X7,10)>5,1,0) -> 0 | O7: =($Y7-MOD($Y7,10))/10+IF(MOD($Y7,10)>5,1,0) -> 0 | P7: =($X7-MOD($X7,10))/10+IF(MOD($X7,10)>6,1,0) -> 0 | Q7: =($Y7-MOD($Y7,10))/10+IF(MOD($Y7,10)>6,1,0) -> 0 | R7: =($X7-MOD($X7,10))/10+IF(MOD($X7,10)>7,1,0) -> 0 | S7: =($Y7-MOD($Y7,10))/10+IF(MOD($Y7,10)>7,1,0) -> 0 | T7: =($X7-MOD($X7,10))/10+IF(MOD($X7,10)>8,1,0) -> 0 | U7: =($Y7-MOD($Y7,10))/10+IF(MOD($Y7,10)>8,1,0) -> 0 | V7: =($X7-MOD($X7,10))/10+IF(MOD($X7,10)>9,1,0) -> 0 | W7: =($Y7-MOD($Y7,10))/10+IF(MOD($Y7,10)>9,1,0) -> 0 | X7: ='7Beokul'!G3 -> 0 | Y7: ='7Beokul'!H3 -> 0 | Z7: ='7Beokul'!I3 -> 0 | AA7: ='7Beokul'!J3 -> 0 | AB7: ='7Beokul'!K3 -> 0 | AC7: ='7Beokul'!L3 -> 0 | AD7: ='7Beokul'!M3 -> 0 | AE7: ='7Beokul'!N3 -> 0 | ... AL7: ='7Beokul'!U3 -> 0
A8: 3 | B8: ='7Beokul'!A4 -> 0 | C8: ='7Beokul'!B4 -> 0 | D8: =($X8-MOD($X8,10))/10+IF(MOD($X8,10)>0,1,0) -> 0 | E8: =($Y8-MOD($Y8,10))/10+IF(MOD($Y8,10)>0,1,0) -> 0 | F8: =($X8-MOD($X8,10))/10+IF(MOD($X8,10)>1,1,0) -> 0 | G8: =($Y8-MOD($Y8,10))/10+IF(MOD($Y8,10)>1,1,0) -> 0 | H8: =($X8-MOD($X8,10))/10+IF(MOD($X8,10)>2,1,0) -> 0 | I8: =($Y8-MOD($Y8,10))/10+IF(MOD($Y8,10)>2,1,0) -> 0 | J8: =($X8-MOD($X8,10))/10+IF(MOD($X8,10)>3,1,0) -> 0 | K8: =($Y8-MOD($Y8,10))/10+IF(MOD($Y8,10)>3,1,0) -> 0 | L8: =($X8-MOD($X8,10))/10+IF(MOD($X8,10)>4,1,0) -> 0 | M8: =($Y8-MOD($Y8,10))/10+IF(MOD($Y8,10)>4,1,0) -> 0 | N8: =($X8-MOD($X8,10))/10+IF(MOD($X8,10)>5,1,0) -> 0 | O8: =($Y8-MOD($Y8,10))/10+IF(MOD($Y8,10)>5,1,0) -> 0 | P8: =($X8-MOD($X8,10))/10+IF(MOD($X8,10)>6,1,0) -> 0 | Q8: =($Y8-MOD($Y8,10))/10+IF(MOD($Y8,10)>6,1,0) -> 0 | R8: =($X8-MOD($X8,10))/10+IF(MOD($X8,10)>7,1,0) -> 0 | S8: =($Y8-MOD($Y8,10))/10+IF(MOD($Y8,10)>7,1,0) -> 0 | T8: =($X8-MOD($X8,10))/10+IF(MOD($X8,10)>8,1,0) -> 0 | U8: =($Y8-MOD($Y8,10))/10+IF(MOD($Y8,10)>8,1,0) -> 0 | V8: =($X8-MOD($X8,10))/10+IF(MOD($X8,10)>9,1,0) -> 0 | W8: =($Y8-MOD($Y8,10))/10+IF(MOD($Y8,10)>9,1,0) -> 0 | X8: ='7Beokul'!G4 -> 0 | Y8: ='7Beokul'!H4 -> 0 | Z8: ='7Beokul'!I4 -> 0 | AA8: ='7Beokul'!J4 -> 0 | AB8: ='7Beokul'!K4 -> 0 | AC8: ='7Beokul'!L4 -> 0 | AD8: ='7Beokul'!M4 -> 0 | AE8: ='7Beokul'!N4 -> 0 | ... AL8: ='7Beokul'!U4 -> 0
A9: 4 | B9: ='7Beokul'!A5 -> 0 | C9: ='7Beokul'!B5 -> 0 | D9: =($X9-MOD($X9,10))/10+IF(MOD($X9,10)>0,1,0) -> 0 | E9: =($Y9-MOD($Y9,10))/10+IF(MOD($Y9,10)>0,1,0) -> 0 | F9: =($X9-MOD($X9,10))/10+IF(MOD($X9,10)>1,1,0) -> 0 | G9: =($Y9-MOD($Y9,10))/10+IF(MOD($Y9,10)>1,1,0) -> 0 | H9: =($X9-MOD($X9,10))/10+IF(MOD($X9,10)>2,1,0) -> 0 | I9: =($Y9-MOD($Y9,10))/10+IF(MOD($Y9,10)>2,1,0) -> 0 | J9: =($X9-MOD($X9,10))/10+IF(MOD($X9,10)>3,1,0) -> 0 | K9: =($Y9-MOD($Y9,10))/10+IF(MOD($Y9,10)>3,1,0) -> 0 | L9: =($X9-MOD($X9,10))/10+IF(MOD($X9,10)>4,1,0) -> 0 | M9: =($Y9-MOD($Y9,10))/10+IF(MOD($Y9,10)>4,1,0) -> 0 | N9: =($X9-MOD($X9,10))/10+IF(MOD($X9,10)>5,1,0) -> 0 | O9: =($Y9-MOD($Y9,10))/10+IF(MOD($Y9,10)>5,1,0) -> 0 | P9: =($X9-MOD($X9,10))/10+IF(MOD($X9,10)>6,1,0) -> 0 | Q9: =($Y9-MOD($Y9,10))/10+IF(MOD($Y9,10)>6,1,0) -> 0 | R9: =($X9-MOD($X9,10))/10+IF(MOD($X9,10)>7,1,0) -> 0 | S9: =($Y9-MOD($Y9,10))/10+IF(MOD($Y9,10)>7,1,0) -> 0 | T9: =($X9-MOD($X9,10))/10+IF(MOD($X9,10)>8,1,0) -> 0 | U9: =($Y9-MOD($Y9,10))/10+IF(MOD($Y9,10)>8,1,0) -> 0 | V9: =($X9-MOD($X9,10))/10+IF(MOD($X9,10)>9,1,0) -> 0 | W9: =($Y9-MOD($Y9,10))/10+IF(MOD($Y9,10)>9,1,0) -> 0 | X9: ='7Beokul'!G5 -> 0 | Y9: ='7Beokul'!H5 -> 0 | Z9: ='7Beokul'!I5 -> 0 | AA9: ='7Beokul'!J5 -> 0 | AB9: ='7Beokul'!K5 -> 0 | AC9: ='7Beokul'!L5 -> 0 | AD9: ='7Beokul'!M5 -> 0 | AE9: ='7Beokul'!N5 -> 0 | ... AL9: ='7Beokul'!U5 -> 0
A10: 5 | B10: ='7Beokul'!A6 -> 0 | C10: ='7Beokul'!B6 -> 0 | D10: =($X10-MOD($X10,10))/10+IF(MOD($X10,10)>0,1,0) -> 0 | E10: =($Y10-MOD($Y10,10))/10+IF(MOD($Y10,10)>0,1,0) -> 0 | F10: =($X10-MOD($X10,10))/10+IF(MOD($X10,10)>1,1,0) -> 0 | G10: =($Y10-MOD($Y10,10))/10+IF(MOD($Y10,10)>1,1,0) -> 0 | H10: =($X10-MOD($X10,10))/10+IF(MOD($X10,10)>2,1,0) -> 0 | I10: =($Y10-MOD($Y10,10))/10+IF(MOD($Y10,10)>2,1,0) -> 0 | J10: =($X10-MOD($X10,10))/10+IF(MOD($X10,10)>3,1,0) -> 0 | K10: =($Y10-MOD($Y10,10))/10+IF(MOD($Y10,10)>3,1,0) -> 0 | L10: =($X10-MOD($X10,10))/10+IF(MOD($X10,10)>4,1,0) -> 0 | M10: =($Y10-MOD($Y10,10))/10+IF(MOD($Y10,10)>4,1,0) -> 0 | N10: =($X10-MOD($X10,10))/10+IF(MOD($X10,10)>5,1,0) -> 0 | O10: =($Y10-MOD($Y10,10))/10+IF(MOD($Y10,10)>5,1,0) -> 0 | P10: =($X10-MOD($X10,10))/10+IF(MOD($X10,10)>6,1,0) -> 0 | Q10: =($Y10-MOD($Y10,10))/10+IF(MOD($Y10,10)>6,1,0) -> 0 | R10: =($X10-MOD($X10,10))/10+IF(MOD($X10,10)>7,1,0) -> 0 | S10: =($Y10-MOD($Y10,10))/10+IF(MOD($Y10,10)>7,1,0) -> 0 | T10: =($X10-MOD($X10,10))/10+IF(MOD($X10,10)>8,1,0) -> 0 | U10: =($Y10-MOD($Y10,10))/10+IF(MOD($Y10,10)>8,1,0) -> 0 | V10: =($X10-MOD($X10,10))/10+IF(MOD($X10,10)>9,1,0) -> 0 | W10: =($Y10-MOD($Y10,10))/10+IF(MOD($Y10,10)>9,1,0) -> 0 | X10: ='7Beokul'!G6 -> 0 | Y10: ='7Beokul'!H6 -> 0 | Z10: ='7Beokul'!I6 -> 0 | AA10: ='7Beokul'!J6 -> 0 | AB10: ='7Beokul'!K6 -> 0 | AC10: ='7Beokul'!L6 -> 0 | AD10: ='7Beokul'!M6 -> 0 | AE10: ='7Beokul'!N6 -> 0 | ... AL10: ='7Beokul'!U6 -> 0
A11: 6 | B11: ='7Beokul'!A7 -> 0 | C11: ='7Beokul'!B7 -> 0 | D11: =($X11-MOD($X11,10))/10+IF(MOD($X11,10)>0,1,0) -> 0 | E11: =($Y11-MOD($Y11,10))/10+IF(MOD($Y11,10)>0,1,0) -> 0 | F11: =($X11-MOD($X11,10))/10+IF(MOD($X11,10)>1,1,0) -> 0 | G11: =($Y11-MOD($Y11,10))/10+IF(MOD($Y11,10)>1,1,0) -> 0 | H11: =($X11-MOD($X11,10))/10+IF(MOD($X11,10)>2,1,0) -> 0 | I11: =($Y11-MOD($Y11,10))/10+IF(MOD($Y11,10)>2,1,0) -> 0 | J11: =($X11-MOD($X11,10))/10+IF(MOD($X11,10)>3,1,0) -> 0 | K11: =($Y11-MOD($Y11,10))/10+IF(MOD($Y11,10)>3,1,0) -> 0 | L11: =($X11-MOD($X11,10))/10+IF(MOD($X11,10)>4,1,0) -> 0 | M11: =($Y11-MOD($Y11,10))/10+IF(MOD($Y11,10)>4,1,0) -> 0 | N11: =($X11-MOD($X11,10))/10+IF(MOD($X11,10)>5,1,0) -> 0 | O11: =($Y11-MOD($Y11,10))/10+IF(MOD($Y11,10)>5,1,0) -> 0 | P11: =($X11-MOD($X11,10))/10+IF(MOD($X11,10)>6,1,0) -> 0 | Q11: =($Y11-MOD($Y11,10))/10+IF(MOD($Y11,10)>6,1,0) -> 0 | R11: =($X11-MOD($X11,10))/10+IF(MOD($X11,10)>7,1,0) -> 0 | S11: =($Y11-MOD($Y11,10))/10+IF(MOD($Y11,10)>7,1,0) -> 0 | T11: =($X11-MOD($X11,10))/10+IF(MOD($X11,10)>8,1,0) -> 0 | U11: =($Y11-MOD($Y11,10))/10+IF(MOD($Y11,10)>8,1,0) -> 0 | V11: =($X11-MOD($X11,10))/10+IF(MOD($X11,10)>9,1,0) -> 0 | W11: =($Y11-MOD($Y11,10))/10+IF(MOD($Y11,10)>9,1,0) -> 0 | X11: ='7Beokul'!G7 -> 0 | Y11: ='7Beokul'!H7 -> 0 | Z11: ='7Beokul'!I7 -> 0 | AA11: ='7Beokul'!J7 -> 0 | AB11: ='7Beokul'!K7 -> 0 | AC11: ='7Beokul'!L7 -> 0 | AD11: ='7Beokul'!M7 -> 0 | AE11: ='7Beokul'!N7 -> 0 | ... AL11: ='7Beokul'!U7 -> 0
A12: 7 | B12: ='7Beokul'!A8 -> 0 | C12: ='7Beokul'!B8 -> 0 | D12: =($X12-MOD($X12,10))/10+IF(MOD($X12,10)>0,1,0) -> 0 | E12: =($Y12-MOD($Y12,10))/10+IF(MOD($Y12,10)>0,1,0) -> 0 | F12: =($X12-MOD($X12,10))/10+IF(MOD($X12,10)>1,1,0) -> 0 | G12: =($Y12-MOD($Y12,10))/10+IF(MOD($Y12,10)>1,1,0) -> 0 | H12: =($X12-MOD($X12,10))/10+IF(MOD($X12,10)>2,1,0) -> 0 | I12: =($Y12-MOD($Y12,10))/10+IF(MOD($Y12,10)>2,1,0) -> 0 | J12: =($X12-MOD($X12,10))/10+IF(MOD($X12,10)>3,1,0) -> 0 | K12: =($Y12-MOD($Y12,10))/10+IF(MOD($Y12,10)>3,1,0) -> 0 | L12: =($X12-MOD($X12,10))/10+IF(MOD($X12,10)>4,1,0) -> 0 | M12: =($Y12-MOD($Y12,10))/10+IF(MOD($Y12,10)>4,1,0) -> 0 | N12: =($X12-MOD($X12,10))/10+IF(MOD($X12,10)>5,1,0) -> 0 | O12: =($Y12-MOD($Y12,10))/10+IF(MOD($Y12,10)>5,1,0) -> 0 | P12: =($X12-MOD($X12,10))/10+IF(MOD($X12,10)>6,1,0) -> 0 | Q12: =($Y12-MOD($Y12,10))/10+IF(MOD($Y12,10)>6,1,0) -> 0 | R12: =($X12-MOD($X12,10))/10+IF(MOD($X12,10)>7,1,0) -> 0 | S12: =($Y12-MOD($Y12,10))/10+IF(MOD($Y12,10)>7,1,0) -> 0 | T12: =($X12-MOD($X12,10))/10+IF(MOD($X12,10)>8,1,0) -> 0 | U12: =($Y12-MOD($Y12,10))/10+IF(MOD($Y12,10)>8,1,0) -> 0 | V12: =($X12-MOD($X12,10))/10+IF(MOD($X12,10)>9,1,0) -> 0 | W12: =($Y12-MOD($Y12,10))/10+IF(MOD($Y12,10)>9,1,0) -> 0 | X12: ='7Beokul'!G8 -> 0 | Y12: ='7Beokul'!H8 -> 0 | Z12: ='7Beokul'!I8 -> 0 | AA12: ='7Beokul'!J8 -> 0 | AB12: ='7Beokul'!K8 -> 0 | AC12: ='7Beokul'!L8 -> 0 | AD12: ='7Beokul'!M8 -> 0 | AE12: ='7Beokul'!N8 -> 0 | ... AL12: ='7Beokul'!U8 -> 0
A13: 8 | B13: ='7Beokul'!A9 -> 0 | C13: ='7Beokul'!B9 -> 0 | D13: =($X13-MOD($X13,10))/10+IF(MOD($X13,10)>0,1,0) -> 0 | E13: =($Y13-MOD($Y13,10))/10+IF(MOD($Y13,10)>0,1,0) -> 0 | F13: =($X13-MOD($X13,10))/10+IF(MOD($X13,10)>1,1,0) -> 0 | G13: =($Y13-MOD($Y13,10))/10+IF(MOD($Y13,10)>1,1,0) -> 0 | H13: =($X13-MOD($X13,10))/10+IF(MOD($X13,10)>2,1,0) -> 0 | I13: =($Y13-MOD($Y13,10))/10+IF(MOD($Y13,10)>2,1,0) -> 0 | J13: =($X13-MOD($X13,10))/10+IF(MOD($X13,10)>3,1,0) -> 0 | K13: =($Y13-MOD($Y13,10))/10+IF(MOD($Y13,10)>3,1,0) -> 0 | L13: =($X13-MOD($X13,10))/10+IF(MOD($X13,10)>4,1,0) -> 0 | M13: =($Y13-MOD($Y13,10))/10+IF(MOD($Y13,10)>4,1,0) -> 0 | N13: =($X13-MOD($X13,10))/10+IF(MOD($X13,10)>5,1,0) -> 0 | O13: =($Y13-MOD($Y13,10))/10+IF(MOD($Y13,10)>5,1,0) -> 0 | P13: =($X13-MOD($X13,10))/10+IF(MOD($X13,10)>6,1,0) -> 0 | Q13: =($Y13-MOD($Y13,10))/10+IF(MOD($Y13,10)>6,1,0) -> 0 | R13: =($X13-MOD($X13,10))/10+IF(MOD($X13,10)>7,1,0) -> 0 | S13: =($Y13-MOD($Y13,10))/10+IF(MOD($Y13,10)>7,1,0) -> 0 | T13: =($X13-MOD($X13,10))/10+IF(MOD($X13,10)>8,1,0) -> 0 | U13: =($Y13-MOD($Y13,10))/10+IF(MOD($Y13,10)>8,1,0) -> 0 | V13: =($X13-MOD($X13,10))/10+IF(MOD($X13,10)>9,1,0) -> 0 | W13: =($Y13-MOD($Y13,10))/10+IF(MOD($Y13,10)>9,1,0) -> 0 | X13: ='7Beokul'!G9 -> 0 | Y13: ='7Beokul'!H9 -> 0 | Z13: ='7Beokul'!I9 -> 0 | AA13: ='7Beokul'!J9 -> 0 | AB13: ='7Beokul'!K9 -> 0 | AC13: ='7Beokul'!L9 -> 0 | AD13: ='7Beokul'!M9 -> 0 | AE13: ='7Beokul'!N9 -> 0 | ... AL13: ='7Beokul'!U9 -> 0
A14: 9 | B14: ='7Beokul'!A10 -> 0 | C14: ='7Beokul'!B10 -> 0 | D14: =($X14-MOD($X14,10))/10+IF(MOD($X14,10)>0,1,0) -> 0 | E14: =($Y14-MOD($Y14,10))/10+IF(MOD($Y14,10)>0,1,0) -> 0 | F14: =($X14-MOD($X14,10))/10+IF(MOD($X14,10)>1,1,0) -> 0 | G14: =($Y14-MOD($Y14,10))/10+IF(MOD($Y14,10)>1,1,0) -> 0 | H14: =($X14-MOD($X14,10))/10+IF(MOD($X14,10)>2,1,0) -> 0 | I14: =($Y14-MOD($Y14,10))/10+IF(MOD($Y14,10)>2,1,0) -> 0 | J14: =($X14-MOD($X14,10))/10+IF(MOD($X14,10)>3,1,0) -> 0 | K14: =($Y14-MOD($Y14,10))/10+IF(MOD($Y14,10)>3,1,0) -> 0 | L14: =($X14-MOD($X14,10))/10+IF(MOD($X14,10)>4,1,0) -> 0 | M14: =($Y14-MOD($Y14,10))/10+IF(MOD($Y14,10)>4,1,0) -> 0 | N14: =($X14-MOD($X14,10))/10+IF(MOD($X14,10)>5,1,0) -> 0 | O14: =($Y14-MOD($Y14,10))/10+IF(MOD($Y14,10)>5,1,0) -> 0 | P14: =($X14-MOD($X14,10))/10+IF(MOD($X14,10)>6,1,0) -> 0 | Q14: =($Y14-MOD($Y14,10))/10+IF(MOD($Y14,10)>6,1,0) -> 0 | R14: =($X14-MOD($X14,10))/10+IF(MOD($X14,10)>7,1,0) -> 0 | S14: =($Y14-MOD($Y14,10))/10+IF(MOD($Y14,10)>7,1,0) -> 0 | T14: =($X14-MOD($X14,10))/10+IF(MOD($X14,10)>8,1,0) -> 0 | U14: =($Y14-MOD($Y14,10))/10+IF(MOD($Y14,10)>8,1,0) -> 0 | V14: =($X14-MOD($X14,10))/10+IF(MOD($X14,10)>9,1,0) -> 0 | W14: =($Y14-MOD($Y14,10))/10+IF(MOD($Y14,10)>9,1,0) -> 0 | X14: ='7Beokul'!G10 -> 0 | Y14: ='7Beokul'!H10 -> 0 | Z14: ='7Beokul'!I10 -> 0 | AA14: ='7Beokul'!J10 -> 0 | AB14: ='7Beokul'!K10 -> 0 | AC14: ='7Beokul'!L10 -> 0 | AD14: ='7Beokul'!M10 -> 0 | AE14: ='7Beokul'!N10 -> 0 | ... AL14: ='7Beokul'!U10 -> 0
A15: 10 | B15: ='7Beokul'!A11 -> 0 | C15: ='7Beokul'!B11 -> 0 | D15: =($X15-MOD($X15,10))/10+IF(MOD($X15,10)>0,1,0) -> 0 | E15: =($Y15-MOD($Y15,10))/10+IF(MOD($Y15,10)>0,1,0) -> 0 | F15: =($X15-MOD($X15,10))/10+IF(MOD($X15,10)>1,1,0) -> 0 | G15: =($Y15-MOD($Y15,10))/10+IF(MOD($Y15,10)>1,1,0) -> 0 | H15: =($X15-MOD($X15,10))/10+IF(MOD($X15,10)>2,1,0) -> 0 | I15: =($Y15-MOD($Y15,10))/10+IF(MOD($Y15,10)>2,1,0) -> 0 | J15: =($X15-MOD($X15,10))/10+IF(MOD($X15,10)>3,1,0) -> 0 | K15: =($Y15-MOD($Y15,10))/10+IF(MOD($Y15,10)>3,1,0) -> 0 | L15: =($X15-MOD($X15,10))/10+IF(MOD($X15,10)>4,1,0) -> 0 | M15: =($Y15-MOD($Y15,10))/10+IF(MOD($Y15,10)>4,1,0) -> 0 | N15: =($X15-MOD($X15,10))/10+IF(MOD($X15,10)>5,1,0) -> 0 | O15: =($Y15-MOD($Y15,10))/10+IF(MOD($Y15,10)>5,1,0) -> 0 | P15: =($X15-MOD($X15,10))/10+IF(MOD($X15,10)>6,1,0) -> 0 | Q15: =($Y15-MOD($Y15,10))/10+IF(MOD($Y15,10)>6,1,0) -> 0 | R15: =($X15-MOD($X15,10))/10+IF(MOD($X15,10)>7,1,0) -> 0 | S15: =($Y15-MOD($Y15,10))/10+IF(MOD($Y15,10)>7,1,0) -> 0 | T15: =($X15-MOD($X15,10))/10+IF(MOD($X15,10)>8,1,0) -> 0 | U15: =($Y15-MOD($Y15,10))/10+IF(MOD($Y15,10)>8,1,0) -> 0 | V15: =($X15-MOD($X15,10))/10+IF(MOD($X15,10)>9,1,0) -> 0 | W15: =($Y15-MOD($Y15,10))/10+IF(MOD($Y15,10)>9,1,0) -> 0 | X15: ='7Beokul'!G11 -> 0 | Y15: ='7Beokul'!H11 -> 0 | Z15: ='7Beokul'!I11 -> 0 | AA15: ='7Beokul'!J11 -> 0 | AB15: ='7Beokul'!K11 -> 0 | AC15: ='7Beokul'!L11 -> 0 | AD15: ='7Beokul'!M11 -> 0 | AE15: ='7Beokul'!N11 -> 0 | ... AL15: ='7Beokul'!U11 -> 0
A16: 11 | B16: ='7Beokul'!A12 -> 0 | C16: ='7Beokul'!B12 -> 0 | D16: =($X16-MOD($X16,10))/10+IF(MOD($X16,10)>0,1,0) -> 0 | E16: =($Y16-MOD($Y16,10))/10+IF(MOD($Y16,10)>0,1,0) -> 0 | F16: =($X16-MOD($X16,10))/10+IF(MOD($X16,10)>1,1,0) -> 0 | G16: =($Y16-MOD($Y16,10))/10+IF(MOD($Y16,10)>1,1,0) -> 0 | H16: =($X16-MOD($X16,10))/10+IF(MOD($X16,10)>2,1,0) -> 0 | I16: =($Y16-MOD($Y16,10))/10+IF(MOD($Y16,10)>2,1,0) -> 0 | J16: =($X16-MOD($X16,10))/10+IF(MOD($X16,10)>3,1,0) -> 0 | K16: =($Y16-MOD($Y16,10))/10+IF(MOD($Y16,10)>3,1,0) -> 0 | L16: =($X16-MOD($X16,10))/10+IF(MOD($X16,10)>4,1,0) -> 0 | M16: =($Y16-MOD($Y16,10))/10+IF(MOD($Y16,10)>4,1,0) -> 0 | N16: =($X16-MOD($X16,10))/10+IF(MOD($X16,10)>5,1,0) -> 0 | O16: =($Y16-MOD($Y16,10))/10+IF(MOD($Y16,10)>5,1,0) -> 0 | P16: =($X16-MOD($X16,10))/10+IF(MOD($X16,10)>6,1,0) -> 0 | Q16: =($Y16-MOD($Y16,10))/10+IF(MOD($Y16,10)>6,1,0) -> 0 | R16: =($X16-MOD($X16,10))/10+IF(MOD($X16,10)>7,1,0) -> 0 | S16: =($Y16-MOD($Y16,10))/10+IF(MOD($Y16,10)>7,1,0) -> 0 | T16: =($X16-MOD($X16,10))/10+IF(MOD($X16,10)>8,1,0) -> 0 | U16: =($Y16-MOD($Y16,10))/10+IF(MOD($Y16,10)>8,1,0) -> 0 | V16: =($X16-MOD($X16,10))/10+IF(MOD($X16,10)>9,1,0) -> 0 | W16: =($Y16-MOD($Y16,10))/10+IF(MOD($Y16,10)>9,1,0) -> 0 | X16: ='7Beokul'!G12 -> 0 | Y16: ='7Beokul'!H12 -> 0 | Z16: ='7Beokul'!I12 -> 0 | AA16: ='7Beokul'!J12 -> 0 | AB16: ='7Beokul'!K12 -> 0 | AC16: ='7Beokul'!L12 -> 0 | AD16: ='7Beokul'!M12 -> 0 | AE16: ='7Beokul'!N12 -> 0 | ... AL16: ='7Beokul'!U12 -> 0
A17: 12 | B17: ='7Beokul'!A13 -> 0 | C17: ='7Beokul'!B13 -> 0 | D17: =($X17-MOD($X17,10))/10+IF(MOD($X17,10)>0,1,0) -> 0 | E17: =($Y17-MOD($Y17,10))/10+IF(MOD($Y17,10)>0,1,0) -> 0 | F17: =($X17-MOD($X17,10))/10+IF(MOD($X17,10)>1,1,0) -> 0 | G17: =($Y17-MOD($Y17,10))/10+IF(MOD($Y17,10)>1,1,0) -> 0 | H17: =($X17-MOD($X17,10))/10+IF(MOD($X17,10)>2,1,0) -> 0 | I17: =($Y17-MOD($Y17,10))/10+IF(MOD($Y17,10)>2,1,0) -> 0 | J17: =($X17-MOD($X17,10))/10+IF(MOD($X17,10)>3,1,0) -> 0 | K17: =($Y17-MOD($Y17,10))/10+IF(MOD($Y17,10)>3,1,0) -> 0 | L17: =($X17-MOD($X17,10))/10+IF(MOD($X17,10)>4,1,0) -> 0 | M17: =($Y17-MOD($Y17,10))/10+IF(MOD($Y17,10)>4,1,0) -> 0 | N17: =($X17-MOD($X17,10))/10+IF(MOD($X17,10)>5,1,0) -> 0 | O17: =($Y17-MOD($Y17,10))/10+IF(MOD($Y17,10)>5,1,0) -> 0 | P17: =($X17-MOD($X17,10))/10+IF(MOD($X17,10)>6,1,0) -> 0 | Q17: =($Y17-MOD($Y17,10))/10+IF(MOD($Y17,10)>6,1,0) -> 0 | R17: =($X17-MOD($X17,10))/10+IF(MOD($X17,10)>7,1,0) -> 0 | S17: =($Y17-MOD($Y17,10))/10+IF(MOD($Y17,10)>7,1,0) -> 0 | T17: =($X17-MOD($X17,10))/10+IF(MOD($X17,10)>8,1,0) -> 0 | U17: =($Y17-MOD($Y17,10))/10+IF(MOD($Y17,10)>8,1,0) -> 0 | V17: =($X17-MOD($X17,10))/10+IF(MOD($X17,10)>9,1,0) -> 0 | W17: =($Y17-MOD($Y17,10))/10+IF(MOD($Y17,10)>9,1,0) -> 0 | X17: ='7Beokul'!G13 -> 0 | Y17: ='7Beokul'!H13 -> 0 | Z17: ='7Beokul'!I13 -> 0 | AA17: ='7Beokul'!J13 -> 0 | AB17: ='7Beokul'!K13 -> 0 | AC17: ='7Beokul'!L13 -> 0 | AD17: ='7Beokul'!M13 -> 0 | AE17: ='7Beokul'!N13 -> 0 | ... AL17: ='7Beokul'!U13 -> 0
... A28: 23 | B28: ='7Beokul'!A24 -> 0 | C28: ='7Beokul'!B24 -> 0 | D28: =($X28-MOD($X28,10))/10+IF(MOD($X28,10)>0,1,0) -> 0 | E28: =($Y28-MOD($Y28,10))/10+IF(MOD($Y28,10)>0,1,0) -> 0 | F28: =($X28-MOD($X28,10))/10+IF(MOD($X28,10)>1,1,0) -> 0 | G28: =($Y28-MOD($Y28,10))/10+IF(MOD($Y28,10)>1,1,0) -> 0 | H28: =($X28-MOD($X28,10))/10+IF(MOD($X28,10)>2,1,0) -> 0 | I28: =($Y28-MOD($Y28,10))/10+IF(MOD($Y28,10)>2,1,0) -> 0 | J28: =($X28-MOD($X28,10))/10+IF(MOD($X28,10)>3,1,0) -> 0 | K28: =($Y28-MOD($Y28,10))/10+IF(MOD($Y28,10)>3,1,0) -> 0 | L28: =($X28-MOD($X28,10))/10+IF(MOD($X28,10)>4,1,0) -> 0 | M28: =($Y28-MOD($Y28,10))/10+IF(MOD($Y28,10)>4,1,0) -> 0 | N28: =($X28-MOD($X28,10))/10+IF(MOD($X28,10)>5,1,0) -> 0 | O28: =($Y28-MOD($Y28,10))/10+IF(MOD($Y28,10)>5,1,0) -> 0 | P28: =($X28-MOD($X28,10))/10+IF(MOD($X28,10)>6,1,0) -> 0 | Q28: =($Y28-MOD($Y28,10))/10+IF(MOD($Y28,10)>6,1,0) -> 0 | R28: =($X28-MOD($X28,10))/10+IF(MOD($X28,10)>7,1,0) -> 0 | S28: =($Y28-MOD($Y28,10))/10+IF(MOD($Y28,10)>7,1,0) -> 0 | T28: =($X28-MOD($X28,10))/10+IF(MOD($X28,10)>8,1,0) -> 0 | U28: =($Y28-MOD($Y28,10))/10+IF(MOD($Y28,10)>8,1,0) -> 0 | V28: =($X28-MOD($X28,10))/10+IF(MOD($X28,10)>9,1,0) -> 0 | W28: =($Y28-MOD($Y28,10))/10+IF(MOD($Y28,10)>9,1,0) -> 0 | X28: ='7Beokul'!G24 -> 0 | Y28: ='7Beokul'!H24 -> 0 | Z28: ='7Beokul'!I24 -> 0 | AA28: ='7Beokul'!J24 -> 0 | AB28: ='7Beokul'!K24 -> 0 | AC28: ='7Beokul'!L24 -> 0 | AD28: ='7Beokul'!M24 -> 0 | AE28: ='7Beokul'!N24 -> 0 | ... AL28: ='7Beokul'!U24 -> 0
A29: 24 | B29: ='7Beokul'!A25 -> 0 | C29: ='7Beokul'!B25 -> 0 | D29: =($X29-MOD($X29,10))/10+IF(MOD($X29,10)>0,1,0) -> 0 | E29: =($Y29-MOD($Y29,10))/10+IF(MOD($Y29,10)>0,1,0) -> 0 | F29: =($X29-MOD($X29,10))/10+IF(MOD($X29,10)>1,1,0) -> 0 | G29: =($Y29-MOD($Y29,10))/10+IF(MOD($Y29,10)>1,1,0) -> 0 | H29: =($X29-MOD($X29,10))/10+IF(MOD($X29,10)>2,1,0) -> 0 | I29: =($Y29-MOD($Y29,10))/10+IF(MOD($Y29,10)>2,1,0) -> 0 | J29: =($X29-MOD($X29,10))/10+IF(MOD($X29,10)>3,1,0) -> 0 | K29: =($Y29-MOD($Y29,10))/10+IF(MOD($Y29,10)>3,1,0) -> 0 | L29: =($X29-MOD($X29,10))/10+IF(MOD($X29,10)>4,1,0) -> 0 | M29: =($Y29-MOD($Y29,10))/10+IF(MOD($Y29,10)>4,1,0) -> 0 | N29: =($X29-MOD($X29,10))/10+IF(MOD($X29,10)>5,1,0) -> 0 | O29: =($Y29-MOD($Y29,10))/10+IF(MOD($Y29,10)>5,1,0) -> 0 | P29: =($X29-MOD($X29,10))/10+IF(MOD($X29,10)>6,1,0) -> 0 | Q29: =($Y29-MOD($Y29,10))/10+IF(MOD($Y29,10)>6,1,0) -> 0 | R29: =($X29-MOD($X29,10))/10+IF(MOD($X29,10)>7,1,0) -> 0 | S29: =($Y29-MOD($Y29,10))/10+IF(MOD($Y29,10)>7,1,0) -> 0 | T29: =($X29-MOD($X29,10))/10+IF(MOD($X29,10)>8,1,0) -> 0 | U29: =($Y29-MOD($Y29,10))/10+IF(MOD($Y29,10)>8,1,0) -> 0 | V29: =($X29-MOD($X29,10))/10+IF(MOD($X29,10)>9,1,0) -> 0 | W29: =($Y29-MOD($Y29,10))/10+IF(MOD($Y29,10)>9,1,0) -> 0 | X29: ='7Beokul'!G25 -> 0 | Y29: ='7Beokul'!H25 -> 0
A30: 25 | B30: ='7Beokul'!A26 -> 0 | C30: ='7Beokul'!B26 -> 0 | D30: =($X30-MOD($X30,10))/10+IF(MOD($X30,10)>0,1,0) -> 0 | E30: =($Y30-MOD($Y30,10))/10+IF(MOD($Y30,10)>0,1,0) -> 0 | F30: =($X30-MOD($X30,10))/10+IF(MOD($X30,10)>1,1,0) -> 0 | G30: =($Y30-MOD($Y30,10))/10+IF(MOD($Y30,10)>1,1,0) -> 0 | H30: =($X30-MOD($X30,10))/10+IF(MOD($X30,10)>2,1,0) -> 0 | I30: =($Y30-MOD($Y30,10))/10+IF(MOD($Y30,10)>2,1,0) -> 0 | J30: =($X30-MOD($X30,10))/10+IF(MOD($X30,10)>3,1,0) -> 0 | K30: =($Y30-MOD($Y30,10))/10+IF(MOD($Y30,10)>3,1,0) -> 0 | L30: =($X30-MOD($X30,10))/10+IF(MOD($X30,10)>4,1,0) -> 0 | M30: =($Y30-MOD($Y30,10))/10+IF(MOD($Y30,10)>4,1,0) -> 0 | N30: =($X30-MOD($X30,10))/10+IF(MOD($X30,10)>5,1,0) -> 0 | O30: =($Y30-MOD($Y30,10))/10+IF(MOD($Y30,10)>5,1,0) -> 0 | P30: =($X30-MOD($X30,10))/10+IF(MOD($X30,10)>6,1,0) -> 0 | Q30: =($Y30-MOD($Y30,10))/10+IF(MOD($Y30,10)>6,1,0) -> 0 | R30: =($X30-MOD($X30,10))/10+IF(MOD($X30,10)>7,1,0) -> 0 | S30: =($Y30-MOD($Y30,10))/10+IF(MOD($Y30,10)>7,1,0) -> 0 | T30: =($X30-MOD($X30,10))/10+IF(MOD($X30,10)>8,1,0) -> 0 | U30: =($Y30-MOD($Y30,10))/10+IF(MOD($Y30,10)>8,1,0) -> 0 | V30: =($X30-MOD($X30,10))/10+IF(MOD($X30,10)>9,1,0) -> 0 | W30: =($Y30-MOD($Y30,10))/10+IF(MOD($Y30,10)>9,1,0) -> 0 | X30: ='7Beokul'!G26 -> 0 | Y30: ='7Beokul'!H26 -> 0
A31: 26 | B31: ='7Beokul'!A27 -> 0 | C31: ='7Beokul'!B27 -> 0 | D31: =($X31-MOD($X31,10))/10+IF(MOD($X31,10)>0,1,0) -> 0 | E31: =($Y31-MOD($Y31,10))/10+IF(MOD($Y31,10)>0,1,0) -> 0 | F31: =($X31-MOD($X31,10))/10+IF(MOD($X31,10)>1,1,0) -> 0 | G31: =($Y31-MOD($Y31,10))/10+IF(MOD($Y31,10)>1,1,0) -> 0 | H31: =($X31-MOD($X31,10))/10+IF(MOD($X31,10)>2,1,0) -> 0 | I31: =($Y31-MOD($Y31,10))/10+IF(MOD($Y31,10)>2,1,0) -> 0 | J31: =($X31-MOD($X31,10))/10+IF(MOD($X31,10)>3,1,0) -> 0 | K31: =($Y31-MOD($Y31,10))/10+IF(MOD($Y31,10)>3,1,0) -> 0 | L31: =($X31-MOD($X31,10))/10+IF(MOD($X31,10)>4,1,0) -> 0 | M31: =($Y31-MOD($Y31,10))/10+IF(MOD($Y31,10)>4,1,0) -> 0 | N31: =($X31-MOD($X31,10))/10+IF(MOD($X31,10)>5,1,0) -> 0 | O31: =($Y31-MOD($Y31,10))/10+IF(MOD($Y31,10)>5,1,0) -> 0 | P31: =($X31-MOD($X31,10))/10+IF(MOD($X31,10)>6,1,0) -> 0 | Q31: =($Y31-MOD($Y31,10))/10+IF(MOD($Y31,10)>6,1,0) -> 0 | R31: =($X31-MOD($X31,10))/10+IF(MOD($X31,10)>7,1,0) -> 0 | S31: =($Y31-MOD($Y31,10))/10+IF(MOD($Y31,10)>7,1,0) -> 0 | T31: =($X31-MOD($X31,10))/10+IF(MOD($X31,10)>8,1,0) -> 0 | U31: =($Y31-MOD($Y31,10))/10+IF(MOD($Y31,10)>8,1,0) -> 0 | V31: =($X31-MOD($X31,10))/10+IF(MOD($X31,10)>9,1,0) -> 0 | W31: =($Y31-MOD($Y31,10))/10+IF(MOD($Y31,10)>9,1,0) -> 0 | X31: ='7Beokul'!G27 -> 0 | Y31: ='7Beokul'!H27 -> 0
A32: 27 | B32: ='7Beokul'!A28 -> 0 | C32: ='7Beokul'!B28 -> 0 | D32: =($X32-MOD($X32,10))/10+IF(MOD($X32,10)>0,1,0) -> 0 | E32: =($Y32-MOD($Y32,10))/10+IF(MOD($Y32,10)>0,1,0) -> 0 | F32: =($X32-MOD($X32,10))/10+IF(MOD($X32,10)>1,1,0) -> 0 | G32: =($Y32-MOD($Y32,10))/10+IF(MOD($Y32,10)>1,1,0) -> 0 | H32: =($X32-MOD($X32,10))/10+IF(MOD($X32,10)>2,1,0) -> 0 | I32: =($Y32-MOD($Y32,10))/10+IF(MOD($Y32,10)>2,1,0) -> 0 | J32: =($X32-MOD($X32,10))/10+IF(MOD($X32,10)>3,1,0) -> 0 | K32: =($Y32-MOD($Y32,10))/10+IF(MOD($Y32,10)>3,1,0) -> 0 | L32: =($X32-MOD($X32,10))/10+IF(MOD($X32,10)>4,1,0) -> 0 | M32: =($Y32-MOD($Y32,10))/10+IF(MOD($Y32,10)>4,1,0) -> 0 | N32: =($X32-MOD($X32,10))/10+IF(MOD($X32,10)>5,1,0) -> 0 | O32: =($Y32-MOD($Y32,10))/10+IF(MOD($Y32,10)>5,1,0) -> 0 | P32: =($X32-MOD($X32,10))/10+IF(MOD($X32,10)>6,1,0) -> 0 | Q32: =($Y32-MOD($Y32,10))/10+IF(MOD($Y32,10)>6,1,0) -> 0 | R32: =($X32-MOD($X32,10))/10+IF(MOD($X32,10)>7,1,0) -> 0 | S32: =($Y32-MOD($Y32,10))/10+IF(MOD($Y32,10)>7,1,0) -> 0 | T32: =($X32-MOD($X32,10))/10+IF(MOD($X32,10)>8,1,0) -> 0 | U32: =($Y32-MOD($Y32,10))/10+IF(MOD($Y32,10)>8,1,0) -> 0 | V32: =($X32-MOD($X32,10))/10+IF(MOD($X32,10)>9,1,0) -> 0 | W32: =($Y32-MOD($Y32,10))/10+IF(MOD($Y32,10)>9,1,0) -> 0 | X32: ='7Beokul'!G28 -> 0 | Y32: ='7Beokul'!H28 -> 0
A33: 28 | B33: ='7Beokul'!A29 -> 0 | C33: ='7Beokul'!B29 -> 0 | D33: =($X33-MOD($X33,10))/10+IF(MOD($X33,10)>0,1,0) -> 0 | E33: =($Y33-MOD($Y33,10))/10+IF(MOD($Y33,10)>0,1,0) -> 0 | F33: =($X33-MOD($X33,10))/10+IF(MOD($X33,10)>1,1,0) -> 0 | G33: =($Y33-MOD($Y33,10))/10+IF(MOD($Y33,10)>1,1,0) -> 0 | H33: =($X33-MOD($X33,10))/10+IF(MOD($X33,10)>2,1,0) -> 0 | I33: =($Y33-MOD($Y33,10))/10+IF(MOD($Y33,10)>2,1,0) -> 0 | J33: =($X33-MOD($X33,10))/10+IF(MOD($X33,10)>3,1,0) -> 0 | K33: =($Y33-MOD($Y33,10))/10+IF(MOD($Y33,10)>3,1,0) -> 0 | L33: =($X33-MOD($X33,10))/10+IF(MOD($X33,10)>4,1,0) -> 0 | M33: =($Y33-MOD($Y33,10))/10+IF(MOD($Y33,10)>4,1,0) -> 0 | N33: =($X33-MOD($X33,10))/10+IF(MOD($X33,10)>5,1,0) -> 0 | O33: =($Y33-MOD($Y33,10))/10+IF(MOD($Y33,10)>5,1,0) -> 0 | P33: =($X33-MOD($X33,10))/10+IF(MOD($X33,10)>6,1,0) -> 0 | Q33: =($Y33-MOD($Y33,10))/10+IF(MOD($Y33,10)>6,1,0) -> 0 | R33: =($X33-MOD($X33,10))/10+IF(MOD($X33,10)>7,1,0) -> 0 | S33: =($Y33-MOD($Y33,10))/10+IF(MOD($Y33,10)>7,1,0) -> 0 | T33: =($X33-MOD($X33,10))/10+IF(MOD($X33,10)>8,1,0) -> 0 | U33: =($Y33-MOD($Y33,10))/10+IF(MOD($Y33,10)>8,1,0) -> 0 | V33: =($X33-MOD($X33,10))/10+IF(MOD($X33,10)>9,1,0) -> 0 | W33: =($Y33-MOD($Y33,10))/10+IF(MOD($Y33,10)>9,1,0) -> 0 | X33: ='7Beokul'!G29 -> 0 | Y33: ='7Beokul'!H29 -> 0
A34: 29 | B34: ='7Beokul'!A30 -> 0 | C34: ='7Beokul'!B30 -> 0 | D34: =($X34-MOD($X34,10))/10+IF(MOD($X34,10)>0,1,0) -> 0 | E34: =($Y34-MOD($Y34,10))/10+IF(MOD($Y34,10)>0,1,0) -> 0 | F34: =($X34-MOD($X34,10))/10+IF(MOD($X34,10)>1,1,0) -> 0 | G34: =($Y34-MOD($Y34,10))/10+IF(MOD($Y34,10)>1,1,0) -> 0 | H34: =($X34-MOD($X34,10))/10+IF(MOD($X34,10)>2,1,0) -> 0 | I34: =($Y34-MOD($Y34,10))/10+IF(MOD($Y34,10)>2,1,0) -> 0 | J34: =($X34-MOD($X34,10))/10+IF(MOD($X34,10)>3,1,0) -> 0 | K34: =($Y34-MOD($Y34,10))/10+IF(MOD($Y34,10)>3,1,0) -> 0 | L34: =($X34-MOD($X34,10))/10+IF(MOD($X34,10)>4,1,0) -> 0 | M34: =($Y34-MOD($Y34,10))/10+IF(MOD($Y34,10)>4,1,0) -> 0 | N34: =($X34-MOD($X34,10))/10+IF(MOD($X34,10)>5,1,0) -> 0 | O34: =($Y34-MOD($Y34,10))/10+IF(MOD($Y34,10)>5,1,0) -> 0 | P34: =($X34-MOD($X34,10))/10+IF(MOD($X34,10)>6,1,0) -> 0 | Q34: =($Y34-MOD($Y34,10))/10+IF(MOD($Y34,10)>6,1,0) -> 0 | R34: =($X34-MOD($X34,10))/10+IF(MOD($X34,10)>7,1,0) -> 0 | S34: =($Y34-MOD($Y34,10))/10+IF(MOD($Y34,10)>7,1,0) -> 0 | T34: =($X34-MOD($X34,10))/10+IF(MOD($X34,10)>8,1,0) -> 0 | U34: =($Y34-MOD($Y34,10))/10+IF(MOD($Y34,10)>8,1,0) -> 0 | V34: =($X34-MOD($X34,10))/10+IF(MOD($X34,10)>9,1,0) -> 0 | W34: =($Y34-MOD($Y34,10))/10+IF(MOD($Y34,10)>9,1,0) -> 0 | X34: ='7Beokul'!G30 -> 0 | Y34: ='7Beokul'!H30 -> 0
A35: 30 | B35: ='7Beokul'!A31 -> 0 | C35: ='7Beokul'!B31 -> 0 | D35: =($X35-MOD($X35,10))/10+IF(MOD($X35,10)>0,1,0) -> 0 | E35: =($Y35-MOD($Y35,10))/10+IF(MOD($Y35,10)>0,1,0) -> 0 | F35: =($X35-MOD($X35,10))/10+IF(MOD($X35,10)>1,1,0) -> 0 | G35: =($Y35-MOD($Y35,10))/10+IF(MOD($Y35,10)>1,1,0) -> 0 | H35: =($X35-MOD($X35,10))/10+IF(MOD($X35,10)>2,1,0) -> 0 | I35: =($Y35-MOD($Y35,10))/10+IF(MOD($Y35,10)>2,1,0) -> 0 | J35: =($X35-MOD($X35,10))/10+IF(MOD($X35,10)>3,1,0) -> 0 | K35: =($Y35-MOD($Y35,10))/10+IF(MOD($Y35,10)>3,1,0) -> 0 | L35: =($X35-MOD($X35,10))/10+IF(MOD($X35,10)>4,1,0) -> 0 | M35: =($Y35-MOD($Y35,10))/10+IF(MOD($Y35,10)>4,1,0) -> 0 | N35: =($X35-MOD($X35,10))/10+IF(MOD($X35,10)>5,1,0) -> 0 | O35: =($Y35-MOD($Y35,10))/10+IF(MOD($Y35,10)>5,1,0) -> 0 | P35: =($X35-MOD($X35,10))/10+IF(MOD($X35,10)>6,1,0) -> 0 | Q35: =($Y35-MOD($Y35,10))/10+IF(MOD($Y35,10)>6,1,0) -> 0 | R35: =($X35-MOD($X35,10))/10+IF(MOD($X35,10)>7,1,0) -> 0 | S35: =($Y35-MOD($Y35,10))/10+IF(MOD($Y35,10)>7,1,0) -> 0 | T35: =($X35-MOD($X35,10))/10+IF(MOD($X35,10)>8,1,0) -> 0 | U35: =($Y35-MOD($Y35,10))/10+IF(MOD($Y35,10)>8,1,0) -> 0 | V35: =($X35-MOD($X35,10))/10+IF(MOD($X35,10)>9,1,0) -> 0 | W35: =($Y35-MOD($Y35,10))/10+IF(MOD($Y35,10)>9,1,0) -> 0 | X35: ='7Beokul'!G31 -> 0 | Y35: ='7Beokul'!H31 -> 0
A36: 31 | B36: ='7Beokul'!A32 -> 0 | C36: ='7Beokul'!B32 -> 0 | D36: =($X36-MOD($X36,10))/10+IF(MOD($X36,10)>0,1,0) -> 0 | E36: =($Y36-MOD($Y36,10))/10+IF(MOD($Y36,10)>0,1,0) -> 0 | F36: =($X36-MOD($X36,10))/10+IF(MOD($X36,10)>1,1,0) -> 0 | G36: =($Y36-MOD($Y36,10))/10+IF(MOD($Y36,10)>1,1,0) -> 0 | H36: =($X36-MOD($X36,10))/10+IF(MOD($X36,10)>2,1,0) -> 0 | I36: =($Y36-MOD($Y36,10))/10+IF(MOD($Y36,10)>2,1,0) -> 0 | J36: =($X36-MOD($X36,10))/10+IF(MOD($X36,10)>3,1,0) -> 0 | K36: =($Y36-MOD($Y36,10))/10+IF(MOD($Y36,10)>3,1,0) -> 0 | L36: =($X36-MOD($X36,10))/10+IF(MOD($X36,10)>4,1,0) -> 0 | M36: =($Y36-MOD($Y36,10))/10+IF(MOD($Y36,10)>4,1,0) -> 0 | N36: =($X36-MOD($X36,10))/10+IF(MOD($X36,10)>5,1,0) -> 0 | O36: =($Y36-MOD($Y36,10))/10+IF(MOD($Y36,10)>5,1,0) -> 0 | P36: =($X36-MOD($X36,10))/10+IF(MOD($X36,10)>6,1,0) -> 0 | Q36: =($Y36-MOD($Y36,10))/10+IF(MOD($Y36,10)>6,1,0) -> 0 | R36: =($X36-MOD($X36,10))/10+IF(MOD($X36,10)>7,1,0) -> 0 | S36: =($Y36-MOD($Y36,10))/10+IF(MOD($Y36,10)>7,1,0) -> 0 | T36: =($X36-MOD($X36,10))/10+IF(MOD($X36,10)>8,1,0) -> 0 | U36: =($Y36-MOD($Y36,10))/10+IF(MOD($Y36,10)>8,1,0) -> 0 | V36: =($X36-MOD($X36,10))/10+IF(MOD($X36,10)>9,1,0) -> 0 | W36: =($Y36-MOD($Y36,10))/10+IF(MOD($Y36,10)>9,1,0) -> 0 | X36: ='7Beokul'!G32 -> 0 | Y36: ='7Beokul'!H32 -> 0
A37: 32 | B37: ='7Beokul'!A33 -> 0 | C37: ='7Beokul'!B33 -> 0 | D37: =($X37-MOD($X37,10))/10+IF(MOD($X37,10)>0,1,0) -> 0 | E37: =($Y37-MOD($Y37,10))/10+IF(MOD($Y37,10)>0,1,0) -> 0 | F37: =($X37-MOD($X37,10))/10+IF(MOD($X37,10)>1,1,0) -> 0 | G37: =($Y37-MOD($Y37,10))/10+IF(MOD($Y37,10)>1,1,0) -> 0 | H37: =($X37-MOD($X37,10))/10+IF(MOD($X37,10)>2,1,0) -> 0 | I37: =($Y37-MOD($Y37,10))/10+IF(MOD($Y37,10)>2,1,0) -> 0 | J37: =($X37-MOD($X37,10))/10+IF(MOD($X37,10)>3,1,0) -> 0 | K37: =($Y37-MOD($Y37,10))/10+IF(MOD($Y37,10)>3,1,0) -> 0 | L37: =($X37-MOD($X37,10))/10+IF(MOD($X37,10)>4,1,0) -> 0 | M37: =($Y37-MOD($Y37,10))/10+IF(MOD($Y37,10)>4,1,0) -> 0 | N37: =($X37-MOD($X37,10))/10+IF(MOD($X37,10)>5,1,0) -> 0 | O37: =($Y37-MOD($Y37,10))/10+IF(MOD($Y37,10)>5,1,0) -> 0 | P37: =($X37-MOD($X37,10))/10+IF(MOD($X37,10)>6,1,0) -> 0 | Q37: =($Y37-MOD($Y37,10))/10+IF(MOD($Y37,10)>6,1,0) -> 0 | R37: =($X37-MOD($X37,10))/10+IF(MOD($X37,10)>7,1,0) -> 0 | S37: =($Y37-MOD($Y37,10))/10+IF(MOD($Y37,10)>7,1,0) -> 0 | T37: =($X37-MOD($X37,10))/10+IF(MOD($X37,10)>8,1,0) -> 0 | U37: =($Y37-MOD($Y37,10))/10+IF(MOD($Y37,10)>8,1,0) -> 0 | V37: =($X37-MOD($X37,10))/10+IF(MOD($X37,10)>9,1,0) -> 0 | W37: =($Y37-MOD($Y37,10))/10+IF(MOD($Y37,10)>9,1,0) -> 0 | X37: ='7Beokul'!G33 -> 0 | Y37: ='7Beokul'!H33 -> 0
A38: 33 | B38: ='7Beokul'!A34 -> 0 | C38: ='7Beokul'!B34 -> 0 | D38: =($X38-MOD($X38,10))/10+IF(MOD($X38,10)>0,1,0) -> 0 | E38: =($Y38-MOD($Y38,10))/10+IF(MOD($Y38,10)>0,1,0) -> 0 | F38: =($X38-MOD($X38,10))/10+IF(MOD($X38,10)>1,1,0) -> 0 | G38: =($Y38-MOD($Y38,10))/10+IF(MOD($Y38,10)>1,1,0) -> 0 | H38: =($X38-MOD($X38,10))/10+IF(MOD($X38,10)>2,1,0) -> 0 | I38: =($Y38-MOD($Y38,10))/10+IF(MOD($Y38,10)>2,1,0) -> 0 | J38: =($X38-MOD($X38,10))/10+IF(MOD($X38,10)>3,1,0) -> 0 | K38: =($Y38-MOD($Y38,10))/10+IF(MOD($Y38,10)>3,1,0) -> 0 | L38: =($X38-MOD($X38,10))/10+IF(MOD($X38,10)>4,1,0) -> 0 | M38: =($Y38-MOD($Y38,10))/10+IF(MOD($Y38,10)>4,1,0) -> 0 | N38: =($X38-MOD($X38,10))/10+IF(MOD($X38,10)>5,1,0) -> 0 | O38: =($Y38-MOD($Y38,10))/10+IF(MOD($Y38,10)>5,1,0) -> 0 | P38: =($X38-MOD($X38,10))/10+IF(MOD($X38,10)>6,1,0) -> 0 | Q38: =($Y38-MOD($Y38,10))/10+IF(MOD($Y38,10)>6,1,0) -> 0 | R38: =($X38-MOD($X38,10))/10+IF(MOD($X38,10)>7,1,0) -> 0 | S38: =($Y38-MOD($Y38,10))/10+IF(MOD($Y38,10)>7,1,0) -> 0 | T38: =($X38-MOD($X38,10))/10+IF(MOD($X38,10)>8,1,0) -> 0 | U38: =($Y38-MOD($Y38,10))/10+IF(MOD($Y38,10)>8,1,0) -> 0 | V38: =($X38-MOD($X38,10))/10+IF(MOD($X38,10)>9,1,0) -> 0 | W38: =($Y38-MOD($Y38,10))/10+IF(MOD($Y38,10)>9,1,0) -> 0 | X38: ='7Beokul'!G34 -> 0 | Y38: ='7Beokul'!H34 -> 0
A39: 34 | B39: ='7Beokul'!A35 -> 0 | C39: ='7Beokul'!B35 -> 0 | D39: =($X39-MOD($X39,10))/10+IF(MOD($X39,10)>0,1,0) -> 0 | E39: =($Y39-MOD($Y39,10))/10+IF(MOD($Y39,10)>0,1,0) -> 0 | F39: =($X39-MOD($X39,10))/10+IF(MOD($X39,10)>1,1,0) -> 0 | G39: =($Y39-MOD($Y39,10))/10+IF(MOD($Y39,10)>1,1,0) -> 0 | H39: =($X39-MOD($X39,10))/10+IF(MOD($X39,10)>2,1,0) -> 0 | I39: =($Y39-MOD($Y39,10))/10+IF(MOD($Y39,10)>2,1,0) -> 0 | J39: =($X39-MOD($X39,10))/10+IF(MOD($X39,10)>3,1,0) -> 0 | K39: =($Y39-MOD($Y39,10))/10+IF(MOD($Y39,10)>3,1,0) -> 0 | L39: =($X39-MOD($X39,10))/10+IF(MOD($X39,10)>4,1,0) -> 0 | M39: =($Y39-MOD($Y39,10))/10+IF(MOD($Y39,10)>4,1,0) -> 0 | N39: =($X39-MOD($X39,10))/10+IF(MOD($X39,10)>5,1,0) -> 0 | O39: =($Y39-MOD($Y39,10))/10+IF(MOD($Y39,10)>5,1,0) -> 0 | P39: =($X39-MOD($X39,10))/10+IF(MOD($X39,10)>6,1,0) -> 0 | Q39: =($Y39-MOD($Y39,10))/10+IF(MOD($Y39,10)>6,1,0) -> 0 | R39: =($X39-MOD($X39,10))/10+IF(MOD($X39,10)>7,1,0) -> 0 | S39: =($Y39-MOD($Y39,10))/10+IF(MOD($Y39,10)>7,1,0) -> 0 | T39: =($X39-MOD($X39,10))/10+IF(MOD($X39,10)>8,1,0) -> 0 | U39: =($Y39-MOD($Y39,10))/10+IF(MOD($Y39,10)>8,1,0) -> 0 | V39: =($X39-MOD($X39,10))/10+IF(MOD($X39,10)>9,1,0) -> 0 | W39: =($Y39-MOD($Y39,10))/10+IF(MOD($Y39,10)>9,1,0) -> 0 | X39: ='7Beokul'!G35 -> 0 | Y39: ='7Beokul'!H35 -> 0
A40: 35 | B40: ='7Beokul'!A36 -> 0 | C40: ='7Beokul'!B36 -> 0 | D40: =($X40-MOD($X40,10))/10+IF(MOD($X40,10)>0,1,0) -> 0 | E40: =($Y40-MOD($Y40,10))/10+IF(MOD($Y40,10)>0,1,0) -> 0 | F40: =($X40-MOD($X40,10))/10+IF(MOD($X40,10)>1,1,0) -> 0 | G40: =($Y40-MOD($Y40,10))/10+IF(MOD($Y40,10)>1,1,0) -> 0 | H40: =($X40-MOD($X40,10))/10+IF(MOD($X40,10)>2,1,0) -> 0 | I40: =($Y40-MOD($Y40,10))/10+IF(MOD($Y40,10)>2,1,0) -> 0 | J40: =($X40-MOD($X40,10))/10+IF(MOD($X40,10)>3,1,0) -> 0 | K40: =($Y40-MOD($Y40,10))/10+IF(MOD($Y40,10)>3,1,0) -> 0 | L40: =($X40-MOD($X40,10))/10+IF(MOD($X40,10)>4,1,0) -> 0 | M40: =($Y40-MOD($Y40,10))/10+IF(MOD($Y40,10)>4,1,0) -> 0 | N40: =($X40-MOD($X40,10))/10+IF(MOD($X40,10)>5,1,0) -> 0 | O40: =($Y40-MOD($Y40,10))/10+IF(MOD($Y40,10)>5,1,0) -> 0 | P40: =($X40-MOD($X40,10))/10+IF(MOD($X40,10)>6,1,0) -> 0 | Q40: =($Y40-MOD($Y40,10))/10+IF(MOD($Y40,10)>6,1,0) -> 0 | R40: =($X40-MOD($X40,10))/10+IF(MOD($X40,10)>7,1,0) -> 0 | S40: =($Y40-MOD($Y40,10))/10+IF(MOD($Y40,10)>7,1,0) -> 0 | T40: =($X40-MOD($X40,10))/10+IF(MOD($X40,10)>8,1,0) -> 0 | U40: =($Y40-MOD($Y40,10))/10+IF(MOD($Y40,10)>8,1,0) -> 0 | V40: =($X40-MOD($X40,10))/10+IF(MOD($X40,10)>9,1,0) -> 0 | W40: =($Y40-MOD($Y40,10))/10+IF(MOD($Y40,10)>9,1,0) -> 0 | X40: ='7Beokul'!G36 -> 0 | Y40: ='7Beokul'!H36 -> 0
... A43: 38 | B43: ='7Beokul'!A39 -> 0 | C43: ='7Beokul'!B39 -> 0 | D43: =($X43-MOD($X43,10))/10+IF(MOD($X43,10)>0,1,0) -> 0 | E43: =($Y43-MOD($Y43,10))/10+IF(MOD($Y43,10)>0,1,0) -> 0 | F43: =($X43-MOD($X43,10))/10+IF(MOD($X43,10)>1,1,0) -> 0 | G43: =($Y43-MOD($Y43,10))/10+IF(MOD($Y43,10)>1,1,0) -> 0 | H43: =($X43-MOD($X43,10))/10+IF(MOD($X43,10)>2,1,0) -> 0 | I43: =($Y43-MOD($Y43,10))/10+IF(MOD($Y43,10)>2,1,0) -> 0 | J43: =($X43-MOD($X43,10))/10+IF(MOD($X43,10)>3,1,0) -> 0 | K43: =($Y43-MOD($Y43,10))/10+IF(MOD($Y43,10)>3,1,0) -> 0 | L43: =($X43-MOD($X43,10))/10+IF(MOD($X43,10)>4,1,0) -> 0 | M43: =($Y43-MOD($Y43,10))/10+IF(MOD($Y43,10)>4,1,0) -> 0 | N43: =($X43-MOD($X43,10))/10+IF(MOD($X43,10)>5,1,0) -> 0 | O43: =($Y43-MOD($Y43,10))/10+IF(MOD($Y43,10)>5,1,0) -> 0 | P43: =($X43-MOD($X43,10))/10+IF(MOD($X43,10)>6,1,0) -> 0 | Q43: =($Y43-MOD($Y43,10))/10+IF(MOD($Y43,10)>6,1,0) -> 0 | R43: =($X43-MOD($X43,10))/10+IF(MOD($X43,10)>7,1,0) -> 0 | S43: =($Y43-MOD($Y43,10))/10+IF(MOD($Y43,10)>7,1,0) -> 0 | T43: =($X43-MOD($X43,10))/10+IF(MOD($X43,10)>8,1,0) -> 0 | U43: =($Y43-MOD($Y43,10))/10+IF(MOD($Y43,10)>8,1,0) -> 0 | V43: =($X43-MOD($X43,10))/10+IF(MOD($X43,10)>9,1,0) -> 0 | W43: =($Y43-MOD($Y43,10))/10+IF(MOD($Y43,10)>9,1,0) -> 0 | X43: ='7Beokul'!G39 -> 0 | Y43: ='7Beokul'!H39 -> 0
A44: 39 | B44: ='7Beokul'!A40 -> 0 | C44: ='7Beokul'!B40 -> 0 | D44: =($X44-MOD($X44,10))/10+IF(MOD($X44,10)>0,1,0) -> 0 | E44: =($Y44-MOD($Y44,10))/10+IF(MOD($Y44,10)>0,1,0) -> 0 | F44: =($X44-MOD($X44,10))/10+IF(MOD($X44,10)>1,1,0) -> 0 | G44: =($Y44-MOD($Y44,10))/10+IF(MOD($Y44,10)>1,1,0) -> 0 | H44: =($X44-MOD($X44,10))/10+IF(MOD($X44,10)>2,1,0) -> 0 | I44: =($Y44-MOD($Y44,10))/10+IF(MOD($Y44,10)>2,1,0) -> 0 | J44: =($X44-MOD($X44,10))/10+IF(MOD($X44,10)>3,1,0) -> 0 | K44: =($Y44-MOD($Y44,10))/10+IF(MOD($Y44,10)>3,1,0) -> 0 | L44: =($X44-MOD($X44,10))/10+IF(MOD($X44,10)>4,1,0) -> 0 | M44: =($Y44-MOD($Y44,10))/10+IF(MOD($Y44,10)>4,1,0) -> 0 | N44: =($X44-MOD($X44,10))/10+IF(MOD($X44,10)>5,1,0) -> 0 | O44: =($Y44-MOD($Y44,10))/10+IF(MOD($Y44,10)>5,1,0) -> 0 | P44: =($X44-MOD($X44,10))/10+IF(MOD($X44,10)>6,1,0) -> 0 | Q44: =($Y44-MOD($Y44,10))/10+IF(MOD($Y44,10)>6,1,0) -> 0 | R44: =($X44-MOD($X44,10))/10+IF(MOD($X44,10)>7,1,0) -> 0 | S44: =($Y44-MOD($Y44,10))/10+IF(MOD($Y44,10)>7,1,0) -> 0 | T44: =($X44-MOD($X44,10))/10+IF(MOD($X44,10)>8,1,0) -> 0 | U44: =($Y44-MOD($Y44,10))/10+IF(MOD($Y44,10)>8,1,0) -> 0 | V44: =($X44-MOD($X44,10))/10+IF(MOD($X44,10)>9,1,0) -> 0 | W44: =($Y44-MOD($Y44,10))/10+IF(MOD($Y44,10)>9,1,0) -> 0 | X44: ='7Beokul'!G40 -> 0 | Y44: ='7Beokul'!H40 -> 0 | Z44: 100 | AA44: 10 | AB44: 10 | AC44: 10 | AD44: 10 | AE44: 5 | AF44: 5 | AG44: 15 | AH44: 15 | AI44: 10 | AJ44: 10 | AK44: 100
AA45: 10 | AB45: 10 | AC45: 10 | AD45: 10 | AE45: 5 | AF45: 5 | AG45: 15 | AH45: 15 | AI45: 10 | AJ45: 10 | AK45: 100

Sheet 7A
A1: =önbilgi!B5 -> 2019-2020 1. DÖNEM | D1: ÖLÇÜTLER
A2: =CONCATENATE(önbilgi!B4," ",'7Aeokul'!N1," SINIFI ",önbilgi!B2," ","DERSİ DERS İÇİ ETKİNLİKLERE KATILIM PUANLAMA ÖLÇEĞİ") -> 7A SINIFI …………………………. DERSİ DERS İÇİ ETKİNLİKLERE KATILIM PUANLAMA ÖLÇEĞİ | D2: Derse hazırlıklı gelir. | F2: Derste kurallara uyar, dersin düzenini bozmaz. | H2: Ders araç gerekçlerini düzenli getirir. | J2: Okula geç kalma, devamsızlık alışkanlığının takibi | L2: Konu ile ilgili görüşlerini açıkça ifade eder | N2: Disiplin ve disiplin cezası durumu | P2: Yeni, özgün ve eleştirel sorular sorar. | R2: Öğrencinin kılık kıyafet durumu | T2: Okul ve ders etkinliklerine aktif katılım yapar. | V2: Öğretmene arkadaşlarına, çevreye saygı duyma | X2: TOPLAM
A3: ÖĞRENCİLER | D3: PUANLAR
A4: SIRA | B4: NO | C4: ADI SOYADI | D4: 10 | F4: 10 | H4: 10 | J4: 10 | L4: 10 | N4: 10 | P4: 10 | R4: 10 | T4: 10 | V4: 10 | X4: =SUM(D4:W4) -> 100 | Y4: 100 | Z4: =SUM(F4:X4) -> 190 | AB4: =SUM(G4:Z4) -> 470 | AD4: =SUM(H4:AB4) -> 940 | AF4: =SUM(J4:AD4) -> 1870 | AH4: =SUM(K4:AF4) -> 3730 | AJ4: =SUM(L4:AH4) -> 7460 | AL4: 100
D5: I. | E5: II. | F5: I. | G5: II. | H5: I. | I5: II. | J5: I. | K5: II. | L5: I. | M5: II. | N5: I. | O5: II. | P5: I. | Q5: II. | R5: I. | S5: II. | T5: I. | U5: II. | V5: I. | W5: II. | X5: I. | Y5: II. | Z5: II. | AA5: II. | AB5: II. | AC5: II. | AD5: II. | AE5: II. | AF5: II. | AG5: II. | AH5: II. | AI5: II. | AJ5: II. | AK5: II. | AL5: II.
A6: 1 | B6: ='7Aeokul'!A2 -> 0 | C6: ='7Aeokul'!B2 -> 0 | D6: =($X6-MOD($X6,10))/10+IF(MOD($X6,10)>0,1,0) -> 0 | E6: =($Y6-MOD($Y6,10))/10+IF(MOD($Y6,10)>0,1,0) -> 0 | F6: =($X6-MOD($X6,10))/10+IF(MOD($X6,10)>1,1,0) -> 0 | G6: =($Y6-MOD($Y6,10))/10+IF(MOD($Y6,10)>1,1,0) -> 0 | H6: =($X6-MOD($X6,10))/10+IF(MOD($X6,10)>2,1,0) -> 0 | I6: =($Y6-MOD($Y6,10))/10+IF(MOD($Y6,10)>2,1,0) -> 0 | J6: =($X6-MOD($X6,10))/10+IF(MOD($X6,10)>3,1,0) -> 0 | K6: =($Y6-MOD($Y6,10))/10+IF(MOD($Y6,10)>3,1,0) -> 0 | L6: =($X6-MOD($X6,10))/10+IF(MOD($X6,10)>4,1,0) -> 0 | M6: =($Y6-MOD($Y6,10))/10+IF(MOD($Y6,10)>4,1,0) -> 0 | N6: =($X6-MOD($X6,10))/10+IF(MOD($X6,10)>5,1,0) -> 0 | O6: =($Y6-MOD($Y6,10))/10+IF(MOD($Y6,10)>5,1,0) -> 0 | P6: =($X6-MOD($X6,10))/10+IF(MOD($X6,10)>6,1,0) -> 0 | Q6: =($Y6-MOD($Y6,10))/10+IF(MOD($Y6,10)>6,1,0) -> 0 | R6: =($X6-MOD($X6,10))/10+IF(MOD($X6,10)>7,1,0) -> 0 | S6: =($Y6-MOD($Y6,10))/10+IF(MOD($Y6,10)>7,1,0) -> 0 | T6: =($X6-MOD($X6,10))/10+IF(MOD($X6,10)>8,1,0) -> 0 | U6: =($Y6-MOD($Y6,10))/10+IF(MOD($Y6,10)>8,1,0) -> 0 | V6: =($X6-MOD($X6,10))/10+IF(MOD($X6,10)>9,1,0) -> 0 | W6: =($Y6-MOD($Y6,10))/10+IF(MOD($Y6,10)>9,1,0) -> 0 | X6: ='7Aeokul'!G2 -> 0 | Y6: ='7Aeokul'!H2 -> 0 | Z6: ='7Aeokul'!I2 -> 0 | AA6: ='7Aeokul'!J2 -> 0 | AB6: ='7Aeokul'!K2 -> 0 | AC6: ='7Aeokul'!L2 -> 0 | AD6: ='7Aeokul'!M2 -> 0 | AE6: ='7Aeokul'!N2 -> 0 | ... AL6: ='7Aeokul'!U2 -> 0
A7: 2 | B7: ='7Aeokul'!A3 -> 0 | C7: ='7Aeokul'!B3 -> 0 | D7: =($X7-MOD($X7,10))/10+IF(MOD($X7,10)>0,1,0) -> 0 | E7: =($Y7-MOD($Y7,10))/10+IF(MOD($Y7,10)>0,1,0) -> 0 | F7: =($X7-MOD($X7,10))/10+IF(MOD($X7,10)>1,1,0) -> 0 | G7: =($Y7-MOD($Y7,10))/10+IF(MOD($Y7,10)>1,1,0) -> 0 | H7: =($X7-MOD($X7,10))/10+IF(MOD($X7,10)>2,1,0) -> 0 | I7: =($Y7-MOD($Y7,10))/10+IF(MOD($Y7,10)>2,1,0) -> 0 | J7: =($X7-MOD($X7,10))/10+IF(MOD($X7,10)>3,1,0) -> 0 | K7: =($Y7-MOD($Y7,10))/10+IF(MOD($Y7,10)>3,1,0) -> 0 | L7: =($X7-MOD($X7,10))/10+IF(MOD($X7,10)>4,1,0) -> 0 | M7: =($Y7-MOD($Y7,10))/10+IF(MOD($Y7,10)>4,1,0) -> 0 | N7: =($X7-MOD($X7,10))/10+IF(MOD($X7,10)>5,1,0) -> 0 | O7: =($Y7-MOD($Y7,10))/10+IF(MOD($Y7,10)>5,1,0) -> 0 | P7: =($X7-MOD($X7,10))/10+IF(MOD($X7,10)>6,1,0) -> 0 | Q7: =($Y7-MOD($Y7,10))/10+IF(MOD($Y7,10)>6,1,0) -> 0 | R7: =($X7-MOD($X7,10))/10+IF(MOD($X7,10)>7,1,0) -> 0 | S7: =($Y7-MOD($Y7,10))/10+IF(MOD($Y7,10)>7,1,0) -> 0 | T7: =($X7-MOD($X7,10))/10+IF(MOD($X7,10)>8,1,0) -> 0 | U7: =($Y7-MOD($Y7,10))/10+IF(MOD($Y7,10)>8,1,0) -> 0 | V7: =($X7-MOD($X7,10))/10+IF(MOD($X7,10)>9,1,0) -> 0 | W7: =($Y7-MOD($Y7,10))/10+IF(MOD($Y7,10)>9,1,0) -> 0 | X7: ='7Aeokul'!G3 -> 0 | Y7: ='7Aeokul'!H3 -> 0 | Z7: ='7Aeokul'!I3 -> 0 | AA7: ='7Aeokul'!J3 -> 0 | AB7: ='7Aeokul'!K3 -> 0 | AC7: ='7Aeokul'!L3 -> 0 | AD7: ='7Aeokul'!M3 -> 0 | AE7: ='7Aeokul'!N3 -> 0 | ... AL7: ='7Aeokul'!U3 -> 0
A8: 3 | B8: ='7Aeokul'!A4 -> 0 | C8: ='7Aeokul'!B4 -> 0 | D8: =($X8-MOD($X8,10))/10+IF(MOD($X8,10)>0,1,0) -> 0 | E8: =($Y8-MOD($Y8,10))/10+IF(MOD($Y8,10)>0,1,0) -> 0 | F8: =($X8-MOD($X8,10))/10+IF(MOD($X8,10)>1,1,0) -> 0 | G8: =($Y8-MOD($Y8,10))/10+IF(MOD($Y8,10)>1,1,0) -> 0 | H8: =($X8-MOD($X8,10))/10+IF(MOD($X8,10)>2,1,0) -> 0 | I8: =($Y8-MOD($Y8,10))/10+IF(MOD($Y8,10)>2,1,0) -> 0 | J8: =($X8-MOD($X8,10))/10+IF(MOD($X8,10)>3,1,0) -> 0 | K8: =($Y8-MOD($Y8,10))/10+IF(MOD($Y8,10)>3,1,0) -> 0 | L8: =($X8-MOD($X8,10))/10+IF(MOD($X8,10)>4,1,0) -> 0 | M8: =($Y8-MOD($Y8,10))/10+IF(MOD($Y8,10)>4,1,0) -> 0 | N8: =($X8-MOD($X8,10))/10+IF(MOD($X8,10)>5,1,0) -> 0 | O8: =($Y8-MOD($Y8,10))/10+IF(MOD($Y8,10)>5,1,0) -> 0 | P8: =($X8-MOD($X8,10))/10+IF(MOD($X8,10)>6,1,0) -> 0 | Q8: =($Y8-MOD($Y8,10))/10+IF(MOD($Y8,10)>6,1,0) -> 0 | R8: =($X8-MOD($X8,10))/10+IF(MOD($X8,10)>7,1,0) -> 0 | S8: =($Y8-MOD($Y8,10))/10+IF(MOD($Y8,10)>7,1,0) -> 0 | T8: =($X8-MOD($X8,10))/10+IF(MOD($X8,10)>8,1,0) -> 0 | U8: =($Y8-MOD($Y8,10))/10+IF(MOD($Y8,10)>8,1,0) -> 0 | V8: =($X8-MOD($X8,10))/10+IF(MOD($X8,10)>9,1,0) -> 0 | W8: =($Y8-MOD($Y8,10))/10+IF(MOD($Y8,10)>9,1,0) -> 0 | X8: ='7Aeokul'!G4 -> 0 | Y8: ='7Aeokul'!H4 -> 0 | Z8: ='7Aeokul'!I4 -> 0 | AA8: ='7Aeokul'!J4 -> 0 | AB8: ='7Aeokul'!K4 -> 0 | AC8: ='7Aeokul'!L4 -> 0 | AD8: ='7Aeokul'!M4 -> 0 | AE8: ='7Aeokul'!N4 -> 0 | ... AL8: ='7Aeokul'!U4 -> 0
A9: 4 | B9: ='7Aeokul'!A5 -> 0 | C9: ='7Aeokul'!B5 -> 0 | D9: =($X9-MOD($X9,10))/10+IF(MOD($X9,10)>0,1,0) -> 0 | E9: =($Y9-MOD($Y9,10))/10+IF(MOD($Y9,10)>0,1,0) -> 0 | F9: =($X9-MOD($X9,10))/10+IF(MOD($X9,10)>1,1,0) -> 0 | G9: =($Y9-MOD($Y9,10))/10+IF(MOD($Y9,10)>1,1,0) -> 0 | H9: =($X9-MOD($X9,10))/10+IF(MOD($X9,10)>2,1,0) -> 0 | I9: =($Y9-MOD($Y9,10))/10+IF(MOD($Y9,10)>2,1,0) -> 0 | J9: =($X9-MOD($X9,10))/10+IF(MOD($X9,10)>3,1,0) -> 0 | K9: =($Y9-MOD($Y9,10))/10+IF(MOD($Y9,10)>3,1,0) -> 0 | L9: =($X9-MOD($X9,10))/10+IF(MOD($X9,10)>4,1,0) -> 0 | M9: =($Y9-MOD($Y9,10))/10+IF(MOD($Y9,10)>4,1,0) -> 0 | N9: =($X9-MOD($X9,10))/10+IF(MOD($X9,10)>5,1,0) -> 0 | O9: =($Y9-MOD($Y9,10))/10+IF(MOD($Y9,10)>5,1,0) -> 0 | P9: =($X9-MOD($X9,10))/10+IF(MOD($X9,10)>6,1,0) -> 0 | Q9: =($Y9-MOD($Y9,10))/10+IF(MOD($Y9,10)>6,1,0) -> 0 | R9: =($X9-MOD($X9,10))/10+IF(MOD($X9,10)>7,1,0) -> 0 | S9: =($Y9-MOD($Y9,10))/10+IF(MOD($Y9,10)>7,1,0) -> 0 | T9: =($X9-MOD($X9,10))/10+IF(MOD($X9,10)>8,1,0) -> 0 | U9: =($Y9-MOD($Y9,10))/10+IF(MOD($Y9,10)>8,1,0) -> 0 | V9: =($X9-MOD($X9,10))/10+IF(MOD($X9,10)>9,1,0) -> 0 | W9: =($Y9-MOD($Y9,10))/10+IF(MOD($Y9,10)>9,1,0) -> 0 | X9: ='7Aeokul'!G5 -> 0 | Y9: ='7Aeokul'!H5 -> 0 | Z9: ='7Aeokul'!I5 -> 0 | AA9: ='7Aeokul'!J5 -> 0 | AB9: ='7Aeokul'!K5 -> 0 | AC9: ='7Aeokul'!L5 -> 0 | AD9: ='7Aeokul'!M5 -> 0 | AE9: ='7Aeokul'!N5 -> 0 | ... AL9: ='7Aeokul'!U5 -> 0
A10: 5 | B10: ='7Aeokul'!A6 -> 0 | C10: ='7Aeokul'!B6 -> 0 | D10: =($X10-MOD($X10,10))/10+IF(MOD($X10,10)>0,1,0) -> 0 | E10: =($Y10-MOD($Y10,10))/10+IF(MOD($Y10,10)>0,1,0) -> 0 | F10: =($X10-MOD($X10,10))/10+IF(MOD($X10,10)>1,1,0) -> 0 | G10: =($Y10-MOD($Y10,10))/10+IF(MOD($Y10,10)>1,1,0) -> 0 | H10: =($X10-MOD($X10,10))/10+IF(MOD($X10,10)>2,1,0) -> 0 | I10: =($Y10-MOD($Y10,10))/10+IF(MOD($Y10,10)>2,1,0) -> 0 | J10: =($X10-MOD($X10,10))/10+IF(MOD($X10,10)>3,1,0) -> 0 | K10: =($Y10-MOD($Y10,10))/10+IF(MOD($Y10,10)>3,1,0) -> 0 | L10: =($X10-MOD($X10,10))/10+IF(MOD($X10,10)>4,1,0) -> 0 | M10: =($Y10-MOD($Y10,10))/10+IF(MOD($Y10,10)>4,1,0) -> 0 | N10: =($X10-MOD($X10,10))/10+IF(MOD($X10,10)>5,1,0) -> 0 | O10: =($Y10-MOD($Y10,10))/10+IF(MOD($Y10,10)>5,1,0) -> 0 | P10: =($X10-MOD($X10,10))/10+IF(MOD($X10,10)>6,1,0) -> 0 | Q10: =($Y10-MOD($Y10,10))/10+IF(MOD($Y10,10)>6,1,0) -> 0 | R10: =($X10-MOD($X10,10))/10+IF(MOD($X10,10)>7,1,0) -> 0 | S10: =($Y10-MOD($Y10,10))/10+IF(MOD($Y10,10)>7,1,0) -> 0 | T10: =($X10-MOD($X10,10))/10+IF(MOD($X10,10)>8,1,0) -> 0 | U10: =($Y10-MOD($Y10,10))/10+IF(MOD($Y10,10)>8,1,0) -> 0 | V10: =($X10-MOD($X10,10))/10+IF(MOD($X10,10)>9,1,0) -> 0 | W10: =($Y10-MOD($Y10,10))/10+IF(MOD($Y10,10)>9,1,0) -> 0 | X10: ='7Aeokul'!G6 -> 0 | Y10: ='7Aeokul'!H6 -> 0 | Z10: ='7Aeokul'!I6 -> 0 | AA10: ='7Aeokul'!J6 -> 0 | AB10: ='7Aeokul'!K6 -> 0 | AC10: ='7Aeokul'!L6 -> 0 | AD10: ='7Aeokul'!M6 -> 0 | AE10: ='7Aeokul'!N6 -> 0 | ... AL10: ='7Aeokul'!U6 -> 0
A11: 6 | B11: ='7Aeokul'!A7 -> 0 | C11: ='7Aeokul'!B7 -> 0 | D11: =($X11-MOD($X11,10))/10+IF(MOD($X11,10)>0,1,0) -> 0 | E11: =($Y11-MOD($Y11,10))/10+IF(MOD($Y11,10)>0,1,0) -> 0 | F11: =($X11-MOD($X11,10))/10+IF(MOD($X11,10)>1,1,0) -> 0 | G11: =($Y11-MOD($Y11,10))/10+IF(MOD($Y11,10)>1,1,0) -> 0 | H11: =($X11-MOD($X11,10))/10+IF(MOD($X11,10)>2,1,0) -> 0 | I11: =($Y11-MOD($Y11,10))/10+IF(MOD($Y11,10)>2,1,0) -> 0 | J11: =($X11-MOD($X11,10))/10+IF(MOD($X11,10)>3,1,0) -> 0 | K11: =($Y11-MOD($Y11,10))/10+IF(MOD($Y11,10)>3,1,0) -> 0 | L11: =($X11-MOD($X11,10))/10+IF(MOD($X11,10)>4,1,0) -> 0 | M11: =($Y11-MOD($Y11,10))/10+IF(MOD($Y11,10)>4,1,0) -> 0 | N11: =($X11-MOD($X11,10))/10+IF(MOD($X11,10)>5,1,0) -> 0 | O11: =($Y11-MOD($Y11,10))/10+IF(MOD($Y11,10)>5,1,0) -> 0 | P11: =($X11-MOD($X11,10))/10+IF(MOD($X11,10)>6,1,0) -> 0 | Q11: =($Y11-MOD($Y11,10))/10+IF(MOD($Y11,10)>6,1,0) -> 0 | R11: =($X11-MOD($X11,10))/10+IF(MOD($X11,10)>7,1,0) -> 0 | S11: =($Y11-MOD($Y11,10))/10+IF(MOD($Y11,10)>7,1,0) -> 0 | T11: =($X11-MOD($X11,10))/10+IF(MOD($X11,10)>8,1,0) -> 0 | U11: =($Y11-MOD($Y11,10))/10+IF(MOD($Y11,10)>8,1,0) -> 0 | V11: =($X11-MOD($X11,10))/10+IF(MOD($X11,10)>9,1,0) -> 0 | W11: =($Y11-MOD($Y11,10))/10+IF(MOD($Y11,10)>9,1,0) -> 0 | X11: ='7Aeokul'!G7 -> 0 | Y11: ='7Aeokul'!H7 -> 0 | Z11: ='7Aeokul'!I7 -> 0 | AA11: ='7Aeokul'!J7 -> 0 | AB11: ='7Aeokul'!K7 -> 0 | AC11: ='7Aeokul'!L7 -> 0 | AD11: ='7Aeokul'!M7 -> 0 | AE11: ='7Aeokul'!N7 -> 0 | ... AL11: ='7Aeokul'!U7 -> 0
A12: 7 | B12: ='7Aeokul'!A8 -> 0 | C12: ='7Aeokul'!B8 -> 0 | D12: =($X12-MOD($X12,10))/10+IF(MOD($X12,10)>0,1,0) -> 0 | E12: =($Y12-MOD($Y12,10))/10+IF(MOD($Y12,10)>0,1,0) -> 0 | F12: =($X12-MOD($X12,10))/10+IF(MOD($X12,10)>1,1,0) -> 0 | G12: =($Y12-MOD($Y12,10))/10+IF(MOD($Y12,10)>1,1,0) -> 0 | H12: =($X12-MOD($X12,10))/10+IF(MOD($X12,10)>2,1,0) -> 0 | I12: =($Y12-MOD($Y12,10))/10+IF(MOD($Y12,10)>2,1,0) -> 0 | J12: =($X12-MOD($X12,10))/10+IF(MOD($X12,10)>3,1,0) -> 0 | K12: =($Y12-MOD($Y12,10))/10+IF(MOD($Y12,10)>3,1,0) -> 0 | L12: =($X12-MOD($X12,10))/10+IF(MOD($X12,10)>4,1,0) -> 0 | M12: =($Y12-MOD($Y12,10))/10+IF(MOD($Y12,10)>4,1,0) -> 0 | N12: =($X12-MOD($X12,10))/10+IF(MOD($X12,10)>5,1,0) -> 0 | O12: =($Y12-MOD($Y12,10))/10+IF(MOD($Y12,10)>5,1,0) -> 0 | P12: =($X12-MOD($X12,10))/10+IF(MOD($X12,10)>6,1,0) -> 0 | Q12: =($Y12-MOD($Y12,10))/10+IF(MOD($Y12,10)>6,1,0) -> 0 | R12: =($X12-MOD($X12,10))/10+IF(MOD($X12,10)>7,1,0) -> 0 | S12: =($Y12-MOD($Y12,10))/10+IF(MOD($Y12,10)>7,1,0) -> 0 | T12: =($X12-MOD($X12,10))/10+IF(MOD($X12,10)>8,1,0) -> 0 | U12: =($Y12-MOD($Y12,10))/10+IF(MOD($Y12,10)>8,1,0) -> 0 | V12: =($X12-MOD($X12,10))/10+IF(MOD($X12,10)>9,1,0) -> 0 | W12: =($Y12-MOD($Y12,10))/10+IF(MOD($Y12,10)>9,1,0) -> 0 | X12: ='7Aeokul'!G8 -> 0 | Y12: ='7Aeokul'!H8 -> 0 | Z12: ='7Aeokul'!I8 -> 0 | AA12: ='7Aeokul'!J8 -> 0 | AB12: ='7Aeokul'!K8 -> 0 | AC12: ='7Aeokul'!L8 -> 0 | AD12: ='7Aeokul'!M8 -> 0 | AE12: ='7Aeokul'!N8 -> 0 | ... AL12: ='7Aeokul'!U8 -> 0
A13: 8 | B13: ='7Aeokul'!A9 -> 0 | C13: ='7Aeokul'!B9 -> 0 | D13: =($X13-MOD($X13,10))/10+IF(MOD($X13,10)>0,1,0) -> 0 | E13: =($Y13-MOD($Y13,10))/10+IF(MOD($Y13,10)>0,1,0) -> 0 | F13: =($X13-MOD($X13,10))/10+IF(MOD($X13,10)>1,1,0) -> 0 | G13: =($Y13-MOD($Y13,10))/10+IF(MOD($Y13,10)>1,1,0) -> 0 | H13: =($X13-MOD($X13,10))/10+IF(MOD($X13,10)>2,1,0) -> 0 | I13: =($Y13-MOD($Y13,10))/10+IF(MOD($Y13,10)>2,1,0) -> 0 | J13: =($X13-MOD($X13,10))/10+IF(MOD($X13,10)>3,1,0) -> 0 | K13: =($Y13-MOD($Y13,10))/10+IF(MOD($Y13,10)>3,1,0) -> 0 | L13: =($X13-MOD($X13,10))/10+IF(MOD($X13,10)>4,1,0) -> 0 | M13: =($Y13-MOD($Y13,10))/10+IF(MOD($Y13,10)>4,1,0) -> 0 | N13: =($X13-MOD($X13,10))/10+IF(MOD($X13,10)>5,1,0) -> 0 | O13: =($Y13-MOD($Y13,10))/10+IF(MOD($Y13,10)>5,1,0) -> 0 | P13: =($X13-MOD($X13,10))/10+IF(MOD($X13,10)>6,1,0) -> 0 | Q13: =($Y13-MOD($Y13,10))/10+IF(MOD($Y13,10)>6,1,0) -> 0 | R13: =($X13-MOD($X13,10))/10+IF(MOD($X13,10)>7,1,0) -> 0 | S13: =($Y13-MOD($Y13,10))/10+IF(MOD($Y13,10)>7,1,0) -> 0 | T13: =($X13-MOD($X13,10))/10+IF(MOD($X13,10)>8,1,0) -> 0 | U13: =($Y13-MOD($Y13,10))/10+IF(MOD($Y13,10)>8,1,0) -> 0 | V13: =($X13-MOD($X13,10))/10+IF(MOD($X13,10)>9,1,0) -> 0 | W13: =($Y13-MOD($Y13,10))/10+IF(MOD($Y13,10)>9,1,0) -> 0 | X13: ='7Aeokul'!G9 -> 0 | Y13: ='7Aeokul'!H9 -> 0 | Z13: ='7Aeokul'!I9 -> 0 | AA13: ='7Aeokul'!J9 -> 0 | AB13: ='7Aeokul'!K9 -> 0 | AC13: ='7Aeokul'!L9 -> 0 | AD13: ='7Aeokul'!M9 -> 0 | AE13: ='7Aeokul'!N9 -> 0 | ... AL13: ='7Aeokul'!U9 -> 0
A14: 9 | B14: ='7Aeokul'!A10 -> 0 | C14: ='7Aeokul'!B10 -> 0 | D14: =($X14-MOD($X14,10))/10+IF(MOD($X14,10)>0,1,0) -> 0 | E14: =($Y14-MOD($Y14,10))/10+IF(MOD($Y14,10)>0,1,0) -> 0 | F14: =($X14-MOD($X14,10))/10+IF(MOD($X14,10)>1,1,0) -> 0 | G14: =($Y14-MOD($Y14,10))/10+IF(MOD($Y14,10)>1,1,0) -> 0 | H14: =($X14-MOD($X14,10))/10+IF(MOD($X14,10)>2,1,0) -> 0 | I14: =($Y14-MOD($Y14,10))/10+IF(MOD($Y14,10)>2,1,0) -> 0 | J14: =($X14-MOD($X14,10))/10+IF(MOD($X14,10)>3,1,0) -> 0 | K14: =($Y14-MOD($Y14,10))/10+IF(MOD($Y14,10)>3,1,0) -> 0 | L14: =($X14-MOD($X14,10))/10+IF(MOD($X14,10)>4,1,0) -> 0 | M14: =($Y14-MOD($Y14,10))/10+IF(MOD($Y14,10)>4,1,0) -> 0 | N14: =($X14-MOD($X14,10))/10+IF(MOD($X14,10)>5,1,0) -> 0 | O14: =($Y14-MOD($Y14,10))/10+IF(MOD($Y14,10)>5,1,0) -> 0 | P14: =($X14-MOD($X14,10))/10+IF(MOD($X14,10)>6,1,0) -> 0 | Q14: =($Y14-MOD($Y14,10))/10+IF(MOD($Y14,10)>6,1,0) -> 0 | R14: =($X14-MOD($X14,10))/10+IF(MOD($X14,10)>7,1,0) -> 0 | S14: =($Y14-MOD($Y14,10))/10+IF(MOD($Y14,10)>7,1,0) -> 0 | T14: =($X14-MOD($X14,10))/10+IF(MOD($X14,10)>8,1,0) -> 0 | U14: =($Y14-MOD($Y14,10))/10+IF(MOD($Y14,10)>8,1,0) -> 0 | V14: =($X14-MOD($X14,10))/10+IF(MOD($X14,10)>9,1,0) -> 0 | W14: =($Y14-MOD($Y14,10))/10+IF(MOD($Y14,10)>9,1,0) -> 0 | X14: ='7Aeokul'!G10 -> 0 | Y14: ='7Aeokul'!H10 -> 0 | Z14: ='7Aeokul'!I10 -> 0 | AA14: ='7Aeokul'!J10 -> 0 | AB14: ='7Aeokul'!K10 -> 0 | AC14: ='7Aeokul'!L10 -> 0 | AD14: ='7Aeokul'!M10 -> 0 | AE14: ='7Aeokul'!N10 -> 0 | ... AL14: ='7Aeokul'!U10 -> 0
A15: 10 | B15: ='7Aeokul'!A11 -> 0 | C15: ='7Aeokul'!B11 -> 0 | D15: =($X15-MOD($X15,10))/10+IF(MOD($X15,10)>0,1,0) -> 0 | E15: =($Y15-MOD($Y15,10))/10+IF(MOD($Y15,10)>0,1,0) -> 0 | F15: =($X15-MOD($X15,10))/10+IF(MOD($X15,10)>1,1,0) -> 0 | G15: =($Y15-MOD($Y15,10))/10+IF(MOD($Y15,10)>1,1,0) -> 0 | H15: =($X15-MOD($X15,10))/10+IF(MOD($X15,10)>2,1,0) -> 0 | I15: =($Y15-MOD($Y15,10))/10+IF(MOD($Y15,10)>2,1,0) -> 0 | J15: =($X15-MOD($X15,10))/10+IF(MOD($X15,10)>3,1,0) -> 0 | K15: =($Y15-MOD($Y15,10))/10+IF(MOD($Y15,10)>3,1,0) -> 0 | L15: =($X15-MOD($X15,10))/10+IF(MOD($X15,10)>4,1,0) -> 0 | M15: =($Y15-MOD($Y15,10))/10+IF(MOD($Y15,10)>4,1,0) -> 0 | N15: =($X15-MOD($X15,10))/10+IF(MOD($X15,10)>5,1,0) -> 0 | O15: =($Y15-MOD($Y15,10))/10+IF(MOD($Y15,10)>5,1,0) -> 0 | P15: =($X15-MOD($X15,10))/10+IF(MOD($X15,10)>6,1,0) -> 0 | Q15: =($Y15-MOD($Y15,10))/10+IF(MOD($Y15,10)>6,1,0) -> 0 | R15: =($X15-MOD($X15,10))/10+IF(MOD($X15,10)>7,1,0) -> 0 | S15: =($Y15-MOD($Y15,10))/10+IF(MOD($Y15,10)>7,1,0) -> 0 | T15: =($X15-MOD($X15,10))/10+IF(MOD($X15,10)>8,1,0) -> 0 | U15: =($Y15-MOD($Y15,10))/10+IF(MOD($Y15,10)>8,1,0) -> 0 | V15: =($X15-MOD($X15,10))/10+IF(MOD($X15,10)>9,1,0) -> 0 | W15: =($Y15-MOD($Y15,10))/10+IF(MOD($Y15,10)>9,1,0) -> 0 | X15: ='7Aeokul'!G11 -> 0 | Y15: ='7Aeokul'!H11 -> 0 | Z15: ='7Aeokul'!I11 -> 0 | AA15: ='7Aeokul'!J11 -> 0 | AB15: ='7Aeokul'!K11 -> 0 | AC15: ='7Aeokul'!L11 -> 0 | AD15: ='7Aeokul'!M11 -> 0 | AE15: ='7Aeokul'!N11 -> 0 | ... AL15: ='7Aeokul'!U11 -> 0
A16: 11 | B16: ='7Aeokul'!A12 -> 0 | C16: ='7Aeokul'!B12 -> 0 | D16: =($X16-MOD($X16,10))/10+IF(MOD($X16,10)>0,1,0) -> 0 | E16: =($Y16-MOD($Y16,10))/10+IF(MOD($Y16,10)>0,1,0) -> 0 | F16: =($X16-MOD($X16,10))/10+IF(MOD($X16,10)>1,1,0) -> 0 | G16: =($Y16-MOD($Y16,10))/10+IF(MOD($Y16,10)>1,1,0) -> 0 | H16: =($X16-MOD($X16,10))/10+IF(MOD($X16,10)>2,1,0) -> 0 | I16: =($Y16-MOD($Y16,10))/10+IF(MOD($Y16,10)>2,1,0) -> 0 | J16: =($X16-MOD($X16,10))/10+IF(MOD($X16,10)>3,1,0) -> 0 | K16: =($Y16-MOD($Y16,10))/10+IF(MOD($Y16,10)>3,1,0) -> 0 | L16: =($X16-MOD($X16,10))/10+IF(MOD($X16,10)>4,1,0) -> 0 | M16: =($Y16-MOD($Y16,10))/10+IF(MOD($Y16,10)>4,1,0) -> 0 | N16: =($X16-MOD($X16,10))/10+IF(MOD($X16,10)>5,1,0) -> 0 | O16: =($Y16-MOD($Y16,10))/10+IF(MOD($Y16,10)>5,1,0) -> 0 | P16: =($X16-MOD($X16,10))/10+IF(MOD($X16,10)>6,1,0) -> 0 | Q16: =($Y16-MOD($Y16,10))/10+IF(MOD($Y16,10)>6,1,0) -> 0 | R16: =($X16-MOD($X16,10))/10+IF(MOD($X16,10)>7,1,0) -> 0 | S16: =($Y16-MOD($Y16,10))/10+IF(MOD($Y16,10)>7,1,0) -> 0 | T16: =($X16-MOD($X16,10))/10+IF(MOD($X16,10)>8,1,0) -> 0 | U16: =($Y16-MOD($Y16,10))/10+IF(MOD($Y16,10)>8,1,0) -> 0 | V16: =($X16-MOD($X16,10))/10+IF(MOD($X16,10)>9,1,0) -> 0 | W16: =($Y16-MOD($Y16,10))/10+IF(MOD($Y16,10)>9,1,0) -> 0 | X16: ='7Aeokul'!G12 -> 0 | Y16: ='7Aeokul'!H12 -> 0 | Z16: ='7Aeokul'!I12 -> 0 | AA16: ='7Aeokul'!J12 -> 0 | AB16: ='7Aeokul'!K12 -> 0 | AC16: ='7Aeokul'!L12 -> 0 | AD16: ='7Aeokul'!M12 -> 0 | AE16: ='7Aeokul'!N12 -> 0 | ... AL16: ='7Aeokul'!U12 -> 0
A17: 12 | B17: ='7Aeokul'!A13 -> 0 | C17: ='7Aeokul'!B13 -> 0 | D17: =($X17-MOD($X17,10))/10+IF(MOD($X17,10)>0,1,0) -> 0 | E17: =($Y17-MOD($Y17,10))/10+IF(MOD($Y17,10)>0,1,0) -> 0 | F17: =($X17-MOD($X17,10))/10+IF(MOD($X17,10)>1,1,0) -> 0 | G17: =($Y17-MOD($Y17,10))/10+IF(MOD($Y17,10)>1,1,0) -> 0 | H17: =($X17-MOD($X17,10))/10+IF(MOD($X17,10)>2,1,0) -> 0 | I17: =($Y17-MOD($Y17,10))/10+IF(MOD($Y17,10)>2,1,0) -> 0 | J17: =($X17-MOD($X17,10))/10+IF(MOD($X17,10)>3,1,0) -> 0 | K17: =($Y17-MOD($Y17,10))/10+IF(MOD($Y17,10)>3,1,0) -> 0 | L17: =($X17-MOD($X17,10))/10+IF(MOD($X17,10)>4,1,0) -> 0 | M17: =($Y17-MOD($Y17,10))/10+IF(MOD($Y17,10)>4,1,0) -> 0 | N17: =($X17-MOD($X17,10))/10+IF(MOD($X17,10)>5,1,0) -> 0 | O17: =($Y17-MOD($Y17,10))/10+IF(MOD($Y17,10)>5,1,0) -> 0 | P17: =($X17-MOD($X17,10))/10+IF(MOD($X17,10)>6,1,0) -> 0 | Q17: =($Y17-MOD($Y17,10))/10+IF(MOD($Y17,10)>6,1,0) -> 0 | R17: =($X17-MOD($X17,10))/10+IF(MOD($X17,10)>7,1,0) -> 0 | S17: =($Y17-MOD($Y17,10))/10+IF(MOD($Y17,10)>7,1,0) -> 0 | T17: =($X17-MOD($X17,10))/10+IF(MOD($X17,10)>8,1,0) -> 0 | U17: =($Y17-MOD($Y17,10))/10+IF(MOD($Y17,10)>8,1,0) -> 0 | V17: =($X17-MOD($X17,10))/10+IF(MOD($X17,10)>9,1,0) -> 0 | W17: =($Y17-MOD($Y17,10))/10+IF(MOD($Y17,10)>9,1,0) -> 0 | X17: ='7Aeokul'!G13 -> 0 | Y17: ='7Aeokul'!H13 -> 0 | Z17: ='7Aeokul'!I13 -> 0 | AA17: ='7Aeokul'!J13 -> 0 | AB17: ='7Aeokul'!K13 -> 0 | AC17: ='7Aeokul'!L13 -> 0 | AD17: ='7Aeokul'!M13 -> 0 | AE17: ='7Aeokul'!N13 -> 0 | ... AL17: ='7Aeokul'!U13 -> 0
... A26: 21 | B26: ='7Aeokul'!A22 -> 0 | C26: ='7Aeokul'!B22 -> 0 | D26: =($X26-MOD($X26,10))/10+IF(MOD($X26,10)>0,1,0) -> 0 | E26: =($Y26-MOD($Y26,10))/10+IF(MOD($Y26,10)>0,1,0) -> 0 | F26: =($X26-MOD($X26,10))/10+IF(MOD($X26,10)>1,1,0) -> 0 | G26: =($Y26-MOD($Y26,10))/10+IF(MOD($Y26,10)>1,1,0) -> 0 | H26: =($X26-MOD($X26,10))/10+IF(MOD($X26,10)>2,1,0) -> 0 | I26: =($Y26-MOD($Y26,10))/10+IF(MOD($Y26,10)>2,1,0) -> 0 | J26: =($X26-MOD($X26,10))/10+IF(MOD($X26,10)>3,1,0) -> 0 | K26: =($Y26-MOD($Y26,10))/10+IF(MOD($Y26,10)>3,1,0) -> 0 | L26: =($X26-MOD($X26,10))/10+IF(MOD($X26,10)>4,1,0) -> 0 | M26: =($Y26-MOD($Y26,10))/10+IF(MOD($Y26,10)>4,1,0) -> 0 | N26: =($X26-MOD($X26,10))/10+IF(MOD($X26,10)>5,1,0) -> 0 | O26: =($Y26-MOD($Y26,10))/10+IF(MOD($Y26,10)>5,1,0) -> 0 | P26: =($X26-MOD($X26,10))/10+IF(MOD($X26,10)>6,1,0) -> 0 | Q26: =($Y26-MOD($Y26,10))/10+IF(MOD($Y26,10)>6,1,0) -> 0 | R26: =($X26-MOD($X26,10))/10+IF(MOD($X26,10)>7,1,0) -> 0 | S26: =($Y26-MOD($Y26,10))/10+IF(MOD($Y26,10)>7,1,0) -> 0 | T26: =($X26-MOD($X26,10))/10+IF(MOD($X26,10)>8,1,0) -> 0 | U26: =($Y26-MOD($Y26,10))/10+IF(MOD($Y26,10)>8,1,0) -> 0 | V26: =($X26-MOD($X26,10))/10+IF(MOD($X26,10)>9,1,0) -> 0 | W26: =($Y26-MOD($Y26,10))/10+IF(MOD($Y26,10)>9,1,0) -> 0 | X26: ='7Aeokul'!G22 -> 0 | Y26: ='7Aeokul'!H22 -> 0 | Z26: ='7Aeokul'!I22 -> 0 | AA26: ='7Aeokul'!J22 -> 0 | AB26: ='7Aeokul'!K22 -> 0 | AC26: ='7Aeokul'!L22 -> 0 | AD26: ='7Aeokul'!M22 -> 0 | AE26: ='7Aeokul'!N22 -> 0 | ... AL26: ='7Aeokul'!U22 -> 0
A27: 22 | B27: ='7Aeokul'!A23 -> 0 | C27: ='7Aeokul'!B23 -> 0 | D27: =($X27-MOD($X27,10))/10+IF(MOD($X27,10)>0,1,0) -> 0 | E27: =($Y27-MOD($Y27,10))/10+IF(MOD($Y27,10)>0,1,0) -> 0 | F27: =($X27-MOD($X27,10))/10+IF(MOD($X27,10)>1,1,0) -> 0 | G27: =($Y27-MOD($Y27,10))/10+IF(MOD($Y27,10)>1,1,0) -> 0 | H27: =($X27-MOD($X27,10))/10+IF(MOD($X27,10)>2,1,0) -> 0 | I27: =($Y27-MOD($Y27,10))/10+IF(MOD($Y27,10)>2,1,0) -> 0 | J27: =($X27-MOD($X27,10))/10+IF(MOD($X27,10)>3,1,0) -> 0 | K27: =($Y27-MOD($Y27,10))/10+IF(MOD($Y27,10)>3,1,0) -> 0 | L27: =($X27-MOD($X27,10))/10+IF(MOD($X27,10)>4,1,0) -> 0 | M27: =($Y27-MOD($Y27,10))/10+IF(MOD($Y27,10)>4,1,0) -> 0 | N27: =($X27-MOD($X27,10))/10+IF(MOD($X27,10)>5,1,0) -> 0 | O27: =($Y27-MOD($Y27,10))/10+IF(MOD($Y27,10)>5,1,0) -> 0 | P27: =($X27-MOD($X27,10))/10+IF(MOD($X27,10)>6,1,0) -> 0 | Q27: =($Y27-MOD($Y27,10))/10+IF(MOD($Y27,10)>6,1,0) -> 0 | R27: =($X27-MOD($X27,10))/10+IF(MOD($X27,10)>7,1,0) -> 0 | S27: =($Y27-MOD($Y27,10))/10+IF(MOD($Y27,10)>7,1,0) -> 0 | T27: =($X27-MOD($X27,10))/10+IF(MOD($X27,10)>8,1,0) -> 0 | U27: =($Y27-MOD($Y27,10))/10+IF(MOD($Y27,10)>8,1,0) -> 0 | V27: =($X27-MOD($X27,10))/10+IF(MOD($X27,10)>9,1,0) -> 0 | W27: =($Y27-MOD($Y27,10))/10+IF(MOD($Y27,10)>9,1,0) -> 0 | X27: ='7Aeokul'!G23 -> 0 | Y27: ='7Aeokul'!H23 -> 0
A28: 23 | B28: ='7Aeokul'!A24 -> 0 | C28: ='7Aeokul'!B24 -> 0 | D28: =($X28-MOD($X28,10))/10+IF(MOD($X28,10)>0,1,0) -> 0 | E28: =($Y28-MOD($Y28,10))/10+IF(MOD($Y28,10)>0,1,0) -> 0 | F28: =($X28-MOD($X28,10))/10+IF(MOD($X28,10)>1,1,0) -> 0 | G28: =($Y28-MOD($Y28,10))/10+IF(MOD($Y28,10)>1,1,0) -> 0 | H28: =($X28-MOD($X28,10))/10+IF(MOD($X28,10)>2,1,0) -> 0 | I28: =($Y28-MOD($Y28,10))/10+IF(MOD($Y28,10)>2,1,0) -> 0 | J28: =($X28-MOD($X28,10))/10+IF(MOD($X28,10)>3,1,0) -> 0 | K28: =($Y28-MOD($Y28,10))/10+IF(MOD($Y28,10)>3,1,0) -> 0 | L28: =($X28-MOD($X28,10))/10+IF(MOD($X28,10)>4,1,0) -> 0 | M28: =($Y28-MOD($Y28,10))/10+IF(MOD($Y28,10)>4,1,0) -> 0 | N28: =($X28-MOD($X28,10))/10+IF(MOD($X28,10)>5,1,0) -> 0 | O28: =($Y28-MOD($Y28,10))/10+IF(MOD($Y28,10)>5,1,0) -> 0 | P28: =($X28-MOD($X28,10))/10+IF(MOD($X28,10)>6,1,0) -> 0 | Q28: =($Y28-MOD($Y28,10))/10+IF(MOD($Y28,10)>6,1,0) -> 0 | R28: =($X28-MOD($X28,10))/10+IF(MOD($X28,10)>7,1,0) -> 0 | S28: =($Y28-MOD($Y28,10))/10+IF(MOD($Y28,10)>7,1,0) -> 0 | T28: =($X28-MOD($X28,10))/10+IF(MOD($X28,10)>8,1,0) -> 0 | U28: =($Y28-MOD($Y28,10))/10+IF(MOD($Y28,10)>8,1,0) -> 0 | V28: =($X28-MOD($X28,10))/10+IF(MOD($X28,10)>9,1,0) -> 0 | W28: =($Y28-MOD($Y28,10))/10+IF(MOD($Y28,10)>9,1,0) -> 0 | X28: ='7Aeokul'!G24 -> 0 | Y28: ='7Aeokul'!H24 -> 0
A29: 24 | B29: ='7Aeokul'!A25 -> 0 | C29: ='7Aeokul'!B25 -> 0 | D29: =($X29-MOD($X29,10))/10+IF(MOD($X29,10)>0,1,0) -> 0 | E29: =($Y29-MOD($Y29,10))/10+IF(MOD($Y29,10)>0,1,0) -> 0 | F29: =($X29-MOD($X29,10))/10+IF(MOD($X29,10)>1,1,0) -> 0 | G29: =($Y29-MOD($Y29,10))/10+IF(MOD($Y29,10)>1,1,0) -> 0 | H29: =($X29-MOD($X29,10))/10+IF(MOD($X29,10)>2,1,0) -> 0 | I29: =($Y29-MOD($Y29,10))/10+IF(MOD($Y29,10)>2,1,0) -> 0 | J29: =($X29-MOD($X29,10))/10+IF(MOD($X29,10)>3,1,0) -> 0 | K29: =($Y29-MOD($Y29,10))/10+IF(MOD($Y29,10)>3,1,0) -> 0 | L29: =($X29-MOD($X29,10))/10+IF(MOD($X29,10)>4,1,0) -> 0 | M29: =($Y29-MOD($Y29,10))/10+IF(MOD($Y29,10)>4,1,0) -> 0 | N29: =($X29-MOD($X29,10))/10+IF(MOD($X29,10)>5,1,0) -> 0 | O29: =($Y29-MOD($Y29,10))/10+IF(MOD($Y29,10)>5,1,0) -> 0 | P29: =($X29-MOD($X29,10))/10+IF(MOD($X29,10)>6,1,0) -> 0 | Q29: =($Y29-MOD($Y29,10))/10+IF(MOD($Y29,10)>6,1,0) -> 0 | R29: =($X29-MOD($X29,10))/10+IF(MOD($X29,10)>7,1,0) -> 0 | S29: =($Y29-MOD($Y29,10))/10+IF(MOD($Y29,10)>7,1,0) -> 0 | T29: =($X29-MOD($X29,10))/10+IF(MOD($X29,10)>8,1,0) -> 0 | U29: =($Y29-MOD($Y29,10))/10+IF(MOD($Y29,10)>8,1,0) -> 0 | V29: =($X29-MOD($X29,10))/10+IF(MOD($X29,10)>9,1,0) -> 0 | W29: =($Y29-MOD($Y29,10))/10+IF(MOD($Y29,10)>9,1,0) -> 0 | X29: ='7Aeokul'!G25 -> 0 | Y29: ='7Aeokul'!H25 -> 0
A30: 25 | B30: ='7Aeokul'!A26 -> 0 | C30: ='7Aeokul'!B26 -> 0 | D30: =($X30-MOD($X30,10))/10+IF(MOD($X30,10)>0,1,0) -> 0 | E30: =($Y30-MOD($Y30,10))/10+IF(MOD($Y30,10)>0,1,0) -> 0 | F30: =($X30-MOD($X30,10))/10+IF(MOD($X30,10)>1,1,0) -> 0 | G30: =($Y30-MOD($Y30,10))/10+IF(MOD($Y30,10)>1,1,0) -> 0 | H30: =($X30-MOD($X30,10))/10+IF(MOD($X30,10)>2,1,0) -> 0 | I30: =($Y30-MOD($Y30,10))/10+IF(MOD($Y30,10)>2,1,0) -> 0 | J30: =($X30-MOD($X30,10))/10+IF(MOD($X30,10)>3,1,0) -> 0 | K30: =($Y30-MOD($Y30,10))/10+IF(MOD($Y30,10)>3,1,0) -> 0 | L30: =($X30-MOD($X30,10))/10+IF(MOD($X30,10)>4,1,0) -> 0 | M30: =($Y30-MOD($Y30,10))/10+IF(MOD($Y30,10)>4,1,0) -> 0 | N30: =($X30-MOD($X30,10))/10+IF(MOD($X30,10)>5,1,0) -> 0 | O30: =($Y30-MOD($Y30,10))/10+IF(MOD($Y30,10)>5,1,0) -> 0 | P30: =($X30-MOD($X30,10))/10+IF(MOD($X30,10)>6,1,0) -> 0 | Q30: =($Y30-MOD($Y30,10))/10+IF(MOD($Y30,10)>6,1,0) -> 0 | R30: =($X30-MOD($X30,10))/10+IF(MOD($X30,10)>7,1,0) -> 0 | S30: =($Y30-MOD($Y30,10))/10+IF(MOD($Y30,10)>7,1,0) -> 0 | T30: =($X30-MOD($X30,10))/10+IF(MOD($X30,10)>8,1,0) -> 0 | U30: =($Y30-MOD($Y30,10))/10+IF(MOD($Y30,10)>8,1,0) -> 0 | V30: =($X30-MOD($X30,10))/10+IF(MOD($X30,10)>9,1,0) -> 0 | W30: =($Y30-MOD($Y30,10))/10+IF(MOD($Y30,10)>9,1,0) -> 0 | X30: ='7Aeokul'!G26 -> 0 | Y30: ='7Aeokul'!H26 -> 0
A31: 26 | B31: ='7Aeokul'!A27 -> 0 | C31: ='7Aeokul'!B27 -> 0 | D31: =($X31-MOD($X31,10))/10+IF(MOD($X31,10)>0,1,0) -> 0 | E31: =($Y31-MOD($Y31,10))/10+IF(MOD($Y31,10)>0,1,0) -> 0 | F31: =($X31-MOD($X31,10))/10+IF(MOD($X31,10)>1,1,0) -> 0 | G31: =($Y31-MOD($Y31,10))/10+IF(MOD($Y31,10)>1,1,0) -> 0 | H31: =($X31-MOD($X31,10))/10+IF(MOD($X31,10)>2,1,0) -> 0 | I31: =($Y31-MOD($Y31,10))/10+IF(MOD($Y31,10)>2,1,0) -> 0 | J31: =($X31-MOD($X31,10))/10+IF(MOD($X31,10)>3,1,0) -> 0 | K31: =($Y31-MOD($Y31,10))/10+IF(MOD($Y31,10)>3,1,0) -> 0 | L31: =($X31-MOD($X31,10))/10+IF(MOD($X31,10)>4,1,0) -> 0 | M31: =($Y31-MOD($Y31,10))/10+IF(MOD($Y31,10)>4,1,0) -> 0 | N31: =($X31-MOD($X31,10))/10+IF(MOD($X31,10)>5,1,0) -> 0 | O31: =($Y31-MOD($Y31,10))/10+IF(MOD($Y31,10)>5,1,0) -> 0 | P31: =($X31-MOD($X31,10))/10+IF(MOD($X31,10)>6,1,0) -> 0 | Q31: =($Y31-MOD($Y31,10))/10+IF(MOD($Y31,10)>6,1,0) -> 0 | R31: =($X31-MOD($X31,10))/10+IF(MOD($X31,10)>7,1,0) -> 0 | S31: =($Y31-MOD($Y31,10))/10+IF(MOD($Y31,10)>7,1,0) -> 0 | T31: =($X31-MOD($X31,10))/10+IF(MOD($X31,10)>8,1,0) -> 0 | U31: =($Y31-MOD($Y31,10))/10+IF(MOD($Y31,10)>8,1,0) -> 0 | V31: =($X31-MOD($X31,10))/10+IF(MOD($X31,10)>9,1,0) -> 0 | W31: =($Y31-MOD($Y31,10))/10+IF(MOD($Y31,10)>9,1,0) -> 0 | X31: ='7Aeokul'!G27 -> 0 | Y31: ='7Aeokul'!H27 -> 0
A32: 27 | B32: ='7Aeokul'!A28 -> 0 | C32: ='7Aeokul'!B28 -> 0 | D32: =($X32-MOD($X32,10))/10+IF(MOD($X32,10)>0,1,0) -> 0 | E32: =($Y32-MOD($Y32,10))/10+IF(MOD($Y32,10)>0,1,0) -> 0 | F32: =($X32-MOD($X32,10))/10+IF(MOD($X32,10)>1,1,0) -> 0 | G32: =($Y32-MOD($Y32,10))/10+IF(MOD($Y32,10)>1,1,0) -> 0 | H32: =($X32-MOD($X32,10))/10+IF(MOD($X32,10)>2,1,0) -> 0 | I32: =($Y32-MOD($Y32,10))/10+IF(MOD($Y32,10)>2,1,0) -> 0 | J32: =($X32-MOD($X32,10))/10+IF(MOD($X32,10)>3,1,0) -> 0 | K32: =($Y32-MOD($Y32,10))/10+IF(MOD($Y32,10)>3,1,0) -> 0 | L32: =($X32-MOD($X32,10))/10+IF(MOD($X32,10)>4,1,0) -> 0 | M32: =($Y32-MOD($Y32,10))/10+IF(MOD($Y32,10)>4,1,0) -> 0 | N32: =($X32-MOD($X32,10))/10+IF(MOD($X32,10)>5,1,0) -> 0 | O32: =($Y32-MOD($Y32,10))/10+IF(MOD($Y32,10)>5,1,0) -> 0 | P32: =($X32-MOD($X32,10))/10+IF(MOD($X32,10)>6,1,0) -> 0 | Q32: =($Y32-MOD($Y32,10))/10+IF(MOD($Y32,10)>6,1,0) -> 0 | R32: =($X32-MOD($X32,10))/10+IF(MOD($X32,10)>7,1,0) -> 0 | S32: =($Y32-MOD($Y32,10))/10+IF(MOD($Y32,10)>7,1,0) -> 0 | T32: =($X32-MOD($X32,10))/10+IF(MOD($X32,10)>8,1,0) -> 0 | U32: =($Y32-MOD($Y32,10))/10+IF(MOD($Y32,10)>8,1,0) -> 0 | V32: =($X32-MOD($X32,10))/10+IF(MOD($X32,10)>9,1,0) -> 0 | W32: =($Y32-MOD($Y32,10))/10+IF(MOD($Y32,10)>9,1,0) -> 0 | X32: ='7Aeokul'!G28 -> 0 | Y32: ='7Aeokul'!H28 -> 0
A33: 28 | B33: ='7Aeokul'!A29 -> 0 | C33: ='7Aeokul'!B29 -> 0 | D33: =($X33-MOD($X33,10))/10+IF(MOD($X33,10)>0,1,0) -> 0 | E33: =($Y33-MOD($Y33,10))/10+IF(MOD($Y33,10)>0,1,0) -> 0 | F33: =($X33-MOD($X33,10))/10+IF(MOD($X33,10)>1,1,0) -> 0 | G33: =($Y33-MOD($Y33,10))/10+IF(MOD($Y33,10)>1,1,0) -> 0 | H33: =($X33-MOD($X33,10))/10+IF(MOD($X33,10)>2,1,0) -> 0 | I33: =($Y33-MOD($Y33,10))/10+IF(MOD($Y33,10)>2,1,0) -> 0 | J33: =($X33-MOD($X33,10))/10+IF(MOD($X33,10)>3,1,0) -> 0 | K33: =($Y33-MOD($Y33,10))/10+IF(MOD($Y33,10)>3,1,0) -> 0 | L33: =($X33-MOD($X33,10))/10+IF(MOD($X33,10)>4,1,0) -> 0 | M33: =($Y33-MOD($Y33,10))/10+IF(MOD($Y33,10)>4,1,0) -> 0 | N33: =($X33-MOD($X33,10))/10+IF(MOD($X33,10)>5,1,0) -> 0 | O33: =($Y33-MOD($Y33,10))/10+IF(MOD($Y33,10)>5,1,0) -> 0 | P33: =($X33-MOD($X33,10))/10+IF(MOD($X33,10)>6,1,0) -> 0 | Q33: =($Y33-MOD($Y33,10))/10+IF(MOD($Y33,10)>6,1,0) -> 0 | R33: =($X33-MOD($X33,10))/10+IF(MOD($X33,10)>7,1,0) -> 0 | S33: =($Y33-MOD($Y33,10))/10+IF(MOD($Y33,10)>7,1,0) -> 0 | T33: =($X33-MOD($X33,10))/10+IF(MOD($X33,10)>8,1,0) -> 0 | U33: =($Y33-MOD($Y33,10))/10+IF(MOD($Y33,10)>8,1,0) -> 0 | V33: =($X33-MOD($X33,10))/10+IF(MOD($X33,10)>9,1,0) -> 0 | W33: =($Y33-MOD($Y33,10))/10+IF(MOD($Y33,10)>9,1,0) -> 0 | X33: ='7Aeokul'!G29 -> 0 | Y33: ='7Aeokul'!H29 -> 0
A34: 29 | B34: ='7Aeokul'!A30 -> 0 | C34: ='7Aeokul'!B30 -> 0 | D34: =($X34-MOD($X34,10))/10+IF(MOD($X34,10)>0,1,0) -> 0 | E34: =($Y34-MOD($Y34,10))/10+IF(MOD($Y34,10)>0,1,0) -> 0 | F34: =($X34-MOD($X34,10))/10+IF(MOD($X34,10)>1,1,0) -> 0 | G34: =($Y34-MOD($Y34,10))/10+IF(MOD($Y34,10)>1,1,0) -> 0 | H34: =($X34-MOD($X34,10))/10+IF(MOD($X34,10)>2,1,0) -> 0 | I34: =($Y34-MOD($Y34,10))/10+IF(MOD($Y34,10)>2,1,0) -> 0 | J34: =($X34-MOD($X34,10))/10+IF(MOD($X34,10)>3,1,0) -> 0 | K34: =($Y34-MOD($Y34,10))/10+IF(MOD($Y34,10)>3,1,0) -> 0 | L34: =($X34-MOD($X34,10))/10+IF(MOD($X34,10)>4,1,0) -> 0 | M34: =($Y34-MOD($Y34,10))/10+IF(MOD($Y34,10)>4,1,0) -> 0 | N34: =($X34-MOD($X34,10))/10+IF(MOD($X34,10)>5,1,0) -> 0 | O34: =($Y34-MOD($Y34,10))/10+IF(MOD($Y34,10)>5,1,0) -> 0 | P34: =($X34-MOD($X34,10))/10+IF(MOD($X34,10)>6,1,0) -> 0 | Q34: =($Y34-MOD($Y34,10))/10+IF(MOD($Y34,10)>6,1,0) -> 0 | R34: =($X34-MOD($X34,10))/10+IF(MOD($X34,10)>7,1,0) -> 0 | S34: =($Y34-MOD($Y34,10))/10+IF(MOD($Y34,10)>7,1,0) -> 0 | T34: =($X34-MOD($X34,10))/10+IF(MOD($X34,10)>8,1,0) -> 0 | U34: =($Y34-MOD($Y34,10))/10+IF(MOD($Y34,10)>8,1,0) -> 0 | V34: =($X34-MOD($X34,10))/10+IF(MOD($X34,10)>9,1,0) -> 0 | W34: =($Y34-MOD($Y34,10))/10+IF(MOD($Y34,10)>9,1,0) -> 0 | X34: ='7Aeokul'!G30 -> 0 | Y34: ='7Aeokul'!H30 -> 0
A35: 30 | B35: ='7Aeokul'!A31 -> 0 | C35: ='7Aeokul'!B31 -> 0 | D35: =($X35-MOD($X35,10))/10+IF(MOD($X35,10)>0,1,0) -> 0 | E35: =($Y35-MOD($Y35,10))/10+IF(MOD($Y35,10)>0,1,0) -> 0 | F35: =($X35-MOD($X35,10))/10+IF(MOD($X35,10)>1,1,0) -> 0 | G35: =($Y35-MOD($Y35,10))/10+IF(MOD($Y35,10)>1,1,0) -> 0 | H35: =($X35-MOD($X35,10))/10+IF(MOD($X35,10)>2,1,0) -> 0 | I35: =($Y35-MOD($Y35,10))/10+IF(MOD($Y35,10)>2,1,0) -> 0 | J35: =($X35-MOD($X35,10))/10+IF(MOD($X35,10)>3,1,0) -> 0 | K35: =($Y35-MOD($Y35,10))/10+IF(MOD($Y35,10)>3,1,0) -> 0 | L35: =($X35-MOD($X35,10))/10+IF(MOD($X35,10)>4,1,0) -> 0 | M35: =($Y35-MOD($Y35,10))/10+IF(MOD($Y35,10)>4,1,0) -> 0 | N35: =($X35-MOD($X35,10))/10+IF(MOD($X35,10)>5,1,0) -> 0 | O35: =($Y35-MOD($Y35,10))/10+IF(MOD($Y35,10)>5,1,0) -> 0 | P35: =($X35-MOD($X35,10))/10+IF(MOD($X35,10)>6,1,0) -> 0 | Q35: =($Y35-MOD($Y35,10))/10+IF(MOD($Y35,10)>6,1,0) -> 0 | R35: =($X35-MOD($X35,10))/10+IF(MOD($X35,10)>7,1,0) -> 0 | S35: =($Y35-MOD($Y35,10))/10+IF(MOD($Y35,10)>7,1,0) -> 0 | T35: =($X35-MOD($X35,10))/10+IF(MOD($X35,10)>8,1,0) -> 0 | U35: =($Y35-MOD($Y35,10))/10+IF(MOD($Y35,10)>8,1,0) -> 0 | V35: =($X35-MOD($X35,10))/10+IF(MOD($X35,10)>9,1,0) -> 0 | W35: =($Y35-MOD($Y35,10))/10+IF(MOD($Y35,10)>9,1,0) -> 0 | X35: ='7Aeokul'!G31 -> 0 | Y35: ='7Aeokul'!H31 -> 0
A36: 31 | B36: ='7Aeokul'!A32 -> 0 | C36: ='7Aeokul'!B32 -> 0 | D36: =($X36-MOD($X36,10))/10+IF(MOD($X36,10)>0,1,0) -> 0 | E36: =($Y36-MOD($Y36,10))/10+IF(MOD($Y36,10)>0,1,0) -> 0 | F36: =($X36-MOD($X36,10))/10+IF(MOD($X36,10)>1,1,0) -> 0 | G36: =($Y36-MOD($Y36,10))/10+IF(MOD($Y36,10)>1,1,0) -> 0 | H36: =($X36-MOD($X36,10))/10+IF(MOD($X36,10)>2,1,0) -> 0 | I36: =($Y36-MOD($Y36,10))/10+IF(MOD($Y36,10)>2,1,0) -> 0 | J36: =($X36-MOD($X36,10))/10+IF(MOD($X36,10)>3,1,0) -> 0 | K36: =($Y36-MOD($Y36,10))/10+IF(MOD($Y36,10)>3,1,0) -> 0 | L36: =($X36-MOD($X36,10))/10+IF(MOD($X36,10)>4,1,0) -> 0 | M36: =($Y36-MOD($Y36,10))/10+IF(MOD($Y36,10)>4,1,0) -> 0 | N36: =($X36-MOD($X36,10))/10+IF(MOD($X36,10)>5,1,0) -> 0 | O36: =($Y36-MOD($Y36,10))/10+IF(MOD($Y36,10)>5,1,0) -> 0 | P36: =($X36-MOD($X36,10))/10+IF(MOD($X36,10)>6,1,0) -> 0 | Q36: =($Y36-MOD($Y36,10))/10+IF(MOD($Y36,10)>6,1,0) -> 0 | R36: =($X36-MOD($X36,10))/10+IF(MOD($X36,10)>7,1,0) -> 0 | S36: =($Y36-MOD($Y36,10))/10+IF(MOD($Y36,10)>7,1,0) -> 0 | T36: =($X36-MOD($X36,10))/10+IF(MOD($X36,10)>8,1,0) -> 0 | U36: =($Y36-MOD($Y36,10))/10+IF(MOD($Y36,10)>8,1,0) -> 0 | V36: =($X36-MOD($X36,10))/10+IF(MOD($X36,10)>9,1,0) -> 0 | W36: =($Y36-MOD($Y36,10))/10+IF(MOD($Y36,10)>9,1,0) -> 0 | X36: ='7Aeokul'!G32 -> 0 | Y36: ='7Aeokul'!H32 -> 0
A37: 32 | B37: ='7Aeokul'!A33 -> 0 | C37: ='7Aeokul'!B33 -> 0 | D37: =($X37-MOD($X37,10))/10+IF(MOD($X37,10)>0,1,0) -> 0 | E37: =($Y37-MOD($Y37,10))/10+IF(MOD($Y37,10)>0,1,0) -> 0 | F37: =($X37-MOD($X37,10))/10+IF(MOD($X37,10)>1,1,0) -> 0 | G37: =($Y37-MOD($Y37,10))/10+IF(MOD($Y37,10)>1,1,0) -> 0 | H37: =($X37-MOD($X37,10))/10+IF(MOD($X37,10)>2,1,0) -> 0 | I37: =($Y37-MOD($Y37,10))/10+IF(MOD($Y37,10)>2,1,0) -> 0 | J37: =($X37-MOD($X37,10))/10+IF(MOD($X37,10)>3,1,0) -> 0 | K37: =($Y37-MOD($Y37,10))/10+IF(MOD($Y37,10)>3,1,0) -> 0 | L37: =($X37-MOD($X37,10))/10+IF(MOD($X37,10)>4,1,0) -> 0 | M37: =($Y37-MOD($Y37,10))/10+IF(MOD($Y37,10)>4,1,0) -> 0 | N37: =($X37-MOD($X37,10))/10+IF(MOD($X37,10)>5,1,0) -> 0 | O37: =($Y37-MOD($Y37,10))/10+IF(MOD($Y37,10)>5,1,0) -> 0 | P37: =($X37-MOD($X37,10))/10+IF(MOD($X37,10)>6,1,0) -> 0 | Q37: =($Y37-MOD($Y37,10))/10+IF(MOD($Y37,10)>6,1,0) -> 0 | R37: =($X37-MOD($X37,10))/10+IF(MOD($X37,10)>7,1,0) -> 0 | S37: =($Y37-MOD($Y37,10))/10+IF(MOD($Y37,10)>7,1,0) -> 0 | T37: =($X37-MOD($X37,10))/10+IF(MOD($X37,10)>8,1,0) -> 0 | U37: =($Y37-MOD($Y37,10))/10+IF(MOD($Y37,10)>8,1,0) -> 0 | V37: =($X37-MOD($X37,10))/10+IF(MOD($X37,10)>9,1,0) -> 0 | W37: =($Y37-MOD($Y37,10))/10+IF(MOD($Y37,10)>9,1,0) -> 0 | X37: ='7Aeokul'!G33 -> 0 | Y37: ='7Aeokul'!H33 -> 0
A38: 33 | B38: ='7Aeokul'!A34 -> 0 | C38: ='7Aeokul'!B34 -> 0 | D38: =($X38-MOD($X38,10))/10+IF(MOD($X38,10)>0,1,0) -> 0 | E38: =($Y38-MOD($Y38,10))/10+IF(MOD($Y38,10)>0,1,0) -> 0 | F38: =($X38-MOD($X38,10))/10+IF(MOD($X38,10)>1,1,0) -> 0 | G38: =($Y38-MOD($Y38,10))/10+IF(MOD($Y38,10)>1,1,0) -> 0 | H38: =($X38-MOD($X38,10))/10+IF(MOD($X38,10)>2,1,0) -> 0 | I38: =($Y38-MOD($Y38,10))/10+IF(MOD($Y38,10)>2,1,0) -> 0 | J38: =($X38-MOD($X38,10))/10+IF(MOD($X38,10)>3,1,0) -> 0 | K38: =($Y38-MOD($Y38,10))/10+IF(MOD($Y38,10)>3,1,0) -> 0 | L38: =($X38-MOD($X38,10))/10+IF(MOD($X38,10)>4,1,0) -> 0 | M38: =($Y38-MOD($Y38,10))/10+IF(MOD($Y38,10)>4,1,0) -> 0 | N38: =($X38-MOD($X38,10))/10+IF(MOD($X38,10)>5,1,0) -> 0 | O38: =($Y38-MOD($Y38,10))/10+IF(MOD($Y38,10)>5,1,0) -> 0 | P38: =($X38-MOD($X38,10))/10+IF(MOD($X38,10)>6,1,0) -> 0 | Q38: =($Y38-MOD($Y38,10))/10+IF(MOD($Y38,10)>6,1,0) -> 0 | R38: =($X38-MOD($X38,10))/10+IF(MOD($X38,10)>7,1,0) -> 0 | S38: =($Y38-MOD($Y38,10))/10+IF(MOD($Y38,10)>7,1,0) -> 0 | T38: =($X38-MOD($X38,10))/10+IF(MOD($X38,10)>8,1,0) -> 0 | U38: =($Y38-MOD($Y38,10))/10+IF(MOD($Y38,10)>8,1,0) -> 0 | V38: =($X38-MOD($X38,10))/10+IF(MOD($X38,10)>9,1,0) -> 0 | W38: =($Y38-MOD($Y38,10))/10+IF(MOD($Y38,10)>9,1,0) -> 0 | X38: ='7Aeokul'!G34 -> 0 | Y38: ='7Aeokul'!H34 -> 0
... A41: 36 | B41: ='7Aeokul'!A37 -> 0 | C41: ='7Aeokul'!B37 -> 0 | D41: =($X41-MOD($X41,10))/10+IF(MOD($X41,10)>0,1,0) -> 0 | E41: =($Y41-MOD($Y41,10))/10+IF(MOD($Y41,10)>0,1,0) -> 0 | F41: =($X41-MOD($X41,10))/10+IF(MOD($X41,10)>1,1,0) -> 0 | G41: =($Y41-MOD($Y41,10))/10+IF(MOD($Y41,10)>1,1,0) -> 0 | H41: =($X41-MOD($X41,10))/10+IF(MOD($X41,10)>2,1,0) -> 0 | I41: =($Y41-MOD($Y41,10))/10+IF(MOD($Y41,10)>2,1,0) -> 0 | J41: =($X41-MOD($X41,10))/10+IF(MOD($X41,10)>3,1,0) -> 0 | K41: =($Y41-MOD($Y41,10))/10+IF(MOD($Y41,10)>3,1,0) -> 0 | L41: =($X41-MOD($X41,10))/10+IF(MOD($X41,10)>4,1,0) -> 0 | M41: =($Y41-MOD($Y41,10))/10+IF(MOD($Y41,10)>4,1,0) -> 0 | N41: =($X41-MOD($X41,10))/10+IF(MOD($X41,10)>5,1,0) -> 0 | O41: =($Y41-MOD($Y41,10))/10+IF(MOD($Y41,10)>5,1,0) -> 0 | P41: =($X41-MOD($X41,10))/10+IF(MOD($X41,10)>6,1,0) -> 0 | Q41: =($Y41-MOD($Y41,10))/10+IF(MOD($Y41,10)>6,1,0) -> 0 | R41: =($X41-MOD($X41,10))/10+IF(MOD($X41,10)>7,1,0) -> 0 | S41: =($Y41-MOD($Y41,10))/10+IF(MOD($Y41,10)>7,1,0) -> 0 | T41: =($X41-MOD($X41,10))/10+IF(MOD($X41,10)>8,1,0) -> 0 | U41: =($Y41-MOD($Y41,10))/10+IF(MOD($Y41,10)>8,1,0) -> 0 | V41: =($X41-MOD($X41,10))/10+IF(MOD($X41,10)>9,1,0) -> 0 | W41: =($Y41-MOD($Y41,10))/10+IF(MOD($Y41,10)>9,1,0) -> 0 | X41: ='7Aeokul'!G37 -> 0 | Y41: ='7Aeokul'!H37 -> 0
A42: 37 | B42: ='7Aeokul'!A38 -> 0 | C42: ='7Aeokul'!B38 -> 0 | D42: =($X42-MOD($X42,10))/10+IF(MOD($X42,10)>0,1,0) -> 0 | E42: =($Y42-MOD($Y42,10))/10+IF(MOD($Y42,10)>0,1,0) -> 0 | F42: =($X42-MOD($X42,10))/10+IF(MOD($X42,10)>1,1,0) -> 0 | G42: =($Y42-MOD($Y42,10))/10+IF(MOD($Y42,10)>1,1,0) -> 0 | H42: =($X42-MOD($X42,10))/10+IF(MOD($X42,10)>2,1,0) -> 0 | I42: =($Y42-MOD($Y42,10))/10+IF(MOD($Y42,10)>2,1,0) -> 0 | J42: =($X42-MOD($X42,10))/10+IF(MOD($X42,10)>3,1,0) -> 0 | K42: =($Y42-MOD($Y42,10))/10+IF(MOD($Y42,10)>3,1,0) -> 0 | L42: =($X42-MOD($X42,10))/10+IF(MOD($X42,10)>4,1,0) -> 0 | M42: =($Y42-MOD($Y42,10))/10+IF(MOD($Y42,10)>4,1,0) -> 0 | N42: =($X42-MOD($X42,10))/10+IF(MOD($X42,10)>5,1,0) -> 0 | O42: =($Y42-MOD($Y42,10))/10+IF(MOD($Y42,10)>5,1,0) -> 0 | P42: =($X42-MOD($X42,10))/10+IF(MOD($X42,10)>6,1,0) -> 0 | Q42: =($Y42-MOD($Y42,10))/10+IF(MOD($Y42,10)>6,1,0) -> 0 | R42: =($X42-MOD($X42,10))/10+IF(MOD($X42,10)>7,1,0) -> 0 | S42: =($Y42-MOD($Y42,10))/10+IF(MOD($Y42,10)>7,1,0) -> 0 | T42: =($X42-MOD($X42,10))/10+IF(MOD($X42,10)>8,1,0) -> 0 | U42: =($Y42-MOD($Y42,10))/10+IF(MOD($Y42,10)>8,1,0) -> 0 | V42: =($X42-MOD($X42,10))/10+IF(MOD($X42,10)>9,1,0) -> 0 | W42: =($Y42-MOD($Y42,10))/10+IF(MOD($Y42,10)>9,1,0) -> 0 | X42: ='7Aeokul'!G38 -> 0 | Y42: ='7Aeokul'!H38 -> 0 | Z42: 100 | AA42: 10 | AB42: 10 | AC42: 10 | AD42: 10 | AE42: 5 | AF42: 5 | AG42: 15 | AH42: 15 | AI42: 10 | AJ42: 10 | AK42: 100
AA43: 10 | AB43: 10 | AC43: 10 | AD43: 10 | AE43: 5 | AF43: 5 | AG43: 15 | AH43: 15 | AI43: 10 | AJ43: 10 | AK43: 100

Sheet 6B
A1: =önbilgi!B5 -> 2019-2020 1. DÖNEM | D1: ÖLÇÜTLER
A2: =CONCATENATE(önbilgi!B4," ",'6Beokul'!N1," SINIFI ",önbilgi!B2," ","DERSİ DERS İÇİ ETKİNLİKLERE KATILIM PUANLAMA ÖLÇEĞİ") -> 6B SINIFI …………………………. DERSİ DERS İÇİ ETKİNLİKLERE KATILIM PUANLAMA ÖLÇEĞİ | D2: Derse hazırlıklı gelir. | F2: Derste kurallara uyar, dersin düzenini bozmaz. | H2: Ders araç gerekçlerini düzenli getirir. | J2: Okula geç kalma, devamsızlık alışkanlığının takibi | L2: Konu ile ilgili görüşlerini açıkça ifade eder | N2: Disiplin ve disiplin cezası durumu | P2: Yeni, özgün ve eleştirel sorular sorar. | R2: Öğrencinin kılık kıyafet durumu | T2: Okul ve ders etkinliklerine aktif katılım yapar. | V2: Öğretmene arkadaşlarına, çevreye saygı duyma | X2: TOPLAM
A3: ÖĞRENCİLER | D3: PUANLAR
A4: SIRA | B4: NO | C4: ADI SOYADI | D4: 10 | F4: 10 | H4: 10 | J4: 10 | L4: 10 | N4: 10 | P4: 10 | R4: 10 | T4: 10 | V4: 10 | X4: =SUM(D4:W4) -> 100 | Y4: 100 | Z4: =SUM(F4:X4) -> 190 | AB4: =SUM(G4:Z4) -> 470 | AD4: =SUM(H4:AB4) -> 940 | AF4: =SUM(J4:AD4) -> 1870 | AH4: =SUM(K4:AF4) -> 3730 | AJ4: =SUM(L4:AH4) -> 7460 | AL4: 100
D5: I. | E5: II. | F5: I. | G5: II. | H5: I. | I5: II. | J5: I. | K5: II. | L5: I. | M5: II. | N5: I. | O5: II. | P5: I. | Q5: II. | R5: I. | S5: II. | T5: I. | U5: II. | V5: I. | W5: II. | X5: I. | Y5: II. | Z5: II. | AA5: II. | AB5: II. | AC5: II. | AD5: II. | AE5: II. | AF5: II. | AG5: II. | AH5: II. | AI5: II. | AJ5: II. | AK5: II. | AL5: II.
