Workbook

Sheet 8C
A1: =önbilgi!B5 -> 2019-2020 1. DÖNEM | D1: ÖLÇÜTLER
A2: =CONCATENATE(önbilgi!B4," ",'8Ceokul'!N1," SINIFI ",önbilgi!B2," ","DERSİ DERS İÇİ ETKİNLİKLERE KATILIM PUANLAMA ÖLÇEĞİ") -> ……………… SINIFI …………………………. DERSİ DERS İÇİ ETKİNLİKLERE KATILIM PUANLAMA ÖLÇEĞİ | D2: Derse hazırlıklı gelir. | F2: Derste kurallara uyar, dersin düzenini bozmaz. | H2: Ders araç gerekçlerini düzenli getirir. | J2: Okula geç kalma, devamsızlık alışkanlığının takibi | L2: Konu ile ilgili görüşlerini açıkça ifade eder | N2: Disiplin ve disiplin cezası durumu | P2: Yeni, özgün ve eleştirel sorular sorar. | R2: Öğrencinin kılık kıyafet durumu | T2: Okul ve ders etkinliklerine aktif katılım yapar. | V2: Öğretmene arkadaşlarına, çevreye saygı duyma | X2: TOPLAM
A3: ÖĞRENCİLER | D3: PUANLAR
A4: SIRA | B4: NO | C4: ADI SOYADI | D4: 10 | F4: 10 | H4: 10 | J4: 10 | L4: 10 | N4: 10 | P4: 10 | R4: 10 | T4: 10 | V4: 10 | X4: =SUM(D4:W4) -> 100 | Y4: 100 | Z4: =SUM(F4:X4) -> 190 | AB4: =SUM(G4:Z4) -> 470 | AD4: =SUM(H4:AB4) -> 940 | AF4: =SUM(J4:AD4) -> 1870 | AH4: =SUM(K4:AF4) -> 3730 | AJ4: =SUM(L4:AH4) -> 7460 | AL4: 100
D5: I. | E5: II. | F5: I. | G5: II. | H5: I. | I5: II. | J5: I. | K5: II. | L5: I. | M5: II. | N5: I. | O5: II. | P5: I. | Q5: II. | R5: I. | S5: II. | T5: I. | U5: II. | V5: I. | W5: II. | X5: I. | Y5: II. | Z5: II. | AA5: II. | AB5: II. | AC5: II. | AD5: II. | AE5: II. | AF5: II. | AG5: II. | AH5: II. | AI5: II. | AJ5: II. | AK5: II. | AL5: II.
A6: 1 | Z6: ='8Ceokul'!I2 -> 0 | AA6: ='8Ceokul'!J2 -> 0 | AB6: ='8Ceokul'!K2 -> 0 | AC6: ='8Ceokul'!L2 -> 0 | AD6: ='8Ceokul'!M2 -> 0 | AE6: ='8Ceokul'!N2 -> 0 | AF6: ='8Ceokul'!O2 -> 0 | AG6: ='8Ceokul'!P2 -> 0 | ... AL6: ='8Ceokul'!U2 -> 0
A7: 2 | Z7: ='8Ceokul'!I3 -> 0 | AA7: ='8Ceokul'!J3 -> 0 | AB7: ='8Ceokul'!K3 -> 0 | AC7: ='8Ceokul'!L3 -> 0 | AD7: ='8Ceokul'!M3 -> 0 | AE7: ='8Ceokul'!N3 -> 0 | AF7: ='8Ceokul'!O3 -> 0 | AG7: ='8Ceokul'!P3 -> 0 | ... AL7: ='8Ceokul'!U3 -> 0
A8: 3 | Z8: ='8Ceokul'!I4 -> 0 | AA8: ='8Ceokul'!J4 -> 0 | AB8: ='8Ceokul'!K4 -> 0 | AC8: ='8Ceokul'!L4 -> 0 | AD8: ='8Ceokul'!M4 -> 0 | AE8: ='8Ceokul'!N4 -> 0 | AF8: ='8Ceokul'!O4 -> 0 | AG8: ='8Ceokul'!P4 -> 0 | ... AL8: ='8Ceokul'!U4 -> 0
A9: 4 | Z9: ='8Ceokul'!I5 -> 0 | AA9: ='8Ceokul'!J5 -> 0 | AB9: ='8Ceokul'!K5 -> 0 | AC9: ='8Ceokul'!L5 -> 0 | AD9: ='8Ceokul'!M5 -> 0 | AE9: ='8Ceokul'!N5 -> 0 | AF9: ='8Ceokul'!O5 -> 0 | AG9: ='8Ceokul'!P5 -> 0 | ... AL9: ='8Ceokul'!U5 -> 0
A10: 5 | Z10: ='8Ceokul'!I6 -> 0 | AA10: ='8Ceokul'!J6 -> 0 | AB10: ='8Ceokul'!K6 -> 0 | AC10: ='8Ceokul'!L6 -> 0 | AD10: ='8Ceokul'!M6 -> 0 | AE10: ='8Ceokul'!N6 -> 0 | AF10: ='8Ceokul'!O6 -> 0 | AG10: ='8Ceokul'!P6 -> 0 | ... AL10: ='8Ceokul'!U6 -> 0
A11: 6 | Z11: ='8Ceokul'!I7 -> 0 | AA11: ='8Ceokul'!J7 -> 0 | AB11: ='8Ceokul'!K7 -> 0 | AC11: ='8Ceokul'!L7 -> 0 | AD11: ='8Ceokul'!M7 -> 0 | AE11: ='8Ceokul'!N7 -> 0 | AF11: ='8Ceokul'!O7 -> 0 | AG11: ='8Ceokul'!P7 -> 0 | ... AL11: ='8Ceokul'!U7 -> 0
A12: 7 | Z12: ='8Ceokul'!I8 -> 0 | AA12: ='8Ceokul'!J8 -> 0 | AB12: ='8Ceokul'!K8 -> 0 | AC12: ='8Ceokul'!L8 -> 0 | AD12: ='8Ceokul'!M8 -> 0 | AE12: ='8Ceokul'!N8 -> 0 | AF12: ='8Ceokul'!O8 -> 0 | AG12: ='8Ceokul'!P8 -> 0 | ... AL12: ='8Ceokul'!U8 -> 0
A13: 8 | Z13: ='8Ceokul'!I9 -> 0 | AA13: ='8Ceokul'!J9 -> 0 | AB13: ='8Ceokul'!K9 -> 0 | AC13: ='8Ceokul'!L9 -> 0 | AD13: ='8Ceokul'!M9 -> 0 | AE13: ='8Ceokul'!N9 -> 0 | AF13: ='8Ceokul'!O9 -> 0 | AG13: ='8Ceokul'!P9 -> 0 | ... AL13: ='8Ceokul'!U9 -> 0
A14: 9 | Z14: ='8Ceokul'!I10 -> 0 | AA14: ='8Ceokul'!J10 -> 0 | AB14: ='8Ceokul'!K10 -> 0 | AC14: ='8Ceokul'!L10 -> 0 | AD14: ='8Ceokul'!M10 -> 0 | AE14: ='8Ceokul'!N10 -> 0 | AF14: ='8Ceokul'!O10 -> 0 | AG14: ='8Ceokul'!P10 -> 0 | ... AL14: ='8Ceokul'!U10 -> 0
A15: 10 | Z15: ='8Ceokul'!I11 -> 0 | AA15: ='8Ceokul'!J11 -> 0 | AB15: ='8Ceokul'!K11 -> 0 | AC15: ='8Ceokul'!L11 -> 0 | AD15: ='8Ceokul'!M11 -> 0 | AE15: ='8Ceokul'!N11 -> 0 | AF15: ='8Ceokul'!O11 -> 0 | AG15: ='8Ceokul'!P11 -> 0 | ... AL15: ='8Ceokul'!U11 -> 0
A16: 11 | Z16: ='8Ceokul'!I12 -> 0 | AA16: ='8Ceokul'!J12 -> 0 | AB16: ='8Ceokul'!K12 -> 0 | AC16: ='8Ceokul'!L12 -> 0 | AD16: ='8Ceokul'!M12 -> 0 | AE16: ='8Ceokul'!N12 -> 0 | AF16: ='8Ceokul'!O12 -> 0 | AG16: ='8Ceokul'!P12 -> 0 | ... AL16: ='8Ceokul'!U12 -> 0
A17: 12 | Z17: ='8Ceokul'!I13 -> 0 | AA17: ='8Ceokul'!J13 -> 0 | AB17: ='8Ceokul'!K13 -> 0 | AC17: ='8Ceokul'!L13 -> 0 | AD17: ='8Ceokul'!M13 -> 0 | AE17: ='8Ceokul'!N13 -> 0 | AF17: ='8Ceokul'!O13 -> 0 | AG17: ='8Ceokul'!P13 -> 0 | ... AL17: ='8Ceokul'!U13 -> 0
... A25: 20 | Z25: ='8Ceokul'!I21 -> 0 | AA25: ='8Ceokul'!J21 -> 0 | AB25: ='8Ceokul'!K21 -> 0 | AC25: ='8Ceokul'!L21 -> 0 | AD25: ='8Ceokul'!M21 -> 0 | AE25: ='8Ceokul'!N21 -> 0 | AF25: ='8Ceokul'!O21 -> 0 | AG25: ='8Ceokul'!P21 -> 0 | ... AL25: ='8Ceokul'!U21 -> 0
A26: 21
A27: 22
A28: 23
A29: 24
A30: 25
A31: 26
A32: 27
A33: 28
A34: 29
A35: 30
A36: 31
A37: 32
... A39: 34
Z41: 100 | AA41: 10 | AB41: 10 | AC41: 10 | AD41: 10 | AE41: 5 | AF41: 5 | AG41: 15 | AH41: 15 | AI41: 10 | AJ41: 10 | AK41: 100
AA42: 10 | AB42: 10 | AC42: 10 | AD42: 10 | AE42: 5 | AF42: 5 | AG42: 15 | AH42: 15 | AI42: 10 | AJ42: 10 | AK42: 100

Sheet 8B
A1: =önbilgi!B5 -> 2019-2020 1. DÖNEM | D1: ÖLÇÜTLER
A2: =CONCATENATE(önbilgi!B4," ",'8Beokul'!N1," SINIFI ",önbilgi!B2," ","DERSİ DERS İÇİ ETKİNLİKLERE KATILIM PUANLAMA ÖLÇEĞİ") -> 8B SINIFI …………………………. DERSİ DERS İÇİ ETKİNLİKLERE KATILIM PUANLAMA ÖLÇEĞİ | D2: Derse hazırlıklı gelir. | F2: Derste kurallara uyar, dersin düzenini bozmaz. | H2: Ders araç gerekçlerini düzenli getirir. | J2: Okula geç kalma, devamsızlık alışkanlığının takibi | L2: Konu ile ilgili görüşlerini açıkça ifade eder | N2: Disiplin ve disiplin cezası durumu | P2: Yeni, özgün ve eleştirel sorular sorar. | R2: Öğrencinin kılık kıyafet durumu | T2: Okul ve ders etkinliklerine aktif katılım yapar. | V2: Öğretmene arkadaşlarına, çevreye saygı duyma | X2: TOPLAM
A3: ÖĞRENCİLER | D3: PUANLAR
A4: SIRA | B4: NO | C4: ADI SOYADI | D4: 10 | F4: 10 | H4: 10 | J4: 10 | L4: 10 | N4: 10 | P4: 10 | R4: 10 | T4: 10 | V4: 10 | X4: =SUM(D4:W4) -> 100 | Y4: 100 | Z4: =SUM(F4:X4) -> 190 | AB4: =SUM(G4:Z4) -> 470 | AD4: =SUM(H4:AB4) -> 940 | AF4: =SUM(J4:AD4) -> 1870 | AH4: =SUM(K4:AF4) -> 3730 | AJ4: =SUM(L4:AH4) -> 7460 | AL4: 100
D5: I. | E5: II. | F5: I. | G5: II. | H5: I. | I5: II. | J5: I. | K5: II. | L5: I. | M5: II. | N5: I. | O5: II. | P5: I. | Q5: II. | R5: I. | S5: II. | T5: I. | U5: II. | V5: I. | W5: II. | X5: I. | Y5: II. | Z5: II. | AA5: II. | AB5: II. | AC5: II. | AD5: II. | AE5: II. | AF5: II. | AG5: II. | AH5: II. | AI5: II. | AJ5: II. | AK5: II. | AL5: II.
A6: 1 | B6: ='8Beokul'!A2 -> 0 | C6: ='8Beokul'!B2 -> 0 | D6: =($X6-MOD($X6,10))/10+IF(MOD($X6,10)>0,1,0) -> 0 | E6: =($Y6-MOD($Y6,10))/10+IF(MOD($Y6,10)>0,1,0) -> 0 | F6: =($X6-MOD($X6,10))/10+IF(MOD($X6,10)>1,1,0) -> 0 | G6: =($Y6-MOD($Y6,10))/10+IF(MOD($Y6,10)>1,1,0) -> 0 | H6: =($X6-MOD($X6,10))/10+IF(MOD($X6,10)>2,1,0) -> 0 | I6: =($Y6-MOD($Y6,10))/10+IF(MOD($Y6,10)>2,1,0) -> 0 | J6: =($X6-MOD($X6,10))/10+IF(MOD($X6,10)>3,1,0) -> 0 | K6: =($Y6-MOD($Y6,10))/10+IF(MOD($Y6,10)>3,1,0) -> 0 | L6: =($X6-MOD($X6,10))/10+IF(MOD($X6,10)>4,1,0) -> 0 | M6: =($Y6-MOD($Y6,10))/10+IF(MOD($Y6,10)>4,1,0) -> 0 | N6: =($X6-MOD($X6,10))/10+IF(MOD($X6,10)>5,1,0) -> 0 | O6: =($Y6-MOD($Y6,10))/10+IF(MOD($Y6,10)>5,1,0) -> 0 | P6: =($X6-MOD($X6,10))/10+IF(MOD($X6,10)>6,1,0) -> 0 | Q6: =($Y6-MOD($Y6,10))/10+IF(MOD($Y6,10)>6,1,0) -> 0 | R6: =($X6-MOD($X6,10))/10+IF(MOD($X6,10)>7,1,0) -> 0 | S6: =($Y6-MOD($Y6,10))/10+IF(MOD($Y6,10)>7,1,0) -> 0 | T6: =($X6-MOD($X6,10))/10+IF(MOD($X6,10)>8,1,0) -> 0 | U6: =($Y6-MOD($Y6,10))/10+IF(MOD($Y6,10)>8,1,0) -> 0 | V6: =($X6-MOD($X6,10))/10+IF(MOD($X6,10)>9,1,0) -> 0 | W6: =($Y6-MOD($Y6,10))/10+IF(MOD($Y6,10)>9,1,0) -> 0 | X6: ='8Beokul'!G2 -> 0 | Y6: ='8Beokul'!H2 -> 0 | Z6: ='8Beokul'!I2 -> 0 | AA6: ='8Beokul'!J2 -> 0 | AB6: ='8Beokul'!K2 -> 0 | AC6: ='8Beokul'!L2 -> 0 | AD6: ='8Beokul'!M2 -> 0 | AE6: ='8Beokul'!N2 -> 0 | ... AL6: ='8Beokul'!U2 -> 0
A7: 2 | B7: ='8Beokul'!A3 -> 0 | C7: ='8Beokul'!B3 -> 0 | D7: =($X7-MOD($X7,10))/10+IF(MOD($X7,10)>0,1,0) -> 0 | E7: =($Y7-MOD($Y7,10))/10+IF(MOD($Y7,10)>0,1,0) -> 0 | F7: =($X7-MOD($X7,10))/10+IF(MOD($X7,10)>1,1,0) -> 0 | G7: =($Y7-MOD($Y7,10))/10+IF(MOD($Y7,10)>1,1,0) -> 0 | H7: =($X7-MOD($X7,10))/10+IF(MOD($X7,10)>2,1,0) -> 0 | I7: =($Y7-MOD($Y7,10))/10+IF(MOD($Y7,10)>2,1,0) -> 0 | J7: =($X7-MOD($X7,10))/10+IF(MOD($X7,10)>3,1,0) -> 0 | K7: =($Y7-MOD($Y7,10))/10+IF(MOD($Y7,10)>3,1,0) -> 0 | L7: =($X7-MOD($X7,10))/10+IF(MOD($X7,10)>4,1,0) -> 0 | M7: =($Y7-MOD($Y7,10))/10+IF(MOD($Y7,10)>4,1,0) -> 0 | N7: =($X7-MOD($X7,10))/10+IF(MOD($X7,10)>5,1,0) -> 0 | O7: =($Y7-MOD($Y7,10))/10+IF(MOD($Y7,10)>5,1,0) -> 0 | P7: =($X7-MOD($X7,10))/10+IF(MOD($X7,10)>6,1,0) -> 0 | Q7: =($Y7-MOD($Y7,10))/10+IF(MOD($Y7,10)>6,1,0) -> 0 | R7: =($X7-MOD($X7,10))/10+IF(MOD($X7,10)>7,1,0) -> 0 | S7: =($Y7-MOD($Y7,10))/10+IF(MOD($Y7,10)>7,1,0) -> 0 | T7: =($X7-MOD($X7,10))/10+IF(MOD($X7,10)>8,1,0) -> 0 | U7: =($Y7-MOD($Y7,10))/10+IF(MOD($Y7,10)>8,1,0) -> 0 | V7: =($X7-MOD($X7,10))/10+IF(MOD($X7,10)>9,1,0) -> 0 | W7: =($Y7-MOD($Y7,10))/10+IF(MOD($Y7,10)>9,1,0) -> 0 | X7: ='8Beokul'!G3 -> 0 | Y7: ='8Beokul'!H3 -> 0 | Z7: ='8Beokul'!I3 -> 0 | AA7: ='8Beokul'!J3 -> 0 | AB7: ='8Beokul'!K3 -> 0 | AC7: ='8Beokul'!L3 -> 0 | AD7: ='8Beokul'!M3 -> 0 | AE7: ='8Beokul'!N3 -> 0 | ... AL7: ='8Beokul'!U3 -> 0
A8: 3 | B8: ='8Beokul'!A4 -> 0 | C8: ='8Beokul'!B4 -> 0 | D8: =($X8-MOD($X8,10))/10+IF(MOD($X8,10)>0,1,0) -> 0 | E8: =($Y8-MOD($Y8,10))/10+IF(MOD($Y8,10)>0,1,0) -> 0 | F8: =($X8-MOD($X8,10))/10+IF(MOD($X8,10)>1,1,0) -> 0 | G8: =($Y8-MOD($Y8,10))/10+IF(MOD($Y8,10)>1,1,0) -> 0 | H8: =($X8-MOD($X8,10))/10+IF(MOD($X8,10)>2,1,0) -> 0 | I8: =($Y8-MOD($Y8,10))/10+IF(MOD($Y8,10)>2,1,0) -> 0 | J8: =($X8-MOD($X8,10))/10+IF(MOD($X8,10)>3,1,0) -> 0 | K8: =($Y8-MOD($Y8,10))/10+IF(MOD($Y8,10)>3,1,0) -> 0 | L8: =($X8-MOD($X8,10))/10+IF(MOD($X8,10)>4,1,0) -> 0 | M8: =($Y8-MOD($Y8,10))/10+IF(MOD($Y8,10)>4,1,0) -> 0 | N8: =($X8-MOD($X8,10))/10+IF(MOD($X8,10)>5,1,0) -> 0 | O8: =($Y8-MOD($Y8,10))/10+IF(MOD($Y8,10)>5,1,0) -> 0 | P8: =($X8-MOD($X8,10))/10+IF(MOD($X8,10)>6,1,0) -> 0 | Q8: =($Y8-MOD($Y8,10))/10+IF(MOD($Y8,10)>6,1,0) -> 0 | R8: =($X8-MOD($X8,10))/10+IF(MOD($X8,10)>7,1,0) -> 0 | S8: =($Y8-MOD($Y8,10))/10+IF(MOD($Y8,10)>7,1,0) -> 0 | T8: =($X8-MOD($X8,10))/10+IF(MOD($X8,10)>8,1,0) -> 0 | U8: =($Y8-MOD($Y8,10))/10+IF(MOD($Y8,10)>8,1,0) -> 0 | V8: =($X8-MOD($X8,10))/10+IF(MOD($X8,10)>9,1,0) -> 0 | W8: =($Y8-MOD($Y8,10))/10+IF(MOD($Y8,10)>9,1,0) -> 0 | X8: ='8Beokul'!G4 -> 0 | Y8: ='8Beokul'!H4 -> 0 | Z8: ='8Beokul'!I4 -> 0 | AA8: ='8Beokul'!J4 -> 0 | AB8: ='8Beokul'!K4 -> 0 | AC8: ='8Beokul'!L4 -> 0 | AD8: ='8Beokul'!M4 -> 0 | AE8: ='8Beokul'!N4 -> 0 | ... AL8: ='8Beokul'!U4 -> 0
A9: 4 | B9: ='8Beokul'!A5 -> 0 | C9: ='8Beokul'!B5 -> 0 | D9: =($X9-MOD($X9,10))/10+IF(MOD($X9,10)>0,1,0) -> 0 | E9: =($Y9-MOD($Y9,10))/10+IF(MOD($Y9,10)>0,1,0) -> 0 | F9: =($X9-MOD($X9,10))/10+IF(MOD($X9,10)>1,1,0) -> 0 | G9: =($Y9-MOD($Y9,10))/10+IF(MOD($Y9,10)>1,1,0) -> 0 | H9: =($X9-MOD($X9,10))/10+IF(MOD($X9,10)>2,1,0) -> 0 | I9: =($Y9-MOD($Y9,10))/10+IF(MOD($Y9,10)>2,1,0) -> 0 | J9: =($X9-MOD($X9,10))/10+IF(MOD($X9,10)>3,1,0) -> 0 | K9: =($Y9-MOD($Y9,10))/10+IF(MOD($Y9,10)>3,1,0) -> 0 | L9: =($X9-MOD($X9,10))/10+IF(MOD($X9,10)>4,1,0) -> 0 | M9: =($Y9-MOD($Y9,10))/10+IF(MOD($Y9,10)>4,1,0) -> 0 | N9: =($X9-MOD($X9,10))/10+IF(MOD($X9,10)>5,1,0) -> 0 | O9: =($Y9-MOD($Y9,10))/10+IF(MOD($Y9,10)>5,1,0) -> 0 | P9: =($X9-MOD($X9,10))/10+IF(MOD($X9,10)>6,1,0) -> 0 | Q9: =($Y9-MOD($Y9,10))/10+IF(MOD($Y9,10)>6,1,0) -> 0 | R9: =($X9-MOD($X9,10))/10+IF(MOD($X9,10)>7,1,0) -> 0 | S9: =($Y9-MOD($Y9,10))/10+IF(MOD($Y9,10)>7,1,0) -> 0 | T9: =($X9-MOD($X9,10))/10+IF(MOD($X9,10)>8,1,0) -> 0 | U9: =($Y9-MOD($Y9,10))/10+IF(MOD($Y9,10)>8,1,0) -> 0 | V9: =($X9-MOD($X9,10))/10+IF(MOD($X9,10)>9,1,0) -> 0 | W9: =($Y9-MOD($Y9,10))/10+IF(MOD($Y9,10)>9,1,0) -> 0 | X9: ='8Beokul'!G5 -> 0 | Y9: ='8Beokul'!H5 -> 0 | Z9: ='8Beokul'!I5 -> 0 | AA9: ='8Beokul'!J5 -> 0 | AB9: ='8Beokul'!K5 -> 0 | AC9: ='8Beokul'!L5 -> 0 | AD9: ='8Beokul'!M5 -> 0 | AE9: ='8Beokul'!N5 -> 0 | ... AL9: ='8Beokul'!U5 -> 0
A10: 5 | B10: ='8Beokul'!A6 -> 0 | C10: ='8Beokul'!B6 -> 0 | D10: =($X10-MOD($X10,10))/10+IF(MOD($X10,10)>0,1,0) -> 0 | E10: =($Y10-MOD($Y10,10))/10+IF(MOD($Y10,10)>0,1,0) -> 0 | F10: =($X10-MOD($X10,10))/10+IF(MOD($X10,10)>1,1,0) -> 0 | G10: =($Y10-MOD($Y10,10))/10+IF(MOD($Y10,10)>1,1,0) -> 0 | H10: =($X10-MOD($X10,10))/10+IF(MOD($X10,10)>2,1,0) -> 0 | I10: =($Y10-MOD($Y10,10))/10+IF(MOD($Y10,10)>2,1,0) -> 0 | J10: =($X10-MOD($X10,10))/10+IF(MOD($X10,10)>3,1,0) -> 0 | K10: =($Y10-MOD($Y10,10))/10+IF(MOD($Y10,10)>3,1,0) -> 0 | L10: =($X10-MOD($X10,10))/10+IF(MOD($X10,10)>4,1,0) -> 0 | M10: =($Y10-MOD($Y10,10))/10+IF(MOD($Y10,10)>4,1,0) -> 0 | N10: =($X10-MOD($X10,10))/10+IF(MOD($X10,10)>5,1,0) -> 0 | O10: =($Y10-MOD($Y10,10))/10+IF(MOD($Y10,10)>5,1,0) -> 0 | P10: =($X10-MOD($X10,10))/10+IF(MOD($X10,10)>6,1,0) -> 0 | Q10: =($Y10-MOD($Y10,10))/10+IF(MOD($Y10,10)>6,1,0) -> 0 | R10: =($X10-MOD($X10,10))/10+IF(MOD($X10,10)>7,1,0) -> 0 | S10: =($Y10-MOD($Y10,10))/10+IF(MOD($Y10,10)>7,1,0) -> 0 | T10: =($X10-MOD($X10,10))/10+IF(MOD($X10,10)>8,1,0) -> 0 | U10: =($Y10-MOD($Y10,10))/10+IF(MOD($Y10,10)>8,1,0) -> 0 | V10: =($X10-MOD($X10,10))/10+IF(MOD($X10,10)>9,1,0) -> 0 | W10: =($Y10-MOD($Y10,10))/10+IF(MOD($Y10,10)>9,1,0) -> 0 | X10: ='8Beokul'!G6 -> 0 | Y10: ='8Beokul'!H6 -> 0 | Z10: ='8Beokul'!I6 -> 0 | AA10: ='8Beokul'!J6 -> 0 | AB10: ='8Beokul'!K6 -> 0 | AC10: ='8Beokul'!L6 -> 0 | AD10: ='8Beokul'!M6 -> 0 | AE10: ='8Beokul'!N6 -> 0 | ... AL10: ='8Beokul'!U6 -> 0
A11: 6 | B11: ='8Beokul'!A7 -> 0 | C11: ='8Beokul'!B7 -> 0 | D11: =($X11-MOD($X11,10))/10+IF(MOD($X11,10)>0,1,0) -> 0 | E11: =($Y11-MOD($Y11,10))/10+IF(MOD($Y11,10)>0,1,0) -> 0 | F11: =($X11-MOD($X11,10))/10+IF(MOD($X11,10)>1,1,0) -> 0 | G11: =($Y11-MOD($Y11,10))/10+IF(MOD($Y11,10)>1,1,0) -> 0 | H11: =($X11-MOD($X11,10))/10+IF(MOD($X11,10)>2,1,0) -> 0 | I11: =($Y11-MOD($Y11,10))/10+IF(MOD($Y11,10)>2,1,0) -> 0 | J11: =($X11-MOD($X11,10))/10+IF(MOD($X11,10)>3,1,0) -> 0 | K11: =($Y11-MOD($Y11,10))/10+IF(MOD($Y11,10)>3,1,0) -> 0 | L11: =($X11-MOD($X11,10))/10+IF(MOD($X11,10)>4,1,0) -> 0 | M11: =($Y11-MOD($Y11,10))/10+IF(MOD($Y11,10)>4,1,0) -> 0 | N11: =($X11-MOD($X11,10))/10+IF(MOD($X11,10)>5,1,0) -> 0 | O11: =($Y11-MOD($Y11,10))/10+IF(MOD($Y11,10)>5,1,0) -> 0 | P11: =($X11-MOD($X11,10))/10+IF(MOD($X11,10)>6,1,0) -> 0 | Q11: =($Y11-MOD($Y11,10))/10+IF(MOD($Y11,10)>6,1,0) -> 0 | R11: =($X11-MOD($X11,10))/10+IF(MOD($X11,10)>7,1,0) -> 0 | S11: =($Y11-MOD($Y11,10))/10+IF(MOD($Y11,10)>7,1,0) -> 0 | T11: =($X11-MOD($X11,10))/10+IF(MOD($X11,10)>8,1,0) -> 0 | U11: =($Y11-MOD($Y11,10))/10+IF(MOD($Y11,10)>8,1,0) -> 0 | V11: =($X11-MOD($X11,10))/10+IF(MOD($X11,10)>9,1,0) -> 0 | W11: =($Y11-MOD($Y11,10))/10+IF(MOD($Y11,10)>9,1,0) -> 0 | X11: ='8Beokul'!G7 -> 0 | Y11: ='8Beokul'!H7 -> 0 | Z11: ='8Beokul'!I7 -> 0 | AA11: ='8Beokul'!J7 -> 0 | AB11: ='8Beokul'!K7 -> 0 | AC11: ='8Beokul'!L7 -> 0 | AD11: ='8Beokul'!M7 -> 0 | AE11: ='8Beokul'!N7 -> 0 | ... AL11: ='8Beokul'!U7 -> 0
A12: 7 | B12: ='8Beokul'!A8 -> 0 | C12: ='8Beokul'!B8 -> 0 | D12: =($X12-MOD($X12,10))/10+IF(MOD($X12,10)>0,1,0) -> 0 | E12: =($Y12-MOD($Y12,10))/10+IF(MOD($Y12,10)>0,1,0) -> 0 | F12: =($X12-MOD($X12,10))/10+IF(MOD($X12,10)>1,1,0) -> 0 | G12: =($Y12-MOD($Y12,10))/10+IF(MOD($Y12,10)>1,1,0) -> 0 | H12: =($X12-MOD($X12,10))/10+IF(MOD($X12,10)>2,1,0) -> 0 | I12: =($Y12-MOD($Y12,10))/10+IF(MOD($Y12,10)>2,1,0) -> 0 | J12: =($X12-MOD($X12,10))/10+IF(MOD($X12,10)>3,1,0) -> 0 | K12: =($Y12-MOD($Y12,10))/10+IF(MOD($Y12,10)>3,1,0) -> 0 | L12: =($X12-MOD($X12,10))/10+IF(MOD($X12,10)>4,1,0) -> 0 | M12: =($Y12-MOD($Y12,10))/10+IF(MOD($Y12,10)>4,1,0) -> 0 | N12: =($X12-MOD($X12,10))/10+IF(MOD($X12,10)>5,1,0) -> 0 | O12: =($Y12-MOD($Y12,10))/10+IF(MOD($Y12,10)>5,1,0) -> 0 | P12: =($X12-MOD($X12,10))/10+IF(MOD($X12,10)>6,1,0) -> 0 | Q12: =($Y12-MOD($Y12,10))/10+IF(MOD($Y12,10)>6,1,0) -> 0 | R12: =($X12-MOD($X12,10))/10+IF(MOD($X12,10)>7,1,0) -> 0 | S12: =($Y12-MOD($Y12,10))/10+IF(MOD($Y12,10)>7,1,0) -> 0 | T12: =($X12-MOD($X12,10))/10+IF(MOD($X12,10)>8,1,0) -> 0 | U12: =($Y12-MOD($Y12,10))/10+IF(MOD($Y12,10)>8,1,0) -> 0 | V12: =($X12-MOD($X12,10))/10+IF(MOD($X12,10)>9,1,0) -> 0 | W12: =($Y12-MOD($Y12,10))/10+IF(MOD($Y12,10)>9,1,0) -> 0 | X12: ='8Beokul'!G8 -> 0 | Y12: ='8Beokul'!H8 -> 0 | Z12: ='8Beokul'!I8 -> 0 | AA12: ='8Beokul'!J8 -> 0 | AB12: ='8Beokul'!K8 -> 0 | AC12: ='8Beokul'!L8 -> 0 | AD12: ='8Beokul'!M8 -> 0 | AE12: ='8Beokul'!N8 -> 0 | ... AL12: ='8Beokul'!U8 -> 0
A13: 8 | B13: ='8Beokul'!A9 -> 0 | C13: ='8Beokul'!B9 -> 0 | D13: =($X13-MOD($X13,10))/10+IF(MOD($X13,10)>0,1,0) -> 0 | E13: =($Y13-MOD($Y13,10))/10+IF(MOD($Y13,10)>0,1,0) -> 0 | F13: =($X13-MOD($X13,10))/10+IF(MOD($X13,10)>1,1,0) -> 0 | G13: =($Y13-MOD($Y13,10))/10+IF(MOD($Y13,10)>1,1,0) -> 0 | H13: =($X13-MOD($X13,10))/10+IF(MOD($X13,10)>2,1,0) -> 0 | I13: =($Y13-MOD($Y13,10))/10+IF(MOD($Y13,10)>2,1,0) -> 0 | J13: =($X13-MOD($X13,10))/10+IF(MOD($X13,10)>3,1,0) -> 0 | K13: =($Y13-MOD($Y13,10))/10+IF(MOD($Y13,10)>3,1,0) -> 0 | L13: =($X13-MOD($X13,10))/10+IF(MOD($X13,10)>4,1,0) -> 0 | M13: =($Y13-MOD($Y13,10))/10+IF(MOD($Y13,10)>4,1,0) -> 0 | N13: =($X13-MOD($X13,10))/10+IF(MOD($X13,10)>5,1,0) -> 0 | O13: =($Y13-MOD($Y13,10))/10+IF(MOD($Y13,10)>5,1,0) -> 0 | P13: =($X13-MOD($X13,10))/10+IF(MOD($X13,10)>6,1,0) -> 0 | Q13: =($Y13-MOD($Y13,10))/10+IF(MOD($Y13,10)>6,1,0) -> 0 | R13: =($X13-MOD($X13,10))/10+IF(MOD($X13,10)>7,1,0) -> 0 | S13: =($Y13-MOD($Y13,10))/10+IF(MOD($Y13,10)>7,1,0) -> 0 | T13: =($X13-MOD($X13,10))/10+IF(MOD($X13,10)>8,1,0) -> 0 | U13: =($Y13-MOD($Y13,10))/10+IF(MOD($Y13,10)>8,1,0) -> 0 | V13: =($X13-MOD($X13,10))/10+IF(MOD($X13,10)>9,1,0) -> 0 | W13: =($Y13-MOD($Y13,10))/10+IF(MOD($Y13,10)>9,1,0) -> 0 | X13: ='8Beokul'!G9 -> 0 | Y13: ='8Beokul'!H9 -> 0 | Z13: ='8Beokul'!I9 -> 0 | AA13: ='8Beokul'!J9 -> 0 | AB13: ='8Beokul'!K9 -> 0 | AC13: ='8Beokul'!L9 -> 0 | AD13: ='8Beokul'!M9 -> 0 | AE13: ='8Beokul'!N9 -> 0 | ... AL13: ='8Beokul'!U9 -> 0
A14: 9 | B14: ='8Beokul'!A10 -> 0 | C14: ='8Beokul'!B10 -> 0 | D14: =($X14-MOD($X14,10))/10+IF(MOD($X14,10)>0,1,0) -> 0 | E14: =($Y14-MOD($Y14,10))/10+IF(MOD($Y14,10)>0,1,0) -> 0 | F14: =($X14-MOD($X14,10))/10+IF(MOD($X14,10)>1,1,0) -> 0 | G14: =($Y14-MOD($Y14,10))/10+IF(MOD($Y14,10)>1,1,0) -> 0 | H14: =($X14-MOD($X14,10))/10+IF(MOD($X14,10)>2,1,0) -> 0 | I14: =($Y14-MOD($Y14,10))/10+IF(MOD($Y14,10)>2,1,0) -> 0 | J14: =($X14-MOD($X14,10))/10+IF(MOD($X14,10)>3,1,0) -> 0 | K14: =($Y14-MOD($Y14,10))/10+IF(MOD($Y14,10)>3,1,0) -> 0 | L14: =($X14-MOD($X14,10))/10+IF(MOD($X14,10)>4,1,0) -> 0 | M14: =($Y14-MOD($Y14,10))/10+IF(MOD($Y14,10)>4,1,0) -> 0 | N14: =($X14-MOD($X14,10))/10+IF(MOD($X14,10)>5,1,0) -> 0 | O14: =($Y14-MOD($Y14,10))/10+IF(MOD($Y14,10)>5,1,0) -> 0 | P14: =($X14-MOD($X14,10))/10+IF(MOD($X14,10)>6,1,0) -> 0 | Q14: =($Y14-MOD($Y14,10))/10+IF(MOD($Y14,10)>6,1,0) -> 0 | R14: =($X14-MOD($X14,10))/10+IF(MOD($X14,10)>7,1,0) -> 0 | S14: =($Y14-MOD($Y14,10))/10+IF(MOD($Y14,10)>7,1,0) -> 0 | T14: =($X14-MOD($X14,10))/10+IF(MOD($X14,10)>8,1,0) -> 0 | U14: =($Y14-MOD($Y14,10))/10+IF(MOD($Y14,10)>8,1,0) -> 0 | V14: =($X14-MOD($X14,10))/10+IF(MOD($X14,10)>9,1,0) -> 0 | W14: =($Y14-MOD($Y14,10))/10+IF(MOD($Y14,10)>9,1,0) -> 0 | X14: ='8Beokul'!G10 -> 0 | Y14: ='8Beokul'!H10 -> 0 | Z14: ='8Beokul'!I10 -> 0 | AA14: ='8Beokul'!J10 -> 0 | AB14: ='8Beokul'!K10 -> 0 | AC14: ='8Beokul'!L10 -> 0 | AD14: ='8Beokul'!M10 -> 0 | AE14: ='8Beokul'!N10 -> 0 | ... AL14: ='8Beokul'!U10 -> 0
A15: 10 | B15: ='8Beokul'!A11 -> 0 | C15: ='8Beokul'!B11 -> 0 | D15: =($X15-MOD($X15,10))/10+IF(MOD($X15,10)>0,1,0) -> 0 | E15: =($Y15-MOD($Y15,10))/10+IF(MOD($Y15,10)>0,1,0) -> 0 | F15: =($X15-MOD($X15,10))/10+IF(MOD($X15,10)>1,1,0) -> 0 | G15: =($Y15-MOD($Y15,10))/10+IF(MOD($Y15,10)>1,1,0) -> 0 | H15: =($X15-MOD($X15,10))/10+IF(MOD($X15,10)>2,1,0) -> 0 | I15: =($Y15-MOD($Y15,10))/10+IF(MOD($Y15,10)>2,1,0) -> 0 | J15: =($X15-MOD($X15,10))/10+IF(MOD($X15,10)>3,1,0) -> 0 | K15: =($Y15-MOD($Y15,10))/10+IF(MOD($Y15,10)>3,1,0) -> 0 | L15: =($X15-MOD($X15,10))/10+IF(MOD($X15,10)>4,1,0) -> 0 | M15: =($Y15-MOD($Y15,10))/10+IF(MOD($Y15,10)>4,1,0) -> 0 | N15: =($X15-MOD($X15,10))/10+IF(MOD($X15,10)>5,1,0) -> 0 | O15: =($Y15-MOD($Y15,10))/10+IF(MOD($Y15,10)>5,1,0) -> 0 | P15: =($X15-MOD($X15,10))/10+IF(MOD($X15,10)>6,1,0) -> 0 | Q15: =($Y15-MOD($Y15,10))/10+IF(MOD($Y15,10)>6,1,0) -> 0 | R15: =($X15-MOD($X15,10))/10+IF(MOD($X15,10)>7,1,0) -> 0 | S15: =($Y15-MOD($Y15,10))/10+IF(MOD($Y15,10)>7,1,0) -> 0 | T15: =($X15-MOD($X15,10))/10+IF(MOD($X15,10)>8,1,0) -> 0 | U15: =($Y15-MOD($Y15,10))/10+IF(MOD($Y15,10)>8,1,0) -> 0 | V15: =($X15-MOD($X15,10))/10+IF(MOD($X15,10)>9,1,0) -> 0 | W15: =($Y15-MOD($Y15,10))/10+IF(MOD($Y15,10)>9,1,0) -> 0 | X15: ='8Beokul'!G11 -> 0 | Y15: ='8Beokul'!H11 -> 0 | Z15: ='8Beokul'!I11 -> 0 | AA15: ='8Beokul'!J11 -> 0 | AB15: ='8Beokul'!K11 -> 0 | AC15: ='8Beokul'!L11 -> 0 | AD15: ='8Beokul'!M11 -> 0 | AE15: ='8Beokul'!N11 -> 0 | ... AL15: ='8Beokul'!U11 -> 0
A16: 11 | B16: ='8Beokul'!A12 -> 0 | C16: ='8Beokul'!B12 -> 0 | D16: =($X16-MOD($X16,10))/10+IF(MOD($X16,10)>0,1,0) -> 0 | E16: =($Y16-MOD($Y16,10))/10+IF(MOD($Y16,10)>0,1,0) -> 0 | F16: =($X16-MOD($X16,10))/10+IF(MOD($X16,10)>1,1,0) -> 0 | G16: =($Y16-MOD($Y16,10))/10+IF(MOD($Y16,10)>1,1,0) -> 0 | H16: =($X16-MOD($X16,10))/10+IF(MOD($X16,10)>2,1,0) -> 0 | I16: =($Y16-MOD($Y16,10))/10+IF(MOD($Y16,10)>2,1,0) -> 0 | J16: =($X16-MOD($X16,10))/10+IF(MOD($X16,10)>3,1,0) -> 0 | K16: =($Y16-MOD($Y16,10))/10+IF(MOD($Y16,10)>3,1,0) -> 0 | L16: =($X16-MOD($X16,10))/10+IF(MOD($X16,10)>4,1,0) -> 0 | M16: =($Y16-MOD($Y16,10))/10+IF(MOD($Y16,10)>4,1,0) -> 0 | N16: =($X16-MOD($X16,10))/10+IF(MOD($X16,10)>5,1,0) -> 0 | O16: =($Y16-MOD($Y16,10))/10+IF(MOD($Y16,10)>5,1,0) -> 0 | P16: =($X16-MOD($X16,10))/10+IF(MOD($X16,10)>6,1,0) -> 0 | Q16: =($Y16-MOD($Y16,10))/10+IF(MOD($Y16,10)>6,1,0) -> 0 | R16: =($X16-MOD($X16,10))/10+IF(MOD($X16,10)>7,1,0) -> 0 | S16: =($Y16-MOD($Y16,10))/10+IF(MOD($Y16,10)>7,1,0) -> 0 | T16: =($X16-MOD($X16,10))/10+IF(MOD($X16,10)>8,1,0) -> 0 | U16: =($Y16-MOD($Y16,10))/10+IF(MOD($Y16,10)>8,1,0) -> 0 | V16: =($X16-MOD($X16,10))/10+IF(MOD($X16,10)>9,1,0) -> 0 | W16: =($Y16-MOD($Y16,10))/10+IF(MOD($Y16,10)>9,1,0) -> 0 | X16: ='8Beokul'!G12 -> 0 | Y16: ='8Beokul'!H12 -> 0 | Z16: ='8Beokul'!I12 -> 0 | AA16: ='8Beokul'!J12 -> 0 | AB16: ='8Beokul'!K12 -> 0 | AC16: ='8Beokul'!L12 -> 0 | AD16: ='8Beokul'!M12 -> 0 | AE16: ='8Beokul'!N12 -> 0 | ... AL16: ='8Beokul'!U12 -> 0
A17: 12 | B17: ='8Beokul'!A13 -> 0 | C17: ='8Beokul'!B13 -> 0 | D17: =($X17-MOD($X17,10))/10+IF(MOD($X17,10)>0,1,0) -> 0 | E17: =($Y17-MOD($Y17,10))/10+IF(MOD($Y17,10)>0,1,0) -> 0 | F17: =($X17-MOD($X17,10))/10+IF(MOD($X17,10)>1,1,0) -> 0 | G17: =($Y17-MOD($Y17,10))/10+IF(MOD($Y17,10)>1,1,0) -> 0 | H17: =($X17-MOD($X17,10))/10+IF(MOD($X17,10)>2,1,0) -> 0 | I17: =($Y17-MOD($Y17,10))/10+IF(MOD($Y17,10)>2,1,0) -> 0 | J17: =($X17-MOD($X17,10))/10+IF(MOD($X17,10)>3,1,0) -> 0 | K17: =($Y17-MOD($Y17,10))/10+IF(MOD($Y17,10)>3,1,0) -> 0 | L17: =($X17-MOD($X17,10))/10+IF(MOD($X17,10)>4,1,0) -> 0 | M17: =($Y17-MOD($Y17,10))/10+IF(MOD($Y17,10)>4,1,0) -> 0 | N17: =($X17-MOD($X17,10))/10+IF(MOD($X17,10)>5,1,0) -> 0 | O17: =($Y17-MOD($Y17,10))/10+IF(MOD($Y17,10)>5,1,0) -> 0 | P17: =($X17-MOD($X17,10))/10+IF(MOD($X17,10)>6,1,0) -> 0 | Q17: =($Y17-MOD($Y17,10))/10+IF(MOD($Y17,10)>6,1,0) -> 0 | R17: =($X17-MOD($X17,10))/10+IF(MOD($X17,10)>7,1,0) -> 0 | S17: =($Y17-MOD($Y17,10))/10+IF(MOD($Y17,10)>7,1,0) -> 0 | T17: =($X17-MOD($X17,10))/10+IF(MOD($X17,10)>8,1,0) -> 0 | U17: =($Y17-MOD($Y17,10))/10+IF(MOD($Y17,10)>8,1,0) -> 0 | V17: =($X17-MOD($X17,10))/10+IF(MOD($X17,10)>9,1,0) -> 0 | W17: =($Y17-MOD($Y17,10))/10+IF(MOD($Y17,10)>9,1,0) -> 0 | X17: ='8Beokul'!G13 -> 0 | Y17: ='8Beokul'!H13 -> 0 | Z17: ='8Beokul'!I13 -> 0 | AA17: ='8Beokul'!J13 -> 0 | AB17: ='8Beokul'!K13 -> 0 | AC17: ='8Beokul'!L13 -> 0 | AD17: ='8Beokul'!M13 -> 0 | AE17: ='8Beokul'!N13 -> 0 | ... AL17: ='8Beokul'!U13 -> 0
... A24: 19 | B24: ='8Beokul'!A20 -> 0 | C24: ='8Beokul'!B20 -> 0 | D24: =($X24-MOD($X24,10))/10+IF(MOD($X24,10)>0,1,0) -> 0 | E24: =($Y24-MOD($Y24,10))/10+IF(MOD($Y24,10)>0,1,0) -> 0 | F24: =($X24-MOD($X24,10))/10+IF(MOD($X24,10)>1,1,0) -> 0 | G24: =($Y24-MOD($Y24,10))/10+IF(MOD($Y24,10)>1,1,0) -> 0 | H24: =($X24-MOD($X24,10))/10+IF(MOD($X24,10)>2,1,0) -> 0 | I24: =($Y24-MOD($Y24,10))/10+IF(MOD($Y24,10)>2,1,0) -> 0 | J24: =($X24-MOD($X24,10))/10+IF(MOD($X24,10)>3,1,0) -> 0 | K24: =($Y24-MOD($Y24,10))/10+IF(MOD($Y24,10)>3,1,0) -> 0 | L24: =($X24-MOD($X24,10))/10+IF(MOD($X24,10)>4,1,0) -> 0 | M24: =($Y24-MOD($Y24,10))/10+IF(MOD($Y24,10)>4,1,0) -> 0 | N24: =($X24-MOD($X24,10))/10+IF(MOD($X24,10)>5,1,0) -> 0 | O24: =($Y24-MOD($Y24,10))/10+IF(MOD($Y24,10)>5,1,0) -> 0 | P24: =($X24-MOD($X24,10))/10+IF(MOD($X24,10)>6,1,0) -> 0 | Q24: =($Y24-MOD($Y24,10))/10+IF(MOD($Y24,10)>6,1,0) -> 0 | R24: =($X24-MOD($X24,10))/10+IF(MOD($X24,10)>7,1,0) -> 0 | S24: =($Y24-MOD($Y24,10))/10+IF(MOD($Y24,10)>7,1,0) -> 0 | T24: =($X24-MOD($X24,10))/10+IF(MOD($X24,10)>8,1,0) -> 0 | U24: =($Y24-MOD($Y24,10))/10+IF(MOD($Y24,10)>8,1,0) -> 0 | V24: =($X24-MOD($X24,10))/10+IF(MOD($X24,10)>9,1,0) -> 0 | W24: =($Y24-MOD($Y24,10))/10+IF(MOD($Y24,10)>9,1,0) -> 0 | X24: ='8Beokul'!G20 -> 0 | Y24: ='8Beokul'!H20 -> 0 | Z24: ='8Beokul'!I20 -> 0 | AA24: ='8Beokul'!J20 -> 0 | AB24: ='8Beokul'!K20 -> 0 | AC24: ='8Beokul'!L20 -> 0 | AD24: ='8Beokul'!M20 -> 0 | AE24: ='8Beokul'!N20 -> 0 | ... AL24: ='8Beokul'!U20 -> 0
A25: 20 | B25: ='8Beokul'!A21 -> 0 | C25: ='8Beokul'!B21 -> 0 | D25: =($X25-MOD($X25,10))/10+IF(MOD($X25,10)>0,1,0) -> 0 | E25: =($Y25-MOD($Y25,10))/10+IF(MOD($Y25,10)>0,1,0) -> 0 | F25: =($X25-MOD($X25,10))/10+IF(MOD($X25,10)>1,1,0) -> 0 | G25: =($Y25-MOD($Y25,10))/10+IF(MOD($Y25,10)>1,1,0) -> 0 | H25: =($X25-MOD($X25,10))/10+IF(MOD($X25,10)>2,1,0) -> 0 | I25: =($Y25-MOD($Y25,10))/10+IF(MOD($Y25,10)>2,1,0) -> 0 | J25: =($X25-MOD($X25,10))/10+IF(MOD($X25,10)>3,1,0) -> 0 | K25: =($Y25-MOD($Y25,10))/10+IF(MOD($Y25,10)>3,1,0) -> 0 | L25: =($X25-MOD($X25,10))/10+IF(MOD($X25,10)>4,1,0) -> 0 | M25: =($Y25-MOD($Y25,10))/10+IF(MOD($Y25,10)>4,1,0) -> 0 | N25: =($X25-MOD($X25,10))/10+IF(MOD($X25,10)>5,1,0) -> 0 | O25: =($Y25-MOD($Y25,10))/10+IF(MOD($Y25,10)>5,1,0) -> 0 | P25: =($X25-MOD($X25,10))/10+IF(MOD($X25,10)>6,1,0) -> 0 | Q25: =($Y25-MOD($Y25,10))/10+IF(MOD($Y25,10)>6,1,0) -> 0 | R25: =($X25-MOD($X25,10))/10+IF(MOD($X25,10)>7,1,0) -> 0 | S25: =($Y25-MOD($Y25,10))/10+IF(MOD($Y25,10)>7,1,0) -> 0 | T25: =($X25-MOD($X25,10))/10+IF(MOD($X25,10)>8,1,0) -> 0 | U25: =($Y25-MOD($Y25,10))/10+IF(MOD($Y25,10)>8,1,0) -> 0 | V25: =($X25-MOD($X25,10))/10+IF(MOD($X25,10)>9,1,0) -> 0 | W25: =($Y25-MOD($Y25,10))/10+IF(MOD($Y25,10)>9,1,0) -> 0 | X25: ='8Beokul'!G21 -> 0 | Y25: ='8Beokul'!H21 -> 0
A26: 21 | B26: ='8Beokul'!A22 -> 0 | C26: ='8Beokul'!B22 -> 0 | D26: =($X26-MOD($X26,10))/10+IF(MOD($X26,10)>0,1,0) -> 0 | E26: =($Y26-MOD($Y26,10))/10+IF(MOD($Y26,10)>0,1,0) -> 0 | F26: =($X26-MOD($X26,10))/10+IF(MOD($X26,10)>1,1,0) -> 0 | G26: =($Y26-MOD($Y26,10))/10+IF(MOD($Y26,10)>1,1,0) -> 0 | H26: =($X26-MOD($X26,10))/10+IF(MOD($X26,10)>2,1,0) -> 0 | I26: =($Y26-MOD($Y26,10))/10+IF(MOD($Y26,10)>2,1,0) -> 0 | J26: =($X26-MOD($X26,10))/10+IF(MOD($X26,10)>3,1,0) -> 0 | K26: =($Y26-MOD($Y26,10))/10+IF(MOD($Y26,10)>3,1,0) -> 0 | L26: =($X26-MOD($X26,10))/10+IF(MOD($X26,10)>4,1,0) -> 0 | M26: =($Y26-MOD($Y26,10))/10+IF(MOD($Y26,10)>4,1,0) -> 0 | N26: =($X26-MOD($X26,10))/10+IF(MOD($X26,10)>5,1,0) -> 0 | O26: =($Y26-MOD($Y26,10))/10+IF(MOD($Y26,10)>5,1,0) -> 0 | P26: =($X26-MOD($X26,10))/10+IF(MOD($X26,10)>6,1,0) -> 0 | Q26: =($Y26-MOD($Y26,10))/10+IF(MOD($Y26,10)>6,1,0) -> 0 | R26: =($X26-MOD($X26,10))/10+IF(MOD($X26,10)>7,1,0) -> 0 | S26: =($Y26-MOD($Y26,10))/10+IF(MOD($Y26,10)>7,1,0) -> 0 | T26: =($X26-MOD($X26,10))/10+IF(MOD($X26,10)>8,1,0) -> 0 | U26: =($Y26-MOD($Y26,10))/10+IF(MOD($Y26,10)>8,1,0) -> 0 | V26: =($X26-MOD($X26,10))/10+IF(MOD($X26,10)>9,1,0) -> 0 | W26: =($Y26-MOD($Y26,10))/10+IF(MOD($Y26,10)>9,1,0) -> 0 | X26: ='8Beokul'!G22 -> 0 | Y26: ='8Beokul'!H22 -> 0
A27: 22 | B27: ='8Beokul'!A23 -> 0 | C27: ='8Beokul'!B23 -> 0 | D27: =($X27-MOD($X27,10))/10+IF(MOD($X27,10)>0,1,0) -> 0 | E27: =($Y27-MOD($Y27,10))/10+IF(MOD($Y27,10)>0,1,0) -> 0 | F27: =($X27-MOD($X27,10))/10+IF(MOD($X27,10)>1,1,0) -> 0 | G27: =($Y27-MOD($Y27,10))/10+IF(MOD($Y27,10)>1,1,0) -> 0 | H27: =($X27-MOD($X27,10))/10+IF(MOD($X27,10)>2,1,0) -> 0 | I27: =($Y27-MOD($Y27,10))/10+IF(MOD($Y27,10)>2,1,0) -> 0 | J27: =($X27-MOD($X27,10))/10+IF(MOD($X27,10)>3,1,0) -> 0 | K27: =($Y27-MOD($Y27,10))/10+IF(MOD($Y27,10)>3,1,0) -> 0 | L27: =($X27-MOD($X27,10))/10+IF(MOD($X27,10)>4,1,0) -> 0 | M27: =($Y27-MOD($Y27,10))/10+IF(MOD($Y27,10)>4,1,0) -> 0 | N27: =($X27-MOD($X27,10))/10+IF(MOD($X27,10)>5,1,0) -> 0 | O27: =($Y27-MOD($Y27,10))/10+IF(MOD($Y27,10)>5,1,0) -> 0 | P27: =($X27-MOD($X27,10))/10+IF(MOD($X27,10)>6,1,0) -> 0 | Q27: =($Y27-MOD($Y27,10))/10+IF(MOD($Y27,10)>6,1,0) -> 0 | R27: =($X27-MOD($X27,10))/10+IF(MOD($X27,10)>7,1,0) -> 0 | S27: =($Y27-MOD($Y27,10))/10+IF(MOD($Y27,10)>7,1,0) -> 0 | T27: =($X27-MOD($X27,10))/10+IF(MOD($X27,10)>8,1,0) -> 0 | U27: =($Y27-MOD($Y27,10))/10+IF(MOD($Y27,10)>8,1,0) -> 0 | V27: =($X27-MOD($X27,10))/10+IF(MOD($X27,10)>9,1,0) -> 0 | W27: =($Y27-MOD($Y27,10))/10+IF(MOD($Y27,10)>9,1,0) -> 0 | X27: ='8Beokul'!G23 -> 0 | Y27: ='8Beokul'!H23 -> 0
A28: 23 | B28: ='8Beokul'!A24 -> 0 | C28: ='8Beokul'!B24 -> 0 | D28: =($X28-MOD($X28,10))/10+IF(MOD($X28,10)>0,1,0) -> 0 | E28: =($Y28-MOD($Y28,10))/10+IF(MOD($Y28,10)>0,1,0) -> 0 | F28: =($X28-MOD($X28,10))/10+IF(MOD($X28,10)>1,1,0) -> 0 | G28: =($Y28-MOD($Y28,10))/10+IF(MOD($Y28,10)>1,1,0) -> 0 | H28: =($X28-MOD($X28,10))/10+IF(MOD($X28,10)>2,1,0) -> 0 | I28: =($Y28-MOD($Y28,10))/10+IF(MOD($Y28,10)>2,1,0) -> 0 | J28: =($X28-MOD($X28,10))/10+IF(MOD($X28,10)>3,1,0) -> 0 | K28: =($Y28-MOD($Y28,10))/10+IF(MOD($Y28,10)>3,1,0) -> 0 | L28: =($X28-MOD($X28,10))/10+IF(MOD($X28,10)>4,1,0) -> 0 | M28: =($Y28-MOD($Y28,10))/10+IF(MOD($Y28,10)>4,1,0) -> 0 | N28: =($X28-MOD($X28,10))/10+IF(MOD($X28,10)>5,1,0) -> 0 | O28: =($Y28-MOD($Y28,10))/10+IF(MOD($Y28,10)>5,1,0) -> 0 | P28: =($X28-MOD($X28,10))/10+IF(MOD($X28,10)>6,1,0) -> 0 | Q28: =($Y28-MOD($Y28,10))/10+IF(MOD($Y28,10)>6,1,0) -> 0 | R28: =($X28-MOD($X28,10))/10+IF(MOD($X28,10)>7,1,0) -> 0 | S28: =($Y28-MOD($Y28,10))/10+IF(MOD($Y28,10)>7,1,0) -> 0 | T28: =($X28-MOD($X28,10))/10+IF(MOD($X28,10)>8,1,0) -> 0 | U28: =($Y28-MOD($Y28,10))/10+IF(MOD($Y28,10)>8,1,0) -> 0 | V28: =($X28-MOD($X28,10))/10+IF(MOD($X28,10)>9,1,0) -> 0 | W28: =($Y28-MOD($Y28,10))/10+IF(MOD($Y28,10)>9,1,0) -> 0 | X28: ='8Beokul'!G24 -> 0 | Y28: ='8Beokul'!H24 -> 0
A29: 24 | B29: ='8Beokul'!A25 -> 0 | C29: ='8Beokul'!B25 -> 0 | D29: =($X29-MOD($X29,10))/10+IF(MOD($X29,10)>0,1,0) -> 0 | E29: =($Y29-MOD($Y29,10))/10+IF(MOD($Y29,10)>0,1,0) -> 0 | F29: =($X29-MOD($X29,10))/10+IF(MOD($X29,10)>1,1,0) -> 0 | G29: =($Y29-MOD($Y29,10))/10+IF(MOD($Y29,10)>1,1,0) -> 0 | H29: =($X29-MOD($X29,10))/10+IF(MOD($X29,10)>2,1,0) -> 0 | I29: =($Y29-MOD($Y29,10))/10+IF(MOD($Y29,10)>2,1,0) -> 0 | J29: =($X29-MOD($X29,10))/10+IF(MOD($X29,10)>3,1,0) -> 0 | K29: =($Y29-MOD($Y29,10))/10+IF(MOD($Y29,10)>3,1,0) -> 0 | L29: =($X29-MOD($X29,10))/10+IF(MOD($X29,10)>4,1,0) -> 0 | M29: =($Y29-MOD($Y29,10))/10+IF(MOD($Y29,10)>4,1,0) -> 0 | N29: =($X29-MOD($X29,10))/10+IF(MOD($X29,10)>5,1,0) -> 0 | O29: =($Y29-MOD($Y29,10))/10+IF(MOD($Y29,10)>5,1,0) -> 0 | P29: =($X29-MOD($X29,10))/10+IF(MOD($X29,10)>6,1,0) -> 0 | Q29: =($Y29-MOD($Y29,10))/10+IF(MOD($Y29,10)>6,1,0) -> 0 | R29: =($X29-MOD($X29,10))/10+IF(MOD($X29,10)>7,1,0) -> 0 | S29: =($Y29-MOD($Y29,10))/10+IF(MOD($Y29,10)>7,1,0) -> 0 | T29: =($X29-MOD($X29,10))/10+IF(MOD($X29,10)>8,1,0) -> 0 | U29: =($Y29-MOD($Y29,10))/10+IF(MOD($Y29,10)>8,1,0) -> 0 | V29: =($X29-MOD($X29,10))/10+IF(MOD($X29,10)>9,1,0) -> 0 | W29: =($Y29-MOD($Y29,10))/10+IF(MOD($Y29,10)>9,1,0) -> 0 | X29: ='8Beokul'!G25 -> 0 | Y29: ='8Beokul'!H25 -> 0
A30: 25 | B30: ='8Beokul'!A26 -> 0 | C30: ='8Beokul'!B26 -> 0 | D30: =($X30-MOD($X30,10))/10+IF(MOD($X30,10)>0,1,0) -> 0 | E30: =($Y30-MOD($Y30,10))/10+IF(MOD($Y30,10)>0,1,0) -> 0 | F30: =($X30-MOD($X30,10))/10+IF(MOD($X30,10)>1,1,0) -> 0 | G30: =($Y30-MOD($Y30,10))/10+IF(MOD($Y30,10)>1,1,0) -> 0 | H30: =($X30-MOD($X30,10))/10+IF(MOD($X30,10)>2,1,0) -> 0 | I30: =($Y30-MOD($Y30,10))/10+IF(MOD($Y30,10)>2,1,0) -> 0 | J30: =($X30-MOD($X30,10))/10+IF(MOD($X30,10)>3,1,0) -> 0 | K30: =($Y30-MOD($Y30,10))/10+IF(MOD($Y30,10)>3,1,0) -> 0 | L30: =($X30-MOD($X30,10))/10+IF(MOD($X30,10)>4,1,0) -> 0 | M30: =($Y30-MOD($Y30,10))/10+IF(MOD($Y30,10)>4,1,0) -> 0 | N30: =($X30-MOD($X30,10))/10+IF(MOD($X30,10)>5,1,0) -> 0 | O30: =($Y30-MOD($Y30,10))/10+IF(MOD($Y30,10)>5,1,0) -> 0 | P30: =($X30-MOD($X30,10))/10+IF(MOD($X30,10)>6,1,0) -> 0 | Q30: =($Y30-MOD($Y30,10))/10+IF(MOD($Y30,10)>6,1,0) -> 0 | R30: =($X30-MOD($X30,10))/10+IF(MOD($X30,10)>7,1,0) -> 0 | S30: =($Y30-MOD($Y30,10))/10+IF(MOD($Y30,10)>7,1,0) -> 0 | T30: =($X30-MOD($X30,10))/10+IF(MOD($X30,10)>8,1,0) -> 0 | U30: =($Y30-MOD($Y30,10))/10+IF(MOD($Y30,10)>8,1,0) -> 0 | V30: =($X30-MOD($X30,10))/10+IF(MOD($X30,10)>9,1,0) -> 0 | W30: =($Y30-MOD($Y30,10))/10+IF(MOD($Y30,10)>9,1,0) -> 0 | X30: ='8Beokul'!G26 -> 0 | Y30: ='8Beokul'!H26 -> 0
A31: 26 | B31: ='8Beokul'!A27 -> 0 | C31: ='8Beokul'!B27 -> 0 | D31: =($X31-MOD($X31,10))/10+IF(MOD($X31,10)>0,1,0) -> 0 | E31: =($Y31-MOD($Y31,10))/10+IF(MOD($Y31,10)>0,1,0) -> 0 | F31: =($X31-MOD($X31,10))/10+IF(MOD($X31,10)>1,1,0) -> 0 | G31: =($Y31-MOD($Y31,10))/10+IF(MOD($Y31,10)>1,1,0) -> 0 | H31: =($X31-MOD($X31,10))/10+IF(MOD($X31,10)>2,1,0) -> 0 | I31: =($Y31-MOD($Y31,10))/10+IF(MOD($Y31,10)>2,1,0) -> 0 | J31: =($X31-MOD($X31,10))/10+IF(MOD($X31,10)>3,1,0) -> 0 | K31: =($Y31-MOD($Y31,10))/10+IF(MOD($Y31,10)>3,1,0) -> 0 | L31: =($X31-MOD($X31,10))/10+IF(MOD($X31,10)>4,1,0) -> 0 | M31: =($Y31-MOD($Y31,10))/10+IF(MOD($Y31,10)>4,1,0) -> 0 | N31: =($X31-MOD($X31,10))/10+IF(MOD($X31,10)>5,1,0) -> 0 | O31: =($Y31-MOD($Y31,10))/10+IF(MOD($Y31,10)>5,1,0) -> 0 | P31: =($X31-MOD($X31,10))/10+IF(MOD($X31,10)>6,1,0) -> 0 | Q31: =($Y31-MOD($Y31,10))/10+IF(MOD($Y31,10)>6,1,0) -> 0 | R31: =($X31-MOD($X31,10))/10+IF(MOD($X31,10)>7,1,0) -> 0 | S31: =($Y31-MOD($Y31,10))/10+IF(MOD($Y31,10)>7,1,0) -> 0 | T31: =($X31-MOD($X31,10))/10+IF(MOD($X31,10)>8,1,0) -> 0 | U31: =($Y31-MOD($Y31,10))/10+IF(MOD($Y31,10)>8,1,0) -> 0 | V31: =($X31-MOD($X31,10))/10+IF(MOD($X31,10)>9,1,0) -> 0 | W31: =($Y31-MOD($Y31,10))/10+IF(MOD($Y31,10)>9,1,0) -> 0 | X31: ='8Beokul'!G27 -> 0 | Y31: ='8Beokul'!H27 -> 0
A32: 27 | B32: ='8Beokul'!A28 -> 0 | C32: ='8Beokul'!B28 -> 0 | D32: =($X32-MOD($X32,10))/10+IF(MOD($X32,10)>0,1,0) -> 0 | E32: =($Y32-MOD($Y32,10))/10+IF(MOD($Y32,10)>0,1,0) -> 0 | F32: =($X32-MOD($X32,10))/10+IF(MOD($X32,10)>1,1,0) -> 0 | G32: =($Y32-MOD($Y32,10))/10+IF(MOD($Y32,10)>1,1,0) -> 0 | H32: =($X32-MOD($X32,10))/10+IF(MOD($X32,10)>2,1,0) -> 0 | I32: =($Y32-MOD($Y32,10))/10+IF(MOD($Y32,10)>2,1,0) -> 0 | J32: =($X32-MOD($X32,10))/10+IF(MOD($X32,10)>3,1,0) -> 0 | K32: =($Y32-MOD($Y32,10))/10+IF(MOD($Y32,10)>3,1,0) -> 0 | L32: =($X32-MOD($X32,10))/10+IF(MOD($X32,10)>4,1,0) -> 0 | M32: =($Y32-MOD($Y32,10))/10+IF(MOD($Y32,10)>4,1,0) -> 0 | N32: =($X32-MOD($X32,10))/10+IF(MOD($X32,10)>5,1,0) -> 0 | O32: =($Y32-MOD($Y32,10))/10+IF(MOD($Y32,10)>5,1,0) -> 0 | P32: =($X32-MOD($X32,10))/10+IF(MOD($X32,10)>6,1,0) -> 0 | Q32: =($Y32-MOD($Y32,10))/10+IF(MOD($Y32,10)>6,1,0) -> 0 | R32: =($X32-MOD($X32,10))/10+IF(MOD($X32,10)>7,1,0) -> 0 | S32: =($Y32-MOD($Y32,10))/10+IF(MOD($Y32,10)>7,1,0) -> 0 | T32: =($X32-MOD($X32,10))/10+IF(MOD($X32,10)>8,1,0) -> 0 | U32: =($Y32-MOD($Y32,10))/10+IF(MOD($Y32,10)>8,1,0) -> 0 | V32: =($X32-MOD($X32,10))/10+IF(MOD($X32,10)>9,1,0) -> 0 | W32: =($Y32-MOD($Y32,10))/10+IF(MOD($Y32,10)>9,1,0) -> 0 | X32: ='8Beokul'!G28 -> 0 | Y32: ='8Beokul'!H28 -> 0
A33: 28 | B33: ='8Beokul'!A29 -> 0 | C33: ='8Beokul'!B29 -> 0 | D33: =($X33-MOD($X33,10))/10+IF(MOD($X33,10)>0,1,0) -> 0 | E33: =($Y33-MOD($Y33,10))/10+IF(MOD($Y33,10)>0,1,0) -> 0 | F33: =($X33-MOD($X33,10))/10+IF(MOD($X33,10)>1,1,0) -> 0 | G33: =($Y33-MOD($Y33,10))/10+IF(MOD($Y33,10)>1,1,0) -> 0 | H33: =($X33-MOD($X33,10))/10+IF(MOD($X33,10)>2,1,0) -> 0 | I33: =($Y33-MOD($Y33,10))/10+IF(MOD($Y33,10)>2,1,0) -> 0 | J33: =($X33-MOD($X33,10))/10+IF(MOD($X33,10)>3,1,0) -> 0 | K33: =($Y33-MOD($Y33,10))/10+IF(MOD($Y33,10)>3,1,0) -> 0 | L33: =($X33-MOD($X33,10))/10+IF(MOD($X33,10)>4,1,0) -> 0 | M33: =($Y33-MOD($Y33,10))/10+IF(MOD($Y33,10)>4,1,0) -> 0 | N33: =($X33-MOD($X33,10))/10+IF(MOD($X33,10)>5,1,0) -> 0 | O33: =($Y33-MOD($Y33,10))/10+IF(MOD($Y33,10)>5,1,0) -> 0 | P33: =($X33-MOD($X33,10))/10+IF(MOD($X33,10)>6,1,0) -> 0 | Q33: =($Y33-MOD($Y33,10))/10+IF(MOD($Y33,10)>6,1,0) -> 0 | R33: =($X33-MOD($X33,10))/10+IF(MOD($X33,10)>7,1,0) -> 0 | S33: =($Y33-MOD($Y33,10))/10+IF(MOD($Y33,10)>7,1,0) -> 0 | T33: =($X33-MOD($X33,10))/10+IF(MOD($X33,10)>8,1,0) -> 0 | U33: =($Y33-MOD($Y33,10))/10+IF(MOD($Y33,10)>8,1,0) -> 0 | V33: =($X33-MOD($X33,10))/10+IF(MOD($X33,10)>9,1,0) -> 0 | W33: =($Y33-MOD($Y33,10))/10+IF(MOD($Y33,10)>9,1,0) -> 0 | X33: ='8Beokul'!G29 -> 0 | Y33: ='8Beokul'!H29 -> 0
A34: 29 | B34: ='8Beokul'!A30 -> 0 | C34: ='8Beokul'!B30 -> 0 | D34: =($X34-MOD($X34,10))/10+IF(MOD($X34,10)>0,1,0) -> 0 | E34: =($Y34-MOD($Y34,10))/10+IF(MOD($Y34,10)>0,1,0) -> 0 | F34: =($X34-MOD($X34,10))/10+IF(MOD($X34,10)>1,1,0) -> 0 | G34: =($Y34-MOD($Y34,10))/10+IF(MOD($Y34,10)>1,1,0) -> 0 | H34: =($X34-MOD($X34,10))/10+IF(MOD($X34,10)>2,1,0) -> 0 | I34: =($Y34-MOD($Y34,10))/10+IF(MOD($Y34,10)>2,1,0) -> 0 | J34: =($X34-MOD($X34,10))/10+IF(MOD($X34,10)>3,1,0) -> 0 | K34: =($Y34-MOD($Y34,10))/10+IF(MOD($Y34,10)>3,1,0) -> 0 | L34: =($X34-MOD($X34,10))/10+IF(MOD($X34,10)>4,1,0) -> 0 | M34: =($Y34-MOD($Y34,10))/10+IF(MOD($Y34,10)>4,1,0) -> 0 | N34: =($X34-MOD($X34,10))/10+IF(MOD($X34,10)>5,1,0) -> 0 | O34: =($Y34-MOD($Y34,10))/10+IF(MOD($Y34,10)>5,1,0) -> 0 | P34: =($X34-MOD($X34,10))/10+IF(MOD($X34,10)>6,1,0) -> 0 | Q34: =($Y34-MOD($Y34,10))/10+IF(MOD($Y34,10)>6,1,0) -> 0 | R34: =($X34-MOD($X34,10))/10+IF(MOD($X34,10)>7,1,0) -> 0 | S34: =($Y34-MOD($Y34,10))/10+IF(MOD($Y34,10)>7,1,0) -> 0 | T34: =($X34-MOD($X34,10))/10+IF(MOD($X34,10)>8,1,0) -> 0 | U34: =($Y34-MOD($Y34,10))/10+IF(MOD($Y34,10)>8,1,0) -> 0 | V34: =($X34-MOD($X34,10))/10+IF(MOD($X34,10)>9,1,0) -> 0 | W34: =($Y34-MOD($Y34,10))/10+IF(MOD($Y34,10)>9,1,0) -> 0 | X34: ='8Beokul'!G30 -> 0 | Y34: ='8Beokul'!H30 -> 0
A35: 30 | B35: ='8Beokul'!A31 -> 0 | C35: ='8Beokul'!B31 -> 0 | D35: =($X35-MOD($X35,10))/10+IF(MOD($X35,10)>0,1,0) -> 0 | E35: =($Y35-MOD($Y35,10))/10+IF(MOD($Y35,10)>0,1,0) -> 0 | F35: =($X35-MOD($X35,10))/10+IF(MOD($X35,10)>1,1,0) -> 0 | G35: =($Y35-MOD($Y35,10))/10+IF(MOD($Y35,10)>1,1,0) -> 0 | H35: =($X35-MOD($X35,10))/10+IF(MOD($X35,10)>2,1,0) -> 0 | I35: =($Y35-MOD($Y35,10))/10+IF(MOD($Y35,10)>2,1,0) -> 0 | J35: =($X35-MOD($X35,10))/10+IF(MOD($X35,10)>3,1,0) -> 0 | K35: =($Y35-MOD($Y35,10))/10+IF(MOD($Y35,10)>3,1,0) -> 0 | L35: =($X35-MOD($X35,10))/10+IF(MOD($X35,10)>4,1,0) -> 0 | M35: =($Y35-MOD($Y35,10))/10+IF(MOD($Y35,10)>4,1,0) -> 0 | N35: =($X35-MOD($X35,10))/10+IF(MOD($X35,10)>5,1,0) -> 0 | O35: =($Y35-MOD($Y35,10))/10+IF(MOD($Y35,10)>5,1,0) -> 0 | P35: =($X35-MOD($X35,10))/10+IF(MOD($X35,10)>6,1,0) -> 0 | Q35: =($Y35-MOD($Y35,10))/10+IF(MOD($Y35,10)>6,1,0) -> 0 | R35: =($X35-MOD($X35,10))/10+IF(MOD($X35,10)>7,1,0) -> 0 | S35: =($Y35-MOD($Y35,10))/10+IF(MOD($Y35,10)>7,1,0) -> 0 | T35: =($X35-MOD($X35,10))/10+IF(MOD($X35,10)>8,1,0) -> 0 | U35: =($Y35-MOD($Y35,10))/10+IF(MOD($Y35,10)>8,1,0) -> 0 | V35: =($X35-MOD($X35,10))/10+IF(MOD($X35,10)>9,1,0) -> 0 | W35: =($Y35-MOD($Y35,10))/10+IF(MOD($Y35,10)>9,1,0) -> 0 | X35: ='8Beokul'!G31 -> 0 | Y35: ='8Beokul'!H31 -> 0
A36: 31 | B36: ='8Beokul'!A32 -> 0 | C36: ='8Beokul'!B32 -> 0 | D36: =($X36-MOD($X36,10))/10+IF(MOD($X36,10)>0,1,0) -> 0 | E36: =($Y36-MOD($Y36,10))/10+IF(MOD($Y36,10)>0,1,0) -> 0 | F36: =($X36-MOD($X36,10))/10+IF(MOD($X36,10)>1,1,0) -> 0 | G36: =($Y36-MOD($Y36,10))/10+IF(MOD($Y36,10)>1,1,0) -> 0 | H36: =($X36-MOD($X36,10))/10+IF(MOD($X36,10)>2,1,0) -> 0 | I36: =($Y36-MOD($Y36,10))/10+IF(MOD($Y36,10)>2,1,0) -> 0 | J36: =($X36-MOD($X36,10))/10+IF(MOD($X36,10)>3,1,0) -> 0 | K36: =($Y36-MOD($Y36,10))/10+IF(MOD($Y36,10)>3,1,0) -> 0 | L36: =($X36-MOD($X36,10))/10+IF(MOD($X36,10)>4,1,0) -> 0 | M36: =($Y36-MOD($Y36,10))/10+IF(MOD($Y36,10)>4,1,0) -> 0 | N36: =($X36-MOD($X36,10))/10+IF(MOD($X36,10)>5,1,0) -> 0 | O36: =($Y36-MOD($Y36,10))/10+IF(MOD($Y36,10)>5,1,0) -> 0 | P36: =($X36-MOD($X36,10))/10+IF(MOD($X36,10)>6,1,0) -> 0 | Q36: =($Y36-MOD($Y36,10))/10+IF(MOD($Y36,10)>6,1,0) -> 0 | R36: =($X36-MOD($X36,10))/10+IF(MOD($X36,10)>7,1,0) -> 0 | S36: =($Y36-MOD($Y36,10))/10+IF(MOD($Y36,10)>7,1,0) -> 0 | T36: =($X36-MOD($X36,10))/10+IF(MOD($X36,10)>8,1,0) -> 0 | U36: =($Y36-MOD($Y36,10))/10+IF(MOD($Y36,10)>8,1,0) -> 0 | V36: =($X36-MOD($X36,10))/10+IF(MOD($X36,10)>9,1,0) -> 0 | W36: =($Y36-MOD($Y36,10))/10+IF(MOD($Y36,10)>9,1,0) -> 0 | X36: ='8Beokul'!G32 -> 0 | Y36: ='8Beokul'!H32 -> 0
... A39: 34 | B39: ='8Beokul'!A35 -> 0 | C39: ='8Beokul'!B35 -> 0 | D39: =($X39-MOD($X39,10))/10+IF(MOD($X39,10)>0,1,0) -> 0 | E39: =($Y39-MOD($Y39,10))/10+IF(MOD($Y39,10)>0,1,0) -> 0 | F39: =($X39-MOD($X39,10))/10+IF(MOD($X39,10)>1,1,0) -> 0 | G39: =($Y39-MOD($Y39,10))/10+IF(MOD($Y39,10)>1,1,0) -> 0 | H39: =($X39-MOD($X39,10))/10+IF(MOD($X39,10)>2,1,0) -> 0 | I39: =($Y39-MOD($Y39,10))/10+IF(MOD($Y39,10)>2,1,0) -> 0 | J39: =($X39-MOD($X39,10))/10+IF(MOD($X39,10)>3,1,0) -> 0 | K39: =($Y39-MOD($Y39,10))/10+IF(MOD($Y39,10)>3,1,0) -> 0 | L39: =($X39-MOD($X39,10))/10+IF(MOD($X39,10)>4,1,0) -> 0 | M39: =($Y39-MOD($Y39,10))/10+IF(MOD($Y39,10)>4,1,0) -> 0 | N39: =($X39-MOD($X39,10))/10+IF(MOD($X39,10)>5,1,0) -> 0 | O39: =($Y39-MOD($Y39,10))/10+IF(MOD($Y39,10)>5,1,0) -> 0 | P39: =($X39-MOD($X39,10))/10+IF(MOD($X39,10)>6,1,0) -> 0 | Q39: =($Y39-MOD($Y39,10))/10+IF(MOD($Y39,10)>6,1,0) -> 0 | R39: =($X39-MOD($X39,10))/10+IF(MOD($X39,10)>7,1,0) -> 0 | S39: =($Y39-MOD($Y39,10))/10+IF(MOD($Y39,10)>7,1,0) -> 0 | T39: =($X39-MOD($X39,10))/10+IF(MOD($X39,10)>8,1,0) -> 0 | U39: =($Y39-MOD($Y39,10))/10+IF(MOD($Y39,10)>8,1,0) -> 0 | V39: =($X39-MOD($X39,10))/10+IF(MOD($X39,10)>9,1,0) -> 0 | W39: =($Y39-MOD($Y39,10))/10+IF(MOD($Y39,10)>9,1,0) -> 0 | X39: ='8Beokul'!G35 -> 0 | Y39: ='8Beokul'!H35 -> 0
A40: 35 | B40: ='8Beokul'!A36 -> 0 | C40: ='8Beokul'!B36 -> 0 | D40: =($X40-MOD($X40,10))/10+IF(MOD($X40,10)>0,1,0) -> 0 | E40: =($Y40-MOD($Y40,10))/10+IF(MOD($Y40,10)>0,1,0) -> 0 | F40: =($X40-MOD($X40,10))/10+IF(MOD($X40,10)>1,1,0) -> 0 | G40: =($Y40-MOD($Y40,10))/10+IF(MOD($Y40,10)>1,1,0) -> 0 | H40: =($X40-MOD($X40,10))/10+IF(MOD($X40,10)>2,1,0) -> 0 | I40: =($Y40-MOD($Y40,10))/10+IF(MOD($Y40,10)>2,1,0) -> 0 | J40: =($X40-MOD($X40,10))/10+IF(MOD($X40,10)>3,1,0) -> 0 | K40: =($Y40-MOD($Y40,10))/10+IF(MOD($Y40,10)>3,1,0) -> 0 | L40: =($X40-MOD($X40,10))/10+IF(MOD($X40,10)>4,1,0) -> 0 | M40: =($Y40-MOD($Y40,10))/10+IF(MOD($Y40,10)>4,1,0) -> 0 | N40: =($X40-MOD($X40,10))/10+IF(MOD($X40,10)>5,1,0) -> 0 | O40: =($Y40-MOD($Y40,10))/10+IF(MOD($Y40,10)>5,1,0) -> 0 | P40: =($X40-MOD($X40,10))/10+IF(MOD($X40,10)>6,1,0) -> 0 | Q40: =($Y40-MOD($Y40,10))/10+IF(MOD($Y40,10)>6,1,0) -> 0 | R40: =($X40-MOD($X40,10))/10+IF(MOD($X40,10)>7,1,0) -> 0 | S40: =($Y40-MOD($Y40,10))/10+IF(MOD($Y40,10)>7,1,0) -> 0 | T40: =($X40-MOD($X40,10))/10+IF(MOD($X40,10)>8,1,0) -> 0 | U40: =($Y40-MOD($Y40,10))/10+IF(MOD($Y40,10)>8,1,0) -> 0 | V40: =($X40-MOD($X40,10))/10+IF(MOD($X40,10)>9,1,0) -> 0 | W40: =($Y40-MOD($Y40,10))/10+IF(MOD($Y40,10)>9,1,0) -> 0 | X40: ='8Beokul'!G36 -> 0 | Y40: ='8Beokul'!H36 -> 0 | Z40: 100 | AA40: 10 | AB40: 10 | AC40: 10 | AD40: 10 | AE40: 5 | AF40: 5 | AG40: 15 | AH40: 15 | AI40: 10 | AJ40: 10 | AK40: 100
AA41: 10 | AB41: 10 | AC41: 10 | AD41: 10 | AE41: 5 | AF41: 5 | AG41: 15 | AH41: 15 | AI41: 10 | AJ41: 10 | AK41: 100

Sheet 8A
A1: =önbilgi!B5 -> 2019-2020 1. DÖNEM | D1: ÖLÇÜTLER
A2: =CONCATENATE(önbilgi!B4," ",'8Aeokul'!N1," SINIFI ",önbilgi!B2," ","DERSİ DERS İÇİ ETKİNLİKLERE KATILIM PUANLAMA ÖLÇEĞİ") -> 8A SINIFI …………………………. DERSİ DERS İÇİ ETKİNLİKLERE KATILIM PUANLAMA ÖLÇEĞİ | D2: Derse hazırlıklı gelir. | F2: Derste kurallara uyar, dersin düzenini bozmaz. | H2: Ders araç gerekçlerini düzenli getirir. | J2: Okula geç kalma, devamsızlık alışkanlığının takibi | L2: Konu ile ilgili görüşlerini açıkça ifade eder | N2: Disiplin ve disiplin cezası durumu | P2: Yeni, özgün ve eleştirel sorular sorar. | R2: Öğrencinin kılık kıyafet durumu | T2: Okul ve ders etkinliklerine aktif katılım yapar. | V2: Öğretmene arkadaşlarına, çevreye saygı duyma | X2: TOPLAM
A3: ÖĞRENCİLER | D3: PUANLAR
A4: SIRA | B4: NO | C4: ADI SOYADI | D4: 10 | F4: 10 | H4: 10 | J4: 10 | L4: 10 | N4: 10 | P4: 10 | R4: 10 | T4: 10 | V4: 10 | X4: =SUM(D4:W4) -> 100 | Y4: 100 | Z4: =SUM(F4:X4) -> 190 | AB4: =SUM(G4:Z4) -> 470 | AD4: =SUM(H4:AB4) -> 940 | AF4: =SUM(J4:AD4) -> 1870 | AH4: =SUM(K4:AF4) -> 3730 | AJ4: =SUM(L4:AH4) -> 7460 | AL4: 100
D5: I. | E5: II. | F5: I. | G5: II. | H5: I. | I5: II. | J5: I. | K5: II. | L5: I. | M5: II. | N5: I. | O5: II. | P5: I. | Q5: II. | R5: I. | S5: II. | T5: I. | U5: II. | V5: I. | W5: II. | X5: I. | Y5: II. | Z5: II. | AA5: II. | AB5: II. | AC5: II. | AD5: II. | AE5: II. | AF5: II. | AG5: II. | AH5: II. | AI5: II. | AJ5: II. | AK5: II. | AL5: II.
A6: 1 | B6: ='8Aeokul'!A2 -> 0 | C6: ='8Aeokul'!B2 -> 0 | D6: =($X6-MOD($X6,10))/10+IF(MOD($X6,10)>0,1,0) -> 0 | E6: =($Y6-MOD($Y6,10))/10+IF(MOD($Y6,10)>0,1,0) -> 0 | F6: =($X6-MOD($X6,10))/10+IF(MOD($X6,10)>1,1,0) -> 0 | G6: =($Y6-MOD($Y6,10))/10+IF(MOD($Y6,10)>1,1,0) -> 0 | H6: =($X6-MOD($X6,10))/10+IF(MOD($X6,10)>2,1,0) -> 0 | I6: =($Y6-MOD($Y6,10))/10+IF(MOD($Y6,10)>2,1,0) -> 0 | J6: =($X6-MOD($X6,10))/10+IF(MOD($X6,10)>3,1,0) -> 0 | K6: =($Y6-MOD($Y6,10))/10+IF(MOD($Y6,10)>3,1,0) -> 0 | L6: =($X6-MOD($X6,10))/10+IF(MOD($X6,10)>4,1,0) -> 0 | M6: =($Y6-MOD($Y6,10))/10+IF(MOD($Y6,10)>4,1,0) -> 0 | N6: =($X6-MOD($X6,10))/10+IF(MOD($X6,10)>5,1,0) -> 0 | O6: =($Y6-MOD($Y6,10))/10+IF(MOD($Y6,10)>5,1,0) -> 0 | P6: =($X6-MOD($X6,10))/10+IF(MOD($X6,10)>6,1,0) -> 0 | Q6: =($Y6-MOD($Y6,10))/10+IF(MOD($Y6,10)>6,1,0) -> 0 | R6: =($X6-MOD($X6,10))/10+IF(MOD($X6,10)>7,1,0) -> 0 | S6: =($Y6-MOD($Y6,10))/10+IF(MOD($Y6,10)>7,1,0) -> 0 | T6: =($X6-MOD($X6,10))/10+IF(MOD($X6,10)>8,1,0) -> 0 | U6: =($Y6-MOD($Y6,10))/10+IF(MOD($Y6,10)>8,1,0) -> 0 | V6: =($X6-MOD($X6,10))/10+IF(MOD($X6,10)>9,1,0) -> 0 | W6: =($Y6-MOD($Y6,10))/10+IF(MOD($Y6,10)>9,1,0) -> 0 | X6: ='8Aeokul'!G2 -> 0 | Y6: ='8Aeokul'!H2 -> 0 | Z6: ='8Aeokul'!I2 -> 0 | AA6: ='8Aeokul'!J2 -> 0 | AB6: ='8Aeokul'!K2 -> 0 | AC6: ='8Aeokul'!L2 -> 0 | AD6: ='8Aeokul'!M2 -> 0 | AE6: ='8Aeokul'!N2 -> 0 | ... AL6: ='8Aeokul'!U2 -> 0
A7: 2 | B7: ='8Aeokul'!A3 -> 0 | C7: ='8Aeokul'!B3 -> 0 | D7: =($X7-MOD($X7,10))/10+IF(MOD($X7,10)>0,1,0) -> 0 | E7: =($Y7-MOD($Y7,10))/10+IF(MOD($Y7,10)>0,1,0) -> 0 | F7: =($X7-MOD($X7,10))/10+IF(MOD($X7,10)>1,1,0) -> 0 | G7: =($Y7-MOD($Y7,10))/10+IF(MOD($Y7,10)>1,1,0) -> 0 | H7: =($X7-MOD($X7,10))/10+IF(MOD($X7,10)>2,1,0) -> 0 | I7: =($Y7-MOD($Y7,10))/10+IF(MOD($Y7,10)>2,1,0) -> 0 | J7: =($X7-MOD($X7,10))/10+IF(MOD($X7,10)>3,1,0) -> 0 | K7: =($Y7-MOD($Y7,10))/10+IF(MOD($Y7,10)>3,1,0) -> 0 | L7: =($X7-MOD($X7,10))/10+IF(MOD($X7,10)>4,1,0) -> 0 | M7: =($Y7-MOD($Y7,10))/10+IF(MOD($Y7,10)>4,1,0) -> 0 | N7: =($X7-MOD($X7,10))/10+IF(MOD($X7,10)>5,1,0) -> 0 | O7: =($Y7-MOD($Y7,10))/10+IF(MOD($Y7,10)>5,1,0) -> 0 | P7: =($X7-MOD($X7,10))/10+IF(MOD($X7,10)>6,1,0) -> 0 | Q7: =($Y7-MOD($Y7,10))/10+IF(MOD($Y7,10)>6,1,0) -> 0 | R7: =($X7-MOD($X7,10))/10+IF(MOD($X7,10)>7,1,0) -> 0 | S7: =($Y7-MOD($Y7,10))/10+IF(MOD($Y7,10)>7,1,0) -> 0 | T7: =($X7-MOD($X7,10))/10+IF(MOD($X7,10)>8,1,0) -> 0 | U7: =($Y7-MOD($Y7,10))/10+IF(MOD($Y7,10)>8,1,0) -> 0 | V7: =($X7-MOD($X7,10))/10+IF(MOD($X7,10)>9,1,0) -> 0 | W7: =($Y7-MOD($Y7,10))/10+IF(MOD($Y7,10)>9,1,0) -> 0 | X7: ='8Aeokul'!G3 -> 0 | Y7: ='8Aeokul'!H3 -> 0 | Z7: ='8Aeokul'!I3 -> 0 | AA7: ='8Aeokul'!J3 -> 0 | AB7: ='8Aeokul'!K3 -> 0 | AC7: ='8Aeokul'!L3 -> 0 | AD7: ='8Aeokul'!M3 -> 0 | AE7: ='8Aeokul'!N3 -> 0 | ... AL7: ='8Aeokul'!U3 -> 0
A8: 3 | B8: ='8Aeokul'!A4 -> 0 | C8: ='8Aeokul'!B4 -> 0 | D8: =($X8-MOD($X8,10))/10+IF(MOD($X8,10)>0,1,0) -> 0 | E8: =($Y8-MOD($Y8,10))/10+IF(MOD($Y8,10)>0,1,0) -> 0 | F8: =($X8-MOD($X8,10))/10+IF(MOD($X8,10)>1,1,0) -> 0 | G8: =($Y8-MOD($Y8,10))/10+IF(MOD($Y8,10)>1,1,0) -> 0 | H8: =($X8-MOD($X8,10))/10+IF(MOD($X8,10)>2,1,0) -> 0 | I8: =($Y8-MOD($Y8,10))/10+IF(MOD($Y8,10)>2,1,0) -> 0 | J8: =($X8-MOD($X8,10))/10+IF(MOD($X8,10)>3,1,0) -> 0 | K8: =($Y8-MOD($Y8,10))/10+IF(MOD($Y8,10)>3,1,0) -> 0 | L8: =($X8-MOD($X8,10))/10+IF(MOD($X8,10)>4,1,0) -> 0 | M8: =($Y8-MOD($Y8,10))/10+IF(MOD($Y8,10)>4,1,0) -> 0 | N8: =($X8-MOD($X8,10))/10+IF(MOD($X8,10)>5,1,0) -> 0 | O8: =($Y8-MOD($Y8,10))/10+IF(MOD($Y8,10)>5,1,0) -> 0 | P8: =($X8-MOD($X8,10))/10+IF(MOD($X8,10)>6,1,0) -> 0 | Q8: =($Y8-MOD($Y8,10))/10+IF(MOD($Y8,10)>6,1,0) -> 0 | R8: =($X8-MOD($X8,10))/10+IF(MOD($X8,10)>7,1,0) -> 0 | S8: =($Y8-MOD($Y8,10))/10+IF(MOD($Y8,10)>7,1,0) -> 0 | T8: =($X8-MOD($X8,10))/10+IF(MOD($X8,10)>8,1,0) -> 0 | U8: =($Y8-MOD($Y8,10))/10+IF(MOD($Y8,10)>8,1,0) -> 0 | V8: =($X8-MOD($X8,10))/10+IF(MOD($X8,10)>9,1,0) -> 0 | W8: =($Y8-MOD($Y8,10))/10+IF(MOD($Y8,10)>9,1,0) -> 0 | X8: ='8Aeokul'!G4 -> 0 | Y8: ='8Aeokul'!H4 -> 0 | Z8: ='8Aeokul'!I4 -> 0 | AA8: ='8Aeokul'!J4 -> 0 | AB8: ='8Aeokul'!K4 -> 0 | AC8: ='8Aeokul'!L4 -> 0 | AD8: ='8Aeokul'!M4 -> 0 | AE8: ='8Aeokul'!N4 -> 0 | ... AL8: ='8Aeokul'!U4 -> 0
A9: 4 | B9: ='8Aeokul'!A5 -> 0 | C9: ='8Aeokul'!B5 -> 0 | D9: =($X9-MOD($X9,10))/10+IF(MOD($X9,10)>0,1,0) -> 0 | E9: =($Y9-MOD($Y9,10))/10+IF(MOD($Y9,10)>0,1,0) -> 0 | F9: =($X9-MOD($X9,10))/10+IF(MOD($X9,10)>1,1,0) -> 0 | G9: =($Y9-MOD($Y9,10))/10+IF(MOD($Y9,10)>1,1,0) -> 0 | H9: =($X9-MOD($X9,10))/10+IF(MOD($X9,10)>2,1,0) -> 0 | I9: =($Y9-MOD($Y9,10))/10+IF(MOD($Y9,10)>2,1,0) -> 0 | J9: =($X9-MOD($X9,10))/10+IF(MOD($X9,10)>3,1,0) -> 0 | K9: =($Y9-MOD($Y9,10))/10+IF(MOD($Y9,10)>3,1,0) -> 0 | L9: =($X9-MOD($X9,10))/10+IF(MOD($X9,10)>4,1,0) -> 0 | M9: =($Y9-MOD($Y9,10))/10+IF(MOD($Y9,10)>4,1,0) -> 0 | N9: =($X9-MOD($X9,10))/10+IF(MOD($X9,10)>5,1,0) -> 0 | O9: =($Y9-MOD($Y9,10))/10+IF(MOD($Y9,10)>5,1,0) -> 0 | P9: =($X9-MOD($X9,10))/10+IF(MOD($X9,10)>6,1,0) -> 0 | Q9: =($Y9-MOD($Y9,10))/10+IF(MOD($Y9,10)>6,1,0) -> 0 | R9: =($X9-MOD($X9,10))/10+IF(MOD($X9,10)>7,1,0) -> 0 | S9: =($Y9-MOD($Y9,10))/10+IF(MOD($Y9,10)>7,1,0) -> 0 | T9: =($X9-MOD($X9,10))/10+IF(MOD($X9,10)>8,1,0) -> 0 | U9: =($Y9-MOD($Y9,10))/10+IF(MOD($Y9,10)>8,1,0) -> 0 | V9: =($X9-MOD($X9,10))/10+IF(MOD($X9,10)>9,1,0) -> 0 | W9: =($Y9-MOD($Y9,10))/10+IF(MOD($Y9,10)>9,1,0) -> 0 | X9: ='8Aeokul'!G5 -> 0 | Y9: ='8Aeokul'!H5 -> 0 | Z9: ='8Aeokul'!I5 -> 0 | AA9: ='8Aeokul'!J5 -> 0 | AB9: ='8Aeokul'!K5 -> 0 | AC9: ='8Aeokul'!L5 -> 0 | AD9: ='8Aeokul'!M5 -> 0 | AE9: ='8Aeokul'!N5 -> 0 | ... AL9: ='8Aeokul'!U5 -> 0
A10: 5 | B10: ='8Aeokul'!A6 -> 0 | C10: ='8Aeokul'!B6 -> 0 | D10: =($X10-MOD($X10,10))/10+IF(MOD($X10,10)>0,1,0) -> 0 | E10: =($Y10-MOD($Y10,10))/10+IF(MOD($Y10,10)>0,1,0) -> 0 | F10: =($X10-MOD($X10,10))/10+IF(MOD($X10,10)>1,1,0) -> 0 | G10: =($Y10-MOD($Y10,10))/10+IF(MOD($Y10,10)>1,1,0) -> 0 | H10: =($X10-MOD($X10,10))/10+IF(MOD($X10,10)>2,1,0) -> 0 | I10: =($Y10-MOD($Y10,10))/10+IF(MOD($Y10,10)>2,1,0) -> 0 | J10: =($X10-MOD($X10,10))/10+IF(MOD($X10,10)>3,1,0) -> 0 | K10: =($Y10-MOD($Y10,10))/10+IF(MOD($Y10,10)>3,1,0) -> 0 | L10: =($X10-MOD($X10,10))/10+IF(MOD($X10,10)>4,1,0) -> 0 | M10: =($Y10-MOD($Y10,10))/10+IF(MOD($Y10,10)>4,1,0) -> 0 | N10: =($X10-MOD($X10,10))/10+IF(MOD($X10,10)>5,1,0) -> 0 | O10: =($Y10-MOD($Y10,10))/10+IF(MOD($Y10,10)>5,1,0) -> 0 | P10: =($X10-MOD($X10,10))/10+IF(MOD($X10,10)>6,1,0) -> 0 | Q10: =($Y10-MOD($Y10,10))/10+IF(MOD($Y10,10)>6,1,0) -> 0 | R10: =($X10-MOD($X10,10))/10+IF(MOD($X10,10)>7,1,0) -> 0 | S10: =($Y10-MOD($Y10,10))/10+IF(MOD($Y10,10)>7,1,0) -> 0 | T10: =($X10-MOD($X10,10))/10+IF(MOD($X10,10)>8,1,0) -> 0 | U10: =($Y10-MOD($Y10,10))/10+IF(MOD($Y10,10)>8,1,0) -> 0 | V10: =($X10-MOD($X10,10))/10+IF(MOD($X10,10)>9,1,0) -> 0 | W10: =($Y10-MOD($Y10,10))/10+IF(MOD($Y10,10)>9,1,0) -> 0 | X10: ='8Aeokul'!G6 -> 0 | Y10: ='8Aeokul'!H6 -> 0 | Z10: ='8Aeokul'!I6 -> 0 | AA10: ='8Aeokul'!J6 -> 0 | AB10: ='8Aeokul'!K6 -> 0 | AC10: ='8Aeokul'!L6 -> 0 | AD10: ='8Aeokul'!M6 -> 0 | AE10: ='8Aeokul'!N6 -> 0 | ... AL10: ='8Aeokul'!U6 -> 0
A11: 6 | B11: ='8Aeokul'!A7 -> 0 | C11: ='8Aeokul'!B7 -> 0 | D11: =($X11-MOD($X11,10))/10+IF(MOD($X11,10)>0,1,0) -> 0 | E11: =($Y11-MOD($Y11,10))/10+IF(MOD($Y11,10)>0,1,0) -> 0 | F11: =($X11-MOD($X11,10))/10+IF(MOD($X11,10)>1,1,0) -> 0 | G11: =($Y11-MOD($Y11,10))/10+IF(MOD($Y11,10)>1,1,0) -> 0 | H11: =($X11-MOD($X11,10))/10+IF(MOD($X11,10)>2,1,0) -> 0 | I11: =($Y11-MOD($Y11,10))/10+IF(MOD($Y11,10)>2,1,0) -> 0 | J11: =($X11-MOD($X11,10))/10+IF(MOD($X11,10)>3,1,0) -> 0 | K11: =($Y11-MOD($Y11,10))/10+IF(MOD($Y11,10)>3,1,0) -> 0 | L11: =($X11-MOD($X11,10))/10+IF(MOD($X11,10)>4,1,0) -> 0 | M11: =($Y11-MOD($Y11,10))/10+IF(MOD($Y11,10)>4,1,0) -> 0 | N11: =($X11-MOD($X11,10))/10+IF(MOD($X11,10)>5,1,0) -> 0 | O11: =($Y11-MOD($Y11,10))/10+IF(MOD($Y11,10)>5,1,0) -> 0 | P11: =($X11-MOD($X11,10))/10+IF(MOD($X11,10)>6,1,0) -> 0 | Q11: =($Y11-MOD($Y11,10))/10+IF(MOD($Y11,10)>6,1,0) -> 0 | R11: =($X11-MOD($X11,10))/10+IF(MOD($X11,10)>7,1,0) -> 0 | S11: =($Y11-MOD($Y11,10))/10+IF(MOD($Y11,10)>7,1,0) -> 0 | T11: =($X11-MOD($X11,10))/10+IF(MOD($X11,10)>8,1,0) -> 0 | U11: =($Y11-MOD($Y11,10))/10+IF(MOD($Y11,10)>8,1,0) -> 0 | V11: =($X11-MOD($X11,10))/10+IF(MOD($X11,10)>9,1,0) -> 0 | W11: =($Y11-MOD($Y11,10))/10+IF(MOD($Y11,10)>9,1,0) -> 0 | X11: ='8Aeokul'!G7 -> 0 | Y11: ='8Aeokul'!H7 -> 0 | Z11: ='8Aeokul'!I7 -> 0 | AA11: ='8Aeokul'!J7 -> 0 | AB11: ='8Aeokul'!K7 -> 0 | AC11: ='8Aeokul'!L7 -> 0 | AD11: ='8Aeokul'!M7 -> 0 | AE11: ='8Aeokul'!N7 -> 0 | ... AL11: ='8Aeokul'!U7 -> 0
A12: 7 | B12: ='8Aeokul'!A8 -> 0 | C12: ='8Aeokul'!B8 -> 0 | D12: =($X12-MOD($X12,10))/10+IF(MOD($X12,10)>0,1,0) -> 0 | E12: =($Y12-MOD($Y12,10))/10+IF(MOD($Y12,10)>0,1,0) -> 0 | F12: =($X12-MOD($X12,10))/10+IF(MOD($X12,10)>1,1,0) -> 0 | G12: =($Y12-MOD($Y12,10))/10+IF(MOD($Y12,10)>1,1,0) -> 0 | H12: =($X12-MOD($X12,10))/10+IF(MOD($X12,10)>2,1,0) -> 0 | I12: =($Y12-MOD($Y12,10))/10+IF(MOD($Y12,10)>2,1,0) -> 0 | J12: =($X12-MOD($X12,10))/10+IF(MOD($X12,10)>3,1,0) -> 0 | K12: =($Y12-MOD($Y12,10))/10+IF(MOD($Y12,10)>3,1,0) -> 0 | L12: =($X12-MOD($X12,10))/10+IF(MOD($X12,10)>4,1,0) -> 0 | M12: =($Y12-MOD($Y12,10))/10+IF(MOD($Y12,10)>4,1,0) -> 0 | N12: =($X12-MOD($X12,10))/10+IF(MOD($X12,10)>5,1,0) -> 0 | O12: =($Y12-MOD($Y12,10))/10+IF(MOD($Y12,10)>5,1,0) -> 0 | P12: =($X12-MOD($X12,10))/10+IF(MOD($X12,10)>6,1,0) -> 0 | Q12: =($Y12-MOD($Y12,10))/10+IF(MOD($Y12,10)>6,1,0) -> 0 | R12: =($X12-MOD($X12,10))/10+IF(MOD($X12,10)>7,1,0) -> 0 | S12: =($Y12-MOD($Y12,10))/10+IF(MOD($Y12,10)>7,1,0) -> 0 | T12: =($X12-MOD($X12,10))/10+IF(MOD($X12,10)>8,1,0) -> 0 | U12: =($Y12-MOD($Y12,10))/10+IF(MOD($Y12,10)>8,1,0) -> 0 | V12: =($X12-MOD($X12,10))/10+IF(MOD($X12,10)>9,1,0) -> 0 | W12: =($Y12-MOD($Y12,10))/10+IF(MOD($Y12,10)>9,1,0) -> 0 | X12: ='8Aeokul'!G8 -> 0 | Y12: ='8Aeokul'!H8 -> 0 | Z12: ='8Aeokul'!I8 -> 0 | AA12: ='8Aeokul'!J8 -> 0 | AB12: ='8Aeokul'!K8 -> 0 | AC12: ='8Aeokul'!L8 -> 0 | AD12: ='8Aeokul'!M8 -> 0 | AE12: ='8Aeokul'!N8 -> 0 | ... AL12: ='8Aeokul'!U8 -> 0
A13: 8 | B13: ='8Aeokul'!A9 -> 0 | C13: ='8Aeokul'!B9 -> 0 | D13: =($X13-MOD($X13,10))/10+IF(MOD($X13,10)>0,1,0) -> 0 | E13: =($Y13-MOD($Y13,10))/10+IF(MOD($Y13,10)>0,1,0) -> 0 | F13: =($X13-MOD($X13,10))/10+IF(MOD($X13,10)>1,1,0) -> 0 | G13: =($Y13-MOD($Y13,10))/10+IF(MOD($Y13,10)>1,1,0) -> 0 | H13: =($X13-MOD($X13,10))/10+IF(MOD($X13,10)>2,1,0) -> 0 | I13: =($Y13-MOD($Y13,10))/10+IF(MOD($Y13,10)>2,1,0) -> 0 | J13: =($X13-MOD($X13,10))/10+IF(MOD($X13,10)>3,1,0) -> 0 | K13: =($Y13-MOD($Y13,10))/10+IF(MOD($Y13,10)>3,1,0) -> 0 | L13: =($X13-MOD($X13,10))/10+IF(MOD($X13,10)>4,1,0) -> 0 | M13: =($Y13-MOD($Y13,10))/10+IF(MOD($Y13,10)>4,1,0) -> 0 | N13: =($X13-MOD($X13,10))/10+IF(MOD($X13,10)>5,1,0) -> 0 | O13: =($Y13-MOD($Y13,10))/10+IF(MOD($Y13,10)>5,1,0) -> 0 | P13: =($X13-MOD($X13,10))/10+IF(MOD($X13,10)>6,1,0) -> 0 | Q13: =($Y13-MOD($Y13,10))/10+IF(MOD($Y13,10)>6,1,0) -> 0 | R13: =($X13-MOD($X13,10))/10+IF(MOD($X13,10)>7,1,0) -> 0 | S13: =($Y13-MOD($Y13,10))/10+IF(MOD($Y13,10)>7,1,0) -> 0 | T13: =($X13-MOD($X13,10))/10+IF(MOD($X13,10)>8,1,0) -> 0 | U13: =($Y13-MOD($Y13,10))/10+IF(MOD($Y13,10)>8,1,0) -> 0 | V13: =($X13-MOD($X13,10))/10+IF(MOD($X13,10)>9,1,0) -> 0 | W13: =($Y13-MOD($Y13,10))/10+IF(MOD($Y13,10)>9,1,0) -> 0 | X13: ='8Aeokul'!G9 -> 0 | Y13: ='8Aeokul'!H9 -> 0 | Z13: ='8Aeokul'!I9 -> 0 | AA13: ='8Aeokul'!J9 -> 0 | AB13: ='8Aeokul'!K9 -> 0 | AC13: ='8Aeokul'!L9 -> 0 | AD13: ='8Aeokul'!M9 -> 0 | AE13: ='8Aeokul'!N9 -> 0 | ... AL13: ='8Aeokul'!U9 -> 0
A14: 9 | B14: ='8Aeokul'!A10 -> 0 | C14: ='8Aeokul'!B10 -> 0 | D14: =($X14-MOD($X14,10))/10+IF(MOD($X14,10)>0,1,0) -> 0 | E14: =($Y14-MOD($Y14,10))/10+IF(MOD($Y14,10)>0,1,0) -> 0 | F14: =($X14-MOD($X14,10))/10+IF(MOD($X14,10)>1,1,0) -> 0 | G14: =($Y14-MOD($Y14,10))/10+IF(MOD($Y14,10)>1,1,0) -> 0 | H14: =($X14-MOD($X14,10))/10+IF(MOD($X14,10)>2,1,0) -> 0 | I14: =($Y14-MOD($Y14,10))/10+IF(MOD($Y14,10)>2,1,0) -> 0 | J14: =($X14-MOD($X14,10))/10+IF(MOD($X14,10)>3,1,0) -> 0 | K14: =($Y14-MOD($Y14,10))/10+IF(MOD($Y14,10)>3,1,0) -> 0 | L14: =($X14-MOD($X14,10))/10+IF(MOD($X14,10)>4,1,0) -> 0 | M14: =($Y14-MOD($Y14,10))/10+IF(MOD($Y14,10)>4,1,0) -> 0 | N14: =($X14-MOD($X14,10))/10+IF(MOD($X14,10)>5,1,0) -> 0 | O14: =($Y14-MOD($Y14,10))/10+IF(MOD($Y14,10)>5,1,0) -> 0 | P14: =($X14-MOD($X14,10))/10+IF(MOD($X14,10)>6,1,0) -> 0 | Q14: =($Y14-MOD($Y14,10))/10+IF(MOD($Y14,10)>6,1,0) -> 0 | R14: =($X14-MOD($X14,10))/10+IF(MOD($X14,10)>7,1,0) -> 0 | S14: =($Y14-MOD($Y14,10))/10+IF(MOD($Y14,10)>7,1,0) -> 0 | T14: =($X14-MOD($X14,10))/10+IF(MOD($X14,10)>8,1,0) -> 0 | U14: =($Y14-MOD($Y14,10))/10+IF(MOD($Y14,10)>8,1,0) -> 0 | V14: =($X14-MOD($X14,10))/10+IF(MOD($X14,10)>9,1,0) -> 0 | W14: =($Y14-MOD($Y14,10))/10+IF(MOD($Y14,10)>9,1,0) -> 0 | X14: ='8Aeokul'!G10 -> 0 | Y14: ='8Aeokul'!H10 -> 0 | Z14: ='8Aeokul'!I10 -> 0 | AA14: ='8Aeokul'!J10 -> 0 | AB14: ='8Aeokul'!K10 -> 0 | AC14: ='8Aeokul'!L10 -> 0 | AD14: ='8Aeokul'!M10 -> 0 | AE14: ='8Aeokul'!N10 -> 0 | ... AL14: ='8Aeokul'!U10 -> 0
A15: 10 | B15: ='8Aeokul'!A11 -> 0 | C15: ='8Aeokul'!B11 -> 0 | D15: =($X15-MOD($X15,10))/10+IF(MOD($X15,10)>0,1,0) -> 0 | E15: =($Y15-MOD($Y15,10))/10+IF(MOD($Y15,10)>0,1,0) -> 0 | F15: =($X15-MOD($X15,10))/10+IF(MOD($X15,10)>1,1,0) -> 0 | G15: =($Y15-MOD($Y15,10))/10+IF(MOD($Y15,10)>1,1,0) -> 0 | H15: =($X15-MOD($X15,10))/10+IF(MOD($X15,10)>2,1,0) -> 0 | I15: =($Y15-MOD($Y15,10))/10+IF(MOD($Y15,10)>2,1,0) -> 0 | J15: =($X15-MOD($X15,10))/10+IF(MOD($X15,10)>3,1,0) -> 0 | K15: =($Y15-MOD($Y15,10))/10+IF(MOD($Y15,10)>3,1,0) -> 0 | L15: =($X15-MOD($X15,10))/10+IF(MOD($X15,10)>4,1,0) -> 0 | M15: =($Y15-MOD($Y15,10))/10+IF(MOD($Y15,10)>4,1,0) -> 0 | N15: =($X15-MOD($X15,10))/10+IF(MOD($X15,10)>5,1,0) -> 0 | O15: =($Y15-MOD($Y15,10))/10+IF(MOD($Y15,10)>5,1,0) -> 0 | P15: =($X15-MOD($X15,10))/10+IF(MOD($X15,10)>6,1,0) -> 0 | Q15: =($Y15-MOD($Y15,10))/10+IF(MOD($Y15,10)>6,1,0) -> 0 | R15: =($X15-MOD($X15,10))/10+IF(MOD($X15,10)>7,1,0) -> 0 | S15: =($Y15-MOD($Y15,10))/10+IF(MOD($Y15,10)>7,1,0) -> 0 | T15: =($X15-MOD($X15,10))/10+IF(MOD($X15,10)>8,1,0) -> 0 | U15: =($Y15-MOD($Y15,10))/10+IF(MOD($Y15,10)>8,1,0) -> 0 | V15: =($X15-MOD($X15,10))/10+IF(MOD($X15,10)>9,1,0) -> 0 | W15: =($Y15-MOD($Y15,10))/10+IF(MOD($Y15,10)>9,1,0) -> 0 | X15: ='8Aeokul'!G11 -> 0 | Y15: ='8Aeokul'!H11 -> 0 | Z15: ='8Aeokul'!I11 -> 0 | AA15: ='8Aeokul'!J11 -> 0 | AB15: ='8Aeokul'!K11 -> 0 | AC15: ='8Aeokul'!L11 -> 0 | AD15: ='8Aeokul'!M11 -> 0 | AE15: ='8Aeokul'!N11 -> 0 | ... AL15: ='8Aeokul'!U11 -> 0
